BEGIN:VCALENDAR
VERSION:2.0
PRODID:-//The Motoring Diary - ECPv6.15.20//NONSGML v1.0//EN
CALSCALE:GREGORIAN
METHOD:PUBLISH
X-WR-CALNAME:The Motoring Diary
X-ORIGINAL-URL:https://themotoringdiary.com
X-WR-CALDESC:Events for The Motoring Diary
REFRESH-INTERVAL;VALUE=DURATION:PT1H
X-Robots-Tag:noindex
X-PUBLISHED-TTL:PT1H
BEGIN:VTIMEZONE
TZID:Europe/London
BEGIN:DAYLIGHT
TZOFFSETFROM:+0000
TZOFFSETTO:+0100
TZNAME:BST
DTSTART:20220327T010000
END:DAYLIGHT
BEGIN:STANDARD
TZOFFSETFROM:+0100
TZOFFSETTO:+0000
TZNAME:GMT
DTSTART:20221030T010000
END:STANDARD
BEGIN:DAYLIGHT
TZOFFSETFROM:+0000
TZOFFSETTO:+0100
TZNAME:BST
DTSTART:20230326T010000
END:DAYLIGHT
BEGIN:STANDARD
TZOFFSETFROM:+0100
TZOFFSETTO:+0000
TZNAME:GMT
DTSTART:20231029T010000
END:STANDARD
BEGIN:DAYLIGHT
TZOFFSETFROM:+0000
TZOFFSETTO:+0100
TZNAME:BST
DTSTART:20240331T010000
END:DAYLIGHT
BEGIN:STANDARD
TZOFFSETFROM:+0100
TZOFFSETTO:+0000
TZNAME:GMT
DTSTART:20241027T010000
END:STANDARD
BEGIN:DAYLIGHT
TZOFFSETFROM:+0000
TZOFFSETTO:+0100
TZNAME:BST
DTSTART:20250330T010000
END:DAYLIGHT
BEGIN:STANDARD
TZOFFSETFROM:+0100
TZOFFSETTO:+0000
TZNAME:GMT
DTSTART:20251026T010000
END:STANDARD
END:VTIMEZONE
BEGIN:VEVENT
DTSTART;VALUE=DATE:20240223
DTEND;VALUE=DATE:20240226
DTSTAMP:20260425T132755
CREATED:20240109T080623Z
LAST-MODIFIED:20240109T080623Z
UID:10004660-1708646400-1708905599@themotoringdiary.com
SUMMARY:Race Retro
DESCRIPTION:Race Retro brings together thousands of fans\, drivers\, preparers\, traders and enthusiasts to enjoy a weekend of everything you need to prepare for the motorsport season ahead. \nCovering disciplines including formula and circuit racing\, rallying\, hill climbs\, touring cars\, single seater and one marque series\, GT cars and more. The event also features a fantastic showcase of iconic cars across the halls\, alongside traders who can supply all your motorsport needs from medicals\, to clothes and parts\, and a live stage hosting legends of the track. \nRenowned for our exhilarating outdoor action\, Rallying with Group B delivers two Live Rally Stages with over 140 ex-works and WRC cars showing us what they’re made of. There is also the opportunity for you to take a passenger ride in one of these fantastic cars. \nIf you want to celebrate the history of motorsport\, you’ve come to the right place!
URL:https://themotoringdiary.com/event/race-retro-3/
LOCATION:Stoneleigh Park\, Kenilworth\, Warwickshire\, CV8 2LG\, United Kingdom
CATEGORIES:2024,Clarion Events,Motorsport,Shows
ATTACH;FMTTYPE=image/jpeg:https://themotoringdiary.com/wp-content/uploads/2023/01/Race-Retro-53X4t1.tmp_.jpg
ORGANIZER;CN="Clarion Events":MAILTO:info@clarionevents.com
GEO:52.339779;-1.5276219
END:VEVENT
BEGIN:VEVENT
DTSTART;VALUE=DATE:20230225
DTEND;VALUE=DATE:20230226
DTSTAMP:20260425T132755
CREATED:20230124T161546Z
LAST-MODIFIED:20230124T161546Z
UID:10004202-1677283200-1677369599@themotoringdiary.com
SUMMARY:Race Retro Classic & Competition Car Sale
DESCRIPTION:
URL:https://themotoringdiary.com/event/race-retro-classic-competition-car-sale/
LOCATION:Stoneleigh Park\, Kenilworth\, Warwickshire\, CV8 2LG\, United Kingdom
CATEGORIES:2023,Auctions,Silverstone Auctions
ATTACH;FMTTYPE=image/png:https://themotoringdiary.com/wp-content/uploads/2023/01/Silverstone-Auctions-stsu9R.tmp_.png
ORGANIZER;CN="Silverstone Auctions":MAILTO:enquiries@silverstoneauctions.com
GEO:52.339779;-1.5276219
END:VEVENT
BEGIN:VEVENT
DTSTART;VALUE=DATE:20230224
DTEND;VALUE=DATE:20230227
DTSTAMP:20260425T132755
CREATED:20230106T103508Z
LAST-MODIFIED:20230106T103508Z
UID:10004075-1677196800-1677455999@themotoringdiary.com
SUMMARY:Race Retro
DESCRIPTION:Covering all aspects of historic motorsport\, Race Retro brings you stunning cars on display and the breathtaking live action\,  to the auction line-up and the famous faces joining the event over the weekend. Plus halls full of exhibitors\, clubs and partners.
URL:https://themotoringdiary.com/event/race-retro-2/
LOCATION:Stoneleigh Park\, Kenilworth\, Warwickshire\, CV8 2LG\, United Kingdom
CATEGORIES:2023,Clarion Events,Shows
ATTACH;FMTTYPE=image/jpeg:https://themotoringdiary.com/wp-content/uploads/2023/01/Race-Retro-53X4t1.tmp_.jpg
ORGANIZER;CN="Clarion Events":MAILTO:info@clarionevents.com
GEO:52.339779;-1.5276219
END:VEVENT
BEGIN:VEVENT
DTSTART;TZID=Europe/London:20230212T093000
DTEND;TZID=Europe/London:20230212T160000
DTSTAMP:20260425T132755
CREATED:20230105T182646Z
LAST-MODIFIED:20230105T182646Z
UID:10004027-1676194200-1676217600@themotoringdiary.com
SUMMARY:International MG & Triumph Spares Day
DESCRIPTION:This long-awaited weekend of automotive enjoyment will bring together all manner of motoring spares\, automobilia and historic vehicles for sale\, with hundreds of stands to browse in the busy event fields. As the old saying goes\, “If you can’t find it at Beaulieu it doesn’t exist!”
URL:https://themotoringdiary.com/event/international-mg-triumph-spares-day-2/
LOCATION:Stoneleigh Park\, Kenilworth\, Warwickshire\, CV8 2LG\, United Kingdom
CATEGORIES:2023,Cklassic Car Shows,Live Promotions,Shows
ATTACH;FMTTYPE=image/png:https://themotoringdiary.com/wp-content/uploads/2023/01/IMTSD-1-Tio6yH.tmp_.png
ORGANIZER;CN="Live Promotions":MAILTO:info@livepromotions.co.uk
GEO:52.339779;-1.5276219
END:VEVENT
END:VCALENDAR