BEGIN:VCALENDAR
VERSION:2.0
PRODID:-//The Motoring Diary - ECPv6.15.20//NONSGML v1.0//EN
CALSCALE:GREGORIAN
METHOD:PUBLISH
X-ORIGINAL-URL:https://themotoringdiary.com
X-WR-CALDESC:Events for The Motoring Diary
REFRESH-INTERVAL;VALUE=DURATION:PT1H
X-Robots-Tag:noindex
X-PUBLISHED-TTL:PT1H
BEGIN:VTIMEZONE
TZID:Europe/London
BEGIN:DAYLIGHT
TZOFFSETFROM:+0000
TZOFFSETTO:+0100
TZNAME:BST
DTSTART:20210328T010000
END:DAYLIGHT
BEGIN:STANDARD
TZOFFSETFROM:+0100
TZOFFSETTO:+0000
TZNAME:GMT
DTSTART:20211031T010000
END:STANDARD
BEGIN:DAYLIGHT
TZOFFSETFROM:+0000
TZOFFSETTO:+0100
TZNAME:BST
DTSTART:20220327T010000
END:DAYLIGHT
BEGIN:STANDARD
TZOFFSETFROM:+0100
TZOFFSETTO:+0000
TZNAME:GMT
DTSTART:20221030T010000
END:STANDARD
BEGIN:DAYLIGHT
TZOFFSETFROM:+0000
TZOFFSETTO:+0100
TZNAME:BST
DTSTART:20230326T010000
END:DAYLIGHT
BEGIN:STANDARD
TZOFFSETFROM:+0100
TZOFFSETTO:+0000
TZNAME:GMT
DTSTART:20231029T010000
END:STANDARD
BEGIN:DAYLIGHT
TZOFFSETFROM:+0000
TZOFFSETTO:+0100
TZNAME:BST
DTSTART:20240331T010000
END:DAYLIGHT
BEGIN:STANDARD
TZOFFSETFROM:+0100
TZOFFSETTO:+0000
TZNAME:GMT
DTSTART:20241027T010000
END:STANDARD
BEGIN:DAYLIGHT
TZOFFSETFROM:+0000
TZOFFSETTO:+0100
TZNAME:BST
DTSTART:20250330T010000
END:DAYLIGHT
BEGIN:STANDARD
TZOFFSETFROM:+0100
TZOFFSETTO:+0000
TZNAME:GMT
DTSTART:20251026T010000
END:STANDARD
END:VTIMEZONE
BEGIN:VEVENT
DTSTART;VALUE=DATE:20240906
DTEND;VALUE=DATE:20240909
DTSTAMP:20260425T132956
CREATED:20231204T152041Z
LAST-MODIFIED:20231204T152041Z
UID:10004628-1725580800-1725839999@themotoringdiary.com
SUMMARY:Goodwood Revival
DESCRIPTION:
URL:https://themotoringdiary.com/event/goodwood-revival-2/
LOCATION:Goodwood Motor Circuit\, Chichester\, West Sussex\, PO18 0PX\, United Kingdom
CATEGORIES:2024,Goodwood,Historic,Motorsport
ATTACH;FMTTYPE=image/png:https://themotoringdiary.com/wp-content/uploads/2023/12/Goodwood-Revival-Wxvcz2.tmp_.png
ORGANIZER;CN="Goodwood":MAILTO:customer.sales@goodwood.com
GEO:50.859876;-0.751151
END:VEVENT
BEGIN:VEVENT
DTSTART;VALUE=DATE:20240413
DTEND;VALUE=DATE:20240415
DTSTAMP:20260425T132956
CREATED:20231204T152035Z
LAST-MODIFIED:20231204T152035Z
UID:10004626-1712966400-1713139199@themotoringdiary.com
SUMMARY:Goodwood Members' Meeting
DESCRIPTION:
URL:https://themotoringdiary.com/event/goodwood-members-meeting-3/
LOCATION:Goodwood Motor Circuit\, Chichester\, West Sussex\, PO18 0PX\, United Kingdom
CATEGORIES:2024,Goodwood,Historic,Motorsport
ATTACH;FMTTYPE=image/png:https://themotoringdiary.com/wp-content/uploads/2023/12/Goodwood-Members-Meeting-fUXGJK.tmp_.png
ORGANIZER;CN="Goodwood":MAILTO:customer.sales@goodwood.com
GEO:50.859876;-0.751151
END:VEVENT
BEGIN:VEVENT
DTSTART;VALUE=DATE:20221210
DTEND;VALUE=DATE:20221211
DTSTAMP:20260425T132956
CREATED:20220126T141501Z
LAST-MODIFIED:20220126T170344Z
UID:10003898-1670630400-1670716799@themotoringdiary.com
SUMMARY:Goodwood Performance Track Day
DESCRIPTION:Car Track Day	Sessioned\n98dB\nClosed Wheel Only\nNovice to race drivers\nThe chance to drive three of the BMW M Fleet\, Refreshments onsite\,\nhelmets available.
URL:https://themotoringdiary.com/event/goodwood-performance-track-day-10/
LOCATION:Goodwood Motor Circuit\, Chichester\, West Sussex\, PO18 0PX\, United Kingdom
CATEGORIES:2022,Goodwood,Motorsport,Trackdays
ATTACH;FMTTYPE=image/jpeg:https://themotoringdiary.com/wp-content/uploads/2022/01/Goodwood-Ultimate-Driving.jpg
ORGANIZER;CN="Goodwood":MAILTO:customer.sales@goodwood.com
GEO:50.859876;-0.751151
END:VEVENT
BEGIN:VEVENT
DTSTART;VALUE=DATE:20221126
DTEND;VALUE=DATE:20221127
DTSTAMP:20260425T132956
CREATED:20220126T141603Z
LAST-MODIFIED:20220126T170544Z
UID:10003652-1669420800-1669507199@themotoringdiary.com
SUMMARY:Goodwood Track Day
DESCRIPTION:The Goodwood Motor Circuit is famous for its fast corners and uniquely challenging nature. Numerous heroes of the sport have raced around the 2.38 miles of asphalt and continue to do so thanks to the Revival and Members’ Meeting. Bringing your car to the circuit will provide you with the ultimate thrill and give you an experience that will leave you at once fulfilled and craving more.
URL:https://themotoringdiary.com/event/goodwood-track-day-18/
LOCATION:Goodwood Motor Circuit\, Chichester\, West Sussex\, PO18 0PX\, United Kingdom
CATEGORIES:2022,Goodwood,Motorsport,Trackdays
ATTACH;FMTTYPE=image/jpeg:https://themotoringdiary.com/wp-content/uploads/2022/01/Goodwood-Trackday-FSGAiS.tmp_.jpg
ORGANIZER;CN="Goodwood":MAILTO:customer.sales@goodwood.com
GEO:50.859876;-0.751151
END:VEVENT
BEGIN:VEVENT
DTSTART;VALUE=DATE:20221119
DTEND;VALUE=DATE:20221120
DTSTAMP:20260425T132956
CREATED:20220126T141602Z
LAST-MODIFIED:20220126T170544Z
UID:10003651-1668816000-1668902399@themotoringdiary.com
SUMMARY:Goodwood Track Day
DESCRIPTION:The Goodwood Motor Circuit is famous for its fast corners and uniquely challenging nature. Numerous heroes of the sport have raced around the 2.38 miles of asphalt and continue to do so thanks to the Revival and Members’ Meeting. Bringing your car to the circuit will provide you with the ultimate thrill and give you an experience that will leave you at once fulfilled and craving more.
URL:https://themotoringdiary.com/event/goodwood-track-day-17/
LOCATION:Goodwood Motor Circuit\, Chichester\, West Sussex\, PO18 0PX\, United Kingdom
CATEGORIES:2022,Goodwood,Motorsport,Trackdays
ATTACH;FMTTYPE=image/jpeg:https://themotoringdiary.com/wp-content/uploads/2022/01/Goodwood-Trackday-FSGAiS.tmp_.jpg
ORGANIZER;CN="Goodwood":MAILTO:customer.sales@goodwood.com
GEO:50.859876;-0.751151
END:VEVENT
BEGIN:VEVENT
DTSTART;VALUE=DATE:20221112
DTEND;VALUE=DATE:20221113
DTSTAMP:20260425T132956
CREATED:20220126T141447Z
LAST-MODIFIED:20220126T170303Z
UID:10003889-1668211200-1668297599@themotoringdiary.com
SUMMARY:Goodwood Performance Track Day
DESCRIPTION:Car Track Day	Sessioned\n98dB\nClosed Wheel Only\nNovice to race drivers\nThe chance to drive three of the BMW M Fleet\, Refreshments onsite\,\nhelmets available.
URL:https://themotoringdiary.com/event/goodwood-performance-track-day-9/
LOCATION:Goodwood Motor Circuit\, Chichester\, West Sussex\, PO18 0PX\, United Kingdom
CATEGORIES:2022,Goodwood,Motorsport,Trackdays
ATTACH;FMTTYPE=image/jpeg:https://themotoringdiary.com/wp-content/uploads/2022/01/Goodwood-Ultimate-Driving.jpg
ORGANIZER;CN="Goodwood":MAILTO:customer.sales@goodwood.com
GEO:50.859876;-0.751151
END:VEVENT
BEGIN:VEVENT
DTSTART;VALUE=DATE:20221111
DTEND;VALUE=DATE:20221112
DTSTAMP:20260425T132956
CREATED:20220126T141646Z
LAST-MODIFIED:20220126T171143Z
UID:10003926-1668124800-1668211199@themotoringdiary.com
SUMMARY:The Goodwood ARDS Test
DESCRIPTION:Take your entry level test\, the Novice Driver Training Course most commonly known as the ARDS test. Passing this course is a requirement for those wishing to apply for their first race licence.
URL:https://themotoringdiary.com/event/the-goodwood-ards-test-13/
LOCATION:Goodwood Motor Circuit\, Chichester\, West Sussex\, PO18 0PX\, United Kingdom
CATEGORIES:2022,Goodwood,Trackdays
ATTACH;FMTTYPE=image/png:https://themotoringdiary.com/wp-content/uploads/2022/01/Goodwood-MC-gQyuTL.tmp_.png
ORGANIZER;CN="Goodwood":MAILTO:customer.sales@goodwood.com
GEO:50.859876;-0.751151
END:VEVENT
BEGIN:VEVENT
DTSTART;VALUE=DATE:20221111
DTEND;VALUE=DATE:20221112
DTSTAMP:20260425T132956
CREATED:20220126T141602Z
LAST-MODIFIED:20220126T170543Z
UID:10003650-1668124800-1668211199@themotoringdiary.com
SUMMARY:Goodwood Track Day
DESCRIPTION:The Goodwood Motor Circuit is famous for its fast corners and uniquely challenging nature. Numerous heroes of the sport have raced around the 2.38 miles of asphalt and continue to do so thanks to the Revival and Members’ Meeting. Bringing your car to the circuit will provide you with the ultimate thrill and give you an experience that will leave you at once fulfilled and craving more.
URL:https://themotoringdiary.com/event/goodwood-track-day-16/
LOCATION:Goodwood Motor Circuit\, Chichester\, West Sussex\, PO18 0PX\, United Kingdom
CATEGORIES:2022,Goodwood,Motorsport,Trackdays
ATTACH;FMTTYPE=image/jpeg:https://themotoringdiary.com/wp-content/uploads/2022/01/Goodwood-Trackday-FSGAiS.tmp_.jpg
ORGANIZER;CN="Goodwood":MAILTO:customer.sales@goodwood.com
GEO:50.859876;-0.751151
END:VEVENT
BEGIN:VEVENT
DTSTART;TZID=Europe/London:20221106T070000
DTEND;TZID=Europe/London:20221106T120000
DTSTAMP:20260425T132956
CREATED:20220117T125842Z
LAST-MODIFIED:20220117T125842Z
UID:10003868-1667718000-1667736000@themotoringdiary.com
SUMMARY:Goodwood Breakfast Club - Vee-Power Sunday
DESCRIPTION:Covering everything from Ducati 916s to heavy metal Americana\, Vee-Power Sunday showcases some of the most sonorous and exhilarating machines the world has ever seen as we bring together anything with a ‘V’ under the bonnet. Yes\, that’s right\, anything from a Vee-Twin to a V12 is eligible for this Sunday celebration of banked cylinders.
URL:https://themotoringdiary.com/event/goodwood-breakfast-club-vee-power-sunday/
LOCATION:Goodwood Motor Circuit\, Chichester\, West Sussex\, PO18 0PX\, United Kingdom
CATEGORIES:2022,Goodwood,Social Meets
ATTACH;FMTTYPE=image/png:https://themotoringdiary.com/wp-content/uploads/2022/01/Goodwood-BC-cCiVm3.tmp_.png
ORGANIZER;CN="Goodwood":MAILTO:customer.sales@goodwood.com
GEO:50.859876;-0.751151
END:VEVENT
BEGIN:VEVENT
DTSTART;VALUE=DATE:20221027
DTEND;VALUE=DATE:20221028
DTSTAMP:20260425T132956
CREATED:20220126T141646Z
LAST-MODIFIED:20220126T171143Z
UID:10003924-1666828800-1666915199@themotoringdiary.com
SUMMARY:The Goodwood ARDS Test
DESCRIPTION:Take your entry level test\, the Novice Driver Training Course most commonly known as the ARDS test. Passing this course is a requirement for those wishing to apply for their first race licence.
URL:https://themotoringdiary.com/event/the-goodwood-ards-test-12/
LOCATION:Goodwood Motor Circuit\, Chichester\, West Sussex\, PO18 0PX\, United Kingdom
CATEGORIES:2022,Goodwood,Trackdays
ATTACH;FMTTYPE=image/png:https://themotoringdiary.com/wp-content/uploads/2022/01/Goodwood-MC-gQyuTL.tmp_.png
ORGANIZER;CN="Goodwood":MAILTO:customer.sales@goodwood.com
GEO:50.859876;-0.751151
END:VEVENT
BEGIN:VEVENT
DTSTART;VALUE=DATE:20221027
DTEND;VALUE=DATE:20221028
DTSTAMP:20260425T132956
CREATED:20220126T141548Z
LAST-MODIFIED:20220126T170544Z
UID:10003649-1666828800-1666915199@themotoringdiary.com
SUMMARY:Goodwood Track Day
DESCRIPTION:The Goodwood Motor Circuit is famous for its fast corners and uniquely challenging nature. Numerous heroes of the sport have raced around the 2.38 miles of asphalt and continue to do so thanks to the Revival and Members’ Meeting. Bringing your car to the circuit will provide you with the ultimate thrill and give you an experience that will leave you at once fulfilled and craving more.
URL:https://themotoringdiary.com/event/goodwood-track-day-15/
LOCATION:Goodwood Motor Circuit\, Chichester\, West Sussex\, PO18 0PX\, United Kingdom
CATEGORIES:2022,Goodwood,Motorsport,Trackdays
ATTACH;FMTTYPE=image/jpeg:https://themotoringdiary.com/wp-content/uploads/2022/01/Goodwood-Trackday-FSGAiS.tmp_.jpg
ORGANIZER;CN="Goodwood":MAILTO:customer.sales@goodwood.com
GEO:50.859876;-0.751151
END:VEVENT
BEGIN:VEVENT
DTSTART;VALUE=DATE:20221014
DTEND;VALUE=DATE:20221015
DTSTAMP:20260425T132956
CREATED:20220126T141632Z
LAST-MODIFIED:20220126T170944Z
UID:10003922-1665705600-1665791999@themotoringdiary.com
SUMMARY:The Goodwood ARDS Test
DESCRIPTION:Take your entry level test\, the Novice Driver Training Course most commonly known as the ARDS test. Passing this course is a requirement for those wishing to apply for their first race licence.
URL:https://themotoringdiary.com/event/the-goodwood-ards-test-11/
LOCATION:Goodwood Motor Circuit\, Chichester\, West Sussex\, PO18 0PX\, United Kingdom
CATEGORIES:2022,Goodwood,Trackdays
ATTACH;FMTTYPE=image/png:https://themotoringdiary.com/wp-content/uploads/2022/01/Goodwood-MC-gQyuTL.tmp_.png
ORGANIZER;CN="Goodwood":MAILTO:customer.sales@goodwood.com
GEO:50.859876;-0.751151
END:VEVENT
BEGIN:VEVENT
DTSTART;VALUE=DATE:20221014
DTEND;VALUE=DATE:20221015
DTSTAMP:20260425T132956
CREATED:20220126T141447Z
LAST-MODIFIED:20220126T170302Z
UID:10003891-1665705600-1665791999@themotoringdiary.com
SUMMARY:Goodwood Performance Track Day
DESCRIPTION:Car Track Day	Sessioned\n98dB\nClosed Wheel Only\nNovice to race drivers\nThe chance to drive three of the BMW M Fleet\, Refreshments onsite\,\nhelmets available.
URL:https://themotoringdiary.com/event/goodwood-performance-track-day-8/
LOCATION:Goodwood Motor Circuit\, Chichester\, West Sussex\, PO18 0PX\, United Kingdom
CATEGORIES:2022,Goodwood,Motorsport,Trackdays
ATTACH;FMTTYPE=image/jpeg:https://themotoringdiary.com/wp-content/uploads/2022/01/Goodwood-Ultimate-Driving.jpg
ORGANIZER;CN="Goodwood":MAILTO:customer.sales@goodwood.com
GEO:50.859876;-0.751151
END:VEVENT
BEGIN:VEVENT
DTSTART;VALUE=DATE:20221013
DTEND;VALUE=DATE:20221014
DTSTAMP:20260425T132956
CREATED:20220126T141548Z
LAST-MODIFIED:20220126T170530Z
UID:10003648-1665619200-1665705599@themotoringdiary.com
SUMMARY:Goodwood Track Day
DESCRIPTION:The Goodwood Motor Circuit is famous for its fast corners and uniquely challenging nature. Numerous heroes of the sport have raced around the 2.38 miles of asphalt and continue to do so thanks to the Revival and Members’ Meeting. Bringing your car to the circuit will provide you with the ultimate thrill and give you an experience that will leave you at once fulfilled and craving more.
URL:https://themotoringdiary.com/event/goodwood-track-day-14/
LOCATION:Goodwood Motor Circuit\, Chichester\, West Sussex\, PO18 0PX\, United Kingdom
CATEGORIES:2022,Goodwood,Motorsport,Trackdays
ATTACH;FMTTYPE=image/jpeg:https://themotoringdiary.com/wp-content/uploads/2022/01/Goodwood-Trackday-FSGAiS.tmp_.jpg
ORGANIZER;CN="Goodwood":MAILTO:customer.sales@goodwood.com
GEO:50.859876;-0.751151
END:VEVENT
BEGIN:VEVENT
DTSTART;VALUE=DATE:20221007
DTEND;VALUE=DATE:20221008
DTSTAMP:20260425T132956
CREATED:20220126T141502Z
LAST-MODIFIED:20220126T170347Z
UID:10003902-1665100800-1665187199@themotoringdiary.com
SUMMARY:Goodwood Revival Racing Experience
DESCRIPTION:The Goodwood Revival Racing Experience is a brilliantly authentic\, exhilarating and memorable experience where the true craft of driving a classic car can be mastered. Drive a selection of stunning 1950s and 1960s classic saloons and GTs that have been lovingly restored back to their original racing state at the iconic Goodwood Motor Circuit.
URL:https://themotoringdiary.com/event/goodwood-revival-racing-experience-4/
LOCATION:Goodwood Motor Circuit\, Chichester\, West Sussex\, PO18 0PX\, United Kingdom
CATEGORIES:2022,Goodwood,Motorsport,Trackdays
ATTACH;FMTTYPE=image/jpeg:https://themotoringdiary.com/wp-content/uploads/2022/01/Goodwood-Revival-Classics-6l4Bi0.tmp_.jpg
ORGANIZER;CN="Goodwood":MAILTO:customer.sales@goodwood.com
GEO:50.859876;-0.751151
END:VEVENT
BEGIN:VEVENT
DTSTART;TZID=Europe/London:20221002T070000
DTEND;TZID=Europe/London:20221002T120000
DTSTAMP:20260425T132956
CREATED:20220117T125833Z
LAST-MODIFIED:20220117T125833Z
UID:10003871-1664694000-1664712000@themotoringdiary.com
SUMMARY:Goodwood Breakfast Club - Everything but the Car
DESCRIPTION:Celebrating anything and everything but the car showcases the rest of the wonderful world of motoring. Expect an eclectic grid of all shapes\, sizes and types of machines from motorbikes to tanks.
URL:https://themotoringdiary.com/event/goodwood-breakfast-club-everything-but-the-car/
LOCATION:Goodwood Motor Circuit\, Chichester\, West Sussex\, PO18 0PX\, United Kingdom
CATEGORIES:2022,Goodwood,Social Meets
ATTACH;FMTTYPE=image/png:https://themotoringdiary.com/wp-content/uploads/2022/01/Goodwood-BC-cCiVm3.tmp_.png
ORGANIZER;CN="Goodwood":MAILTO:customer.sales@goodwood.com
GEO:50.859876;-0.751151
END:VEVENT
BEGIN:VEVENT
DTSTART;VALUE=DATE:20220930
DTEND;VALUE=DATE:20221001
DTSTAMP:20260425T132956
CREATED:20220126T141548Z
LAST-MODIFIED:20220126T170529Z
UID:10003647-1664496000-1664582399@themotoringdiary.com
SUMMARY:Goodwood Track Day
DESCRIPTION:The Goodwood Motor Circuit is famous for its fast corners and uniquely challenging nature. Numerous heroes of the sport have raced around the 2.38 miles of asphalt and continue to do so thanks to the Revival and Members’ Meeting. Bringing your car to the circuit will provide you with the ultimate thrill and give you an experience that will leave you at once fulfilled and craving more.
URL:https://themotoringdiary.com/event/goodwood-track-day-13/
LOCATION:Goodwood Motor Circuit\, Chichester\, West Sussex\, PO18 0PX\, United Kingdom
CATEGORIES:2022,Goodwood,Motorsport,Trackdays
ATTACH;FMTTYPE=image/jpeg:https://themotoringdiary.com/wp-content/uploads/2022/01/Goodwood-Trackday-FSGAiS.tmp_.jpg
ORGANIZER;CN="Goodwood":MAILTO:customer.sales@goodwood.com
GEO:50.859876;-0.751151
END:VEVENT
BEGIN:VEVENT
DTSTART;VALUE=DATE:20220927
DTEND;VALUE=DATE:20220928
DTSTAMP:20260425T132956
CREATED:20220126T141446Z
LAST-MODIFIED:20220126T170302Z
UID:10003893-1664236800-1664323199@themotoringdiary.com
SUMMARY:Goodwood Performance Track Day
DESCRIPTION:Car Track Day	Sessioned\n98dB\nClosed Wheel Only\nNovice to race drivers\nThe chance to drive three of the BMW M Fleet\, Refreshments onsite\,\nhelmets available.
URL:https://themotoringdiary.com/event/goodwood-performance-track-day-7/
LOCATION:Goodwood Motor Circuit\, Chichester\, West Sussex\, PO18 0PX\, United Kingdom
CATEGORIES:2022,Goodwood,Motorsport,Trackdays
ATTACH;FMTTYPE=image/jpeg:https://themotoringdiary.com/wp-content/uploads/2022/01/Goodwood-Ultimate-Driving.jpg
ORGANIZER;CN="Goodwood":MAILTO:customer.sales@goodwood.com
GEO:50.859876;-0.751151
END:VEVENT
BEGIN:VEVENT
DTSTART;VALUE=DATE:20220923
DTEND;VALUE=DATE:20220924
DTSTAMP:20260425T132956
CREATED:20220126T141631Z
LAST-MODIFIED:20220126T170944Z
UID:10003920-1663891200-1663977599@themotoringdiary.com
SUMMARY:The Goodwood ARDS Test
DESCRIPTION:Take your entry level test\, the Novice Driver Training Course most commonly known as the ARDS test. Passing this course is a requirement for those wishing to apply for their first race licence.
URL:https://themotoringdiary.com/event/the-goodwood-ards-test-10/
LOCATION:Goodwood Motor Circuit\, Chichester\, West Sussex\, PO18 0PX\, United Kingdom
CATEGORIES:2022,Goodwood,Trackdays
ATTACH;FMTTYPE=image/png:https://themotoringdiary.com/wp-content/uploads/2022/01/Goodwood-MC-gQyuTL.tmp_.png
ORGANIZER;CN="Goodwood":MAILTO:customer.sales@goodwood.com
GEO:50.859876;-0.751151
END:VEVENT
BEGIN:VEVENT
DTSTART;VALUE=DATE:20220916
DTEND;VALUE=DATE:20220919
DTSTAMP:20260425T132956
CREATED:20211224T141932Z
LAST-MODIFIED:20220113T155635Z
UID:10003266-1663286400-1663545599@themotoringdiary.com
SUMMARY:Goodwood Revival
DESCRIPTION:
URL:https://themotoringdiary.com/event/goodwood-revival/
LOCATION:Goodwood Motor Circuit\, Chichester\, West Sussex\, PO18 0PX\, United Kingdom
CATEGORIES:2022,Historic,Motorsport
ATTACH;FMTTYPE=image/png:https://themotoringdiary.com/wp-content/uploads/2021/11/Goodwood-Revival.png
ORGANIZER;CN="Goodwood":MAILTO:customer.sales@goodwood.com
GEO:50.859876;-0.751151
END:VEVENT
BEGIN:VEVENT
DTSTART;VALUE=DATE:20220825
DTEND;VALUE=DATE:20220826
DTSTAMP:20260425T132956
CREATED:20220126T141548Z
LAST-MODIFIED:20220126T170529Z
UID:10003646-1661385600-1661471999@themotoringdiary.com
SUMMARY:Goodwood Track Day
DESCRIPTION:The Goodwood Motor Circuit is famous for its fast corners and uniquely challenging nature. Numerous heroes of the sport have raced around the 2.38 miles of asphalt and continue to do so thanks to the Revival and Members’ Meeting. Bringing your car to the circuit will provide you with the ultimate thrill and give you an experience that will leave you at once fulfilled and craving more.
URL:https://themotoringdiary.com/event/goodwood-track-day-12/
LOCATION:Goodwood Motor Circuit\, Chichester\, West Sussex\, PO18 0PX\, United Kingdom
CATEGORIES:2022,Goodwood,Motorsport,Trackdays
ATTACH;FMTTYPE=image/jpeg:https://themotoringdiary.com/wp-content/uploads/2022/01/Goodwood-Trackday-FSGAiS.tmp_.jpg
ORGANIZER;CN="Goodwood":MAILTO:customer.sales@goodwood.com
GEO:50.859876;-0.751151
END:VEVENT
BEGIN:VEVENT
DTSTART;VALUE=DATE:20220819
DTEND;VALUE=DATE:20220820
DTSTAMP:20260425T132956
CREATED:20220126T141547Z
LAST-MODIFIED:20220126T170529Z
UID:10003913-1660867200-1660953599@themotoringdiary.com
SUMMARY:Goodwood Track Day
DESCRIPTION:The Goodwood Motor Circuit is famous for its fast corners and uniquely challenging nature. Numerous heroes of the sport have raced around the 2.38 miles of asphalt and continue to do so thanks to the Revival and Members’ Meeting. Bringing your car to the circuit will provide you with the ultimate thrill and give you an experience that will leave you at once fulfilled and craving more.
URL:https://themotoringdiary.com/event/goodwood-track-day-11/
LOCATION:Goodwood Motor Circuit\, Chichester\, West Sussex\, PO18 0PX\, United Kingdom
CATEGORIES:2022,Goodwood,Motorsport,Trackdays
ATTACH;FMTTYPE=image/jpeg:https://themotoringdiary.com/wp-content/uploads/2022/01/Goodwood-Trackday-FSGAiS.tmp_.jpg
ORGANIZER;CN="Goodwood":MAILTO:customer.sales@goodwood.com
GEO:50.859876;-0.751151
END:VEVENT
BEGIN:VEVENT
DTSTART;VALUE=DATE:20220813
DTEND;VALUE=DATE:20220814
DTSTAMP:20260425T132956
CREATED:20220126T141431Z
LAST-MODIFIED:20220126T170245Z
UID:10003888-1660348800-1660435199@themotoringdiary.com
SUMMARY:Goodwood Off-Road Experience
DESCRIPTION:Feel every bump and drop as you adventure around the rutted tracks of Goodwood Motor Circuit in our fleet of classic Land Rovers from the 1960s. Embrace the bouncy ride and lack of modern technology as you master the challenges of driving an off-road vehicle from over 50 years ago.
URL:https://themotoringdiary.com/event/goodwood-off-road-experience-11/
LOCATION:Goodwood Motor Circuit\, Chichester\, West Sussex\, PO18 0PX\, United Kingdom
CATEGORIES:2022,Goodwood,Motorsport,Trackdays
ATTACH;FMTTYPE=image/jpeg:https://themotoringdiary.com/wp-content/uploads/2022/01/Goodwood-Off-road-experience-jsuf48.tmp_.jpg
ORGANIZER;CN="Goodwood":MAILTO:customer.sales@goodwood.com
GEO:50.859876;-0.751151
END:VEVENT
BEGIN:VEVENT
DTSTART;VALUE=DATE:20220810
DTEND;VALUE=DATE:20220811
DTSTAMP:20260425T132956
CREATED:20220126T141502Z
LAST-MODIFIED:20220126T170346Z
UID:10003901-1660089600-1660175999@themotoringdiary.com
SUMMARY:Goodwood Revival Racing Experience
DESCRIPTION:The Goodwood Revival Racing Experience is a brilliantly authentic\, exhilarating and memorable experience where the true craft of driving a classic car can be mastered. Drive a selection of stunning 1950s and 1960s classic saloons and GTs that have been lovingly restored back to their original racing state at the iconic Goodwood Motor Circuit.
URL:https://themotoringdiary.com/event/goodwood-revival-racing-experience-3/
LOCATION:Goodwood Motor Circuit\, Chichester\, West Sussex\, PO18 0PX\, United Kingdom
CATEGORIES:2022,Goodwood,Motorsport,Trackdays
ATTACH;FMTTYPE=image/jpeg:https://themotoringdiary.com/wp-content/uploads/2022/01/Goodwood-Revival-Classics-6l4Bi0.tmp_.jpg
ORGANIZER;CN="Goodwood":MAILTO:customer.sales@goodwood.com
GEO:50.859876;-0.751151
END:VEVENT
BEGIN:VEVENT
DTSTART;TZID=Europe/London:20220724T070000
DTEND;TZID=Europe/London:20220724T120000
DTSTAMP:20260425T132956
CREATED:20220117T125828Z
LAST-MODIFIED:20220117T125828Z
UID:10003872-1658646000-1658664000@themotoringdiary.com
SUMMARY:Goodwood Breakfast Club - Classic Car Sunday
DESCRIPTION:Celebrating the heyday of motoring\, Classic Car Sunday showcases a line-up of stunning classics from every era of motoring. With cars from pre-1982 now eligible the line-up is sure to have something for everyone and is just weeks before the Goodwood Revival.
URL:https://themotoringdiary.com/event/goodwood-breakfast-club-classic-car-sunday/
LOCATION:Goodwood Motor Circuit\, Chichester\, West Sussex\, PO18 0PX\, United Kingdom
CATEGORIES:2022,Goodwood,Social Meets
ATTACH;FMTTYPE=image/png:https://themotoringdiary.com/wp-content/uploads/2022/01/Goodwood-BC-cCiVm3.tmp_.png
ORGANIZER;CN="Goodwood":MAILTO:customer.sales@goodwood.com
GEO:50.859876;-0.751151
END:VEVENT
BEGIN:VEVENT
DTSTART;VALUE=DATE:20220724
DTEND;VALUE=DATE:20220725
DTSTAMP:20260425T132956
CREATED:20220126T141417Z
LAST-MODIFIED:20220126T170231Z
UID:10003886-1658620800-1658707199@themotoringdiary.com
SUMMARY:Goodwood Off-Road Experience
DESCRIPTION:Feel every bump and drop as you adventure around the rutted tracks of Goodwood Motor Circuit in our fleet of classic Land Rovers from the 1960s. Embrace the bouncy ride and lack of modern technology as you master the challenges of driving an off-road vehicle from over 50 years ago.
URL:https://themotoringdiary.com/event/goodwood-off-road-experience-10/
LOCATION:Goodwood Motor Circuit\, Chichester\, West Sussex\, PO18 0PX\, United Kingdom
CATEGORIES:2022,Goodwood,Motorsport,Trackdays
ATTACH;FMTTYPE=image/jpeg:https://themotoringdiary.com/wp-content/uploads/2022/01/Goodwood-Off-road-experience-jsuf48.tmp_.jpg
ORGANIZER;CN="Goodwood":MAILTO:customer.sales@goodwood.com
GEO:50.859876;-0.751151
END:VEVENT
BEGIN:VEVENT
DTSTART;VALUE=DATE:20220716
DTEND;VALUE=DATE:20220717
DTSTAMP:20260425T132956
CREATED:20220126T141417Z
LAST-MODIFIED:20220126T170231Z
UID:10003885-1657929600-1658015999@themotoringdiary.com
SUMMARY:Goodwood Off-Road Experience
DESCRIPTION:Feel every bump and drop as you adventure around the rutted tracks of Goodwood Motor Circuit in our fleet of classic Land Rovers from the 1960s. Embrace the bouncy ride and lack of modern technology as you master the challenges of driving an off-road vehicle from over 50 years ago.
URL:https://themotoringdiary.com/event/goodwood-off-road-experience-9/
LOCATION:Goodwood Motor Circuit\, Chichester\, West Sussex\, PO18 0PX\, United Kingdom
CATEGORIES:2022,Goodwood,Motorsport,Trackdays
ATTACH;FMTTYPE=image/jpeg:https://themotoringdiary.com/wp-content/uploads/2022/01/Goodwood-Off-road-experience-jsuf48.tmp_.jpg
ORGANIZER;CN="Goodwood":MAILTO:customer.sales@goodwood.com
GEO:50.859876;-0.751151
END:VEVENT
BEGIN:VEVENT
DTSTART;VALUE=DATE:20220708
DTEND;VALUE=DATE:20220709
DTSTAMP:20260425T132956
CREATED:20220126T141631Z
LAST-MODIFIED:20220126T170943Z
UID:10003919-1657238400-1657324799@themotoringdiary.com
SUMMARY:The Goodwood ARDS Test
DESCRIPTION:Take your entry level test\, the Novice Driver Training Course most commonly known as the ARDS test. Passing this course is a requirement for those wishing to apply for their first race licence.
URL:https://themotoringdiary.com/event/the-goodwood-ards-test-9/
LOCATION:Goodwood Motor Circuit\, Chichester\, West Sussex\, PO18 0PX\, United Kingdom
CATEGORIES:2022,Goodwood,Trackdays
ATTACH;FMTTYPE=image/png:https://themotoringdiary.com/wp-content/uploads/2022/01/Goodwood-MC-gQyuTL.tmp_.png
ORGANIZER;CN="Goodwood":MAILTO:customer.sales@goodwood.com
GEO:50.859876;-0.751151
END:VEVENT
BEGIN:VEVENT
DTSTART;VALUE=DATE:20220708
DTEND;VALUE=DATE:20220709
DTSTAMP:20260425T132956
CREATED:20220126T141446Z
LAST-MODIFIED:20220126T170301Z
UID:10003895-1657238400-1657324799@themotoringdiary.com
SUMMARY:Goodwood Performance Track Day
DESCRIPTION:Car Track Day	Sessioned\n98dB\nClosed Wheel Only\nNovice to race drivers\nThe chance to drive three of the BMW M Fleet\, Refreshments onsite\,\nhelmets available.
URL:https://themotoringdiary.com/event/goodwood-performance-track-day-6/
LOCATION:Goodwood Motor Circuit\, Chichester\, West Sussex\, PO18 0PX\, United Kingdom
CATEGORIES:2022,Goodwood,Motorsport,Trackdays
ATTACH;FMTTYPE=image/jpeg:https://themotoringdiary.com/wp-content/uploads/2022/01/Goodwood-Ultimate-Driving.jpg
ORGANIZER;CN="Goodwood":MAILTO:customer.sales@goodwood.com
GEO:50.859876;-0.751151
END:VEVENT
BEGIN:VEVENT
DTSTART;VALUE=DATE:20220628
DTEND;VALUE=DATE:20220629
DTSTAMP:20260425T132956
CREATED:20220126T141501Z
LAST-MODIFIED:20220126T170345Z
UID:10003900-1656374400-1656460799@themotoringdiary.com
SUMMARY:Goodwood Revival Racing Experience
DESCRIPTION:The Goodwood Revival Racing Experience is a brilliantly authentic\, exhilarating and memorable experience where the true craft of driving a classic car can be mastered. Drive a selection of stunning 1950s and 1960s classic saloons and GTs that have been lovingly restored back to their original racing state at the iconic Goodwood Motor Circuit.
URL:https://themotoringdiary.com/event/goodwood-revival-racing-experience-2/
LOCATION:Goodwood Motor Circuit\, Chichester\, West Sussex\, PO18 0PX\, United Kingdom
CATEGORIES:2022,Goodwood,Motorsport,Trackdays
ATTACH;FMTTYPE=image/jpeg:https://themotoringdiary.com/wp-content/uploads/2022/01/Goodwood-Revival-Classics-6l4Bi0.tmp_.jpg
ORGANIZER;CN="Goodwood":MAILTO:customer.sales@goodwood.com
GEO:50.859876;-0.751151
END:VEVENT
END:VCALENDAR