BEGIN:VCALENDAR
VERSION:2.0
PRODID:-//The Motoring Diary - ECPv6.15.20//NONSGML v1.0//EN
CALSCALE:GREGORIAN
METHOD:PUBLISH
X-WR-CALNAME:The Motoring Diary
X-ORIGINAL-URL:https://themotoringdiary.com
X-WR-CALDESC:Events for The Motoring Diary
REFRESH-INTERVAL;VALUE=DURATION:PT1H
X-Robots-Tag:noindex
X-PUBLISHED-TTL:PT1H
BEGIN:VTIMEZONE
TZID:Europe/London
BEGIN:DAYLIGHT
TZOFFSETFROM:+0000
TZOFFSETTO:+0100
TZNAME:BST
DTSTART:20210328T010000
END:DAYLIGHT
BEGIN:STANDARD
TZOFFSETFROM:+0100
TZOFFSETTO:+0000
TZNAME:GMT
DTSTART:20211031T010000
END:STANDARD
BEGIN:DAYLIGHT
TZOFFSETFROM:+0000
TZOFFSETTO:+0100
TZNAME:BST
DTSTART:20220327T010000
END:DAYLIGHT
BEGIN:STANDARD
TZOFFSETFROM:+0100
TZOFFSETTO:+0000
TZNAME:GMT
DTSTART:20221030T010000
END:STANDARD
BEGIN:DAYLIGHT
TZOFFSETFROM:+0000
TZOFFSETTO:+0100
TZNAME:BST
DTSTART:20230326T010000
END:DAYLIGHT
BEGIN:STANDARD
TZOFFSETFROM:+0100
TZOFFSETTO:+0000
TZNAME:GMT
DTSTART:20231029T010000
END:STANDARD
BEGIN:DAYLIGHT
TZOFFSETFROM:+0000
TZOFFSETTO:+0100
TZNAME:BST
DTSTART:20240331T010000
END:DAYLIGHT
BEGIN:STANDARD
TZOFFSETFROM:+0100
TZOFFSETTO:+0000
TZNAME:GMT
DTSTART:20241027T010000
END:STANDARD
END:VTIMEZONE
BEGIN:VEVENT
DTSTART;VALUE=DATE:20230126
DTEND;VALUE=DATE:20230130
DTSTAMP:20260420T193652
CREATED:20230106T093842Z
LAST-MODIFIED:20230106T093842Z
UID:10004047-1674691200-1675036799@themotoringdiary.com
SUMMARY:Rolex 24 Hour at Daytona
DESCRIPTION:Since 1962\, racing legends that span the motorsports universe have come to compete in DAYTONA’s endurance sports car classic. From sunrise to sunset to sunrise again\, witness as both man and machine are pushed to the limit in this twice-around-the-clock marathon.\nCelebrate the start of the IMSA WeatherTech Sports Car Championship season with North America’s most prestigious sports car race!
URL:https://themotoringdiary.com/event/rolex-24-hour-at-daytona/
LOCATION:Daytona International Speedway\, One Daytona Boulevard\, Daytona Beach\, FL\, 32114
CATEGORIES:2023,IMSA SportsCar,Motorsport,Sportscars
ATTACH;FMTTYPE=image/png:https://themotoringdiary.com/wp-content/uploads/2023/01/Rolex-24-gkzVoI.tmp_.png
GEO:29.1931944;-81.0714315
X-APPLE-STRUCTURED-LOCATION;VALUE=URI;X-ADDRESS=Daytona International Speedway One Daytona Boulevard Daytona Beach FL 32114;X-APPLE-RADIUS=500;X-TITLE=One Daytona Boulevard:geo:-81.0714315,29.1931944
END:VEVENT
BEGIN:VEVENT
DTSTART;VALUE=DATE:20220220
DTEND;VALUE=DATE:20220221
DTSTAMP:20260420T193652
CREATED:20211230T140154Z
LAST-MODIFIED:20211230T140154Z
UID:10003663-1645315200-1645401599@themotoringdiary.com
SUMMARY:Daytona 500
DESCRIPTION:The DAYTONA 500 is the race you don’t want to miss. Winning this race means you will forever be introduced as a “DAYTONA 500 Champion.” Historic performances\, spectacular finishes and amazing memories await you at “The Great American Race.”
URL:https://themotoringdiary.com/event/daytona-500/
LOCATION:Daytona International Speedway\, One Daytona Boulevard\, Daytona Beach\, FL\, 32114
CATEGORIES:2022,Motorsport
ATTACH;FMTTYPE=image/png:https://themotoringdiary.com/wp-content/uploads/2021/11/Daytona-500-2021.png
GEO:29.1931944;-81.0714315
X-APPLE-STRUCTURED-LOCATION;VALUE=URI;X-ADDRESS=Daytona International Speedway One Daytona Boulevard Daytona Beach FL 32114;X-APPLE-RADIUS=500;X-TITLE=One Daytona Boulevard:geo:-81.0714315,29.1931944
END:VEVENT
BEGIN:VEVENT
DTSTART;VALUE=DATE:20220127
DTEND;VALUE=DATE:20220131
DTSTAMP:20260420T193652
CREATED:20211223T170405Z
LAST-MODIFIED:20211224T142219Z
UID:10003108-1643241600-1643587199@themotoringdiary.com
SUMMARY:IMSA - Rolex 24 at Daytona
DESCRIPTION:
URL:https://themotoringdiary.com/event/imsa-rolex-24-at-daytona/
LOCATION:Daytona International Speedway\, One Daytona Boulevard\, Daytona Beach\, FL\, 32114
CATEGORIES:2022,IMSA SportsCar,Motorsport,Sportscars
ATTACH;FMTTYPE=image/png:https://themotoringdiary.com/wp-content/uploads/2021/11/WeatherTech-IMSA.png
GEO:29.1931944;-81.0714315
X-APPLE-STRUCTURED-LOCATION;VALUE=URI;X-ADDRESS=Daytona International Speedway One Daytona Boulevard Daytona Beach FL 32114;X-APPLE-RADIUS=500;X-TITLE=One Daytona Boulevard:geo:-81.0714315,29.1931944
END:VEVENT
END:VCALENDAR