BEGIN:VCALENDAR
VERSION:2.0
PRODID:-//The Motoring Diary - ECPv6.15.20//NONSGML v1.0//EN
CALSCALE:GREGORIAN
METHOD:PUBLISH
X-ORIGINAL-URL:https://themotoringdiary.com
X-WR-CALDESC:Events for The Motoring Diary
REFRESH-INTERVAL;VALUE=DURATION:PT1H
X-Robots-Tag:noindex
X-PUBLISHED-TTL:PT1H
BEGIN:VTIMEZONE
TZID:Europe/London
BEGIN:DAYLIGHT
TZOFFSETFROM:+0000
TZOFFSETTO:+0100
TZNAME:BST
DTSTART:20210328T010000
END:DAYLIGHT
BEGIN:STANDARD
TZOFFSETFROM:+0100
TZOFFSETTO:+0000
TZNAME:GMT
DTSTART:20211031T010000
END:STANDARD
BEGIN:DAYLIGHT
TZOFFSETFROM:+0000
TZOFFSETTO:+0100
TZNAME:BST
DTSTART:20220327T010000
END:DAYLIGHT
BEGIN:STANDARD
TZOFFSETFROM:+0100
TZOFFSETTO:+0000
TZNAME:GMT
DTSTART:20221030T010000
END:STANDARD
BEGIN:DAYLIGHT
TZOFFSETFROM:+0000
TZOFFSETTO:+0100
TZNAME:BST
DTSTART:20230326T010000
END:DAYLIGHT
BEGIN:STANDARD
TZOFFSETFROM:+0100
TZOFFSETTO:+0000
TZNAME:GMT
DTSTART:20231029T010000
END:STANDARD
BEGIN:DAYLIGHT
TZOFFSETFROM:+0000
TZOFFSETTO:+0100
TZNAME:BST
DTSTART:20240331T010000
END:DAYLIGHT
BEGIN:STANDARD
TZOFFSETFROM:+0100
TZOFFSETTO:+0000
TZNAME:GMT
DTSTART:20241027T010000
END:STANDARD
END:VTIMEZONE
BEGIN:VEVENT
DTSTART;VALUE=DATE:20231112
DTEND;VALUE=DATE:20231113
DTSTAMP:20260421T111715
CREATED:20230124T161601Z
LAST-MODIFIED:20230124T161601Z
UID:10004205-1699747200-1699833599@themotoringdiary.com
SUMMARY:NEC Classic Motor Show Motorcycle Sale
DESCRIPTION:
URL:https://themotoringdiary.com/event/nec-classic-motor-show-motorcycle-sale-2/
LOCATION:NEC\, Birmingham\, B40 1NT\, United Kingdom
CATEGORIES:2023,Auctions,Motorcycle auction,Silverstone Auctions
ATTACH;FMTTYPE=image/png:https://themotoringdiary.com/wp-content/uploads/2023/01/Silverstone-Auctions-stsu9R.tmp_.png
ORGANIZER;CN="Silverstone Auctions":MAILTO:enquiries@silverstoneauctions.com
GEO:52.4525855;-1.7134871
END:VEVENT
BEGIN:VEVENT
DTSTART;VALUE=DATE:20231111
DTEND;VALUE=DATE:20231112
DTSTAMP:20260421T111715
CREATED:20230124T161613Z
LAST-MODIFIED:20230124T161613Z
UID:10004206-1699660800-1699747199@themotoringdiary.com
SUMMARY:NEC Classic Motor Show Sale
DESCRIPTION:
URL:https://themotoringdiary.com/event/nec-classic-motor-show-sale-2/
LOCATION:NEC\, Birmingham\, B40 1NT\, United Kingdom
CATEGORIES:2023,Auctions,Silverstone Auctions
ATTACH;FMTTYPE=image/png:https://themotoringdiary.com/wp-content/uploads/2023/01/Silverstone-Auctions-stsu9R.tmp_.png
ORGANIZER;CN="Silverstone Auctions":MAILTO:enquiries@silverstoneauctions.com
GEO:52.4525855;-1.7134871
END:VEVENT
BEGIN:VEVENT
DTSTART;VALUE=DATE:20230826
DTEND;VALUE=DATE:20230827
DTSTAMP:20260421T111715
CREATED:20230124T161556Z
LAST-MODIFIED:20230124T161556Z
UID:10004204-1693008000-1693094399@themotoringdiary.com
SUMMARY:The Classic Sale at Silverstone Festival
DESCRIPTION:
URL:https://themotoringdiary.com/event/the-classic-sale-at-silverstone-festival/
LOCATION:Silverstone Circuit\, Silverstone\, Towcester\, Northamptonshire\, NN12 8TN\, United Kingdom
CATEGORIES:2023,Auctions,Silverstone Auctions
ATTACH;FMTTYPE=image/png:https://themotoringdiary.com/wp-content/uploads/2023/01/Silverstone-Auctions-stsu9R.tmp_.png
ORGANIZER;CN="Silverstone Auctions":MAILTO:enquiries@silverstoneauctions.com
GEO:52.0746186;-1.0228666
X-APPLE-STRUCTURED-LOCATION;VALUE=URI;X-ADDRESS=Silverstone Circuit Silverstone Towcester Northamptonshire NN12 8TN United Kingdom;X-APPLE-RADIUS=500;X-TITLE=Silverstone:geo:-1.0228666,52.0746186
END:VEVENT
BEGIN:VEVENT
DTSTART;VALUE=DATE:20230804
DTEND;VALUE=DATE:20230805
DTSTAMP:20260421T111715
CREATED:20230124T161623Z
LAST-MODIFIED:20230124T161623Z
UID:10004208-1691107200-1691193599@themotoringdiary.com
SUMMARY:The Dawn Of Motoring Sale
DESCRIPTION:
URL:https://themotoringdiary.com/event/the-dawn-of-motoring-sale/
CATEGORIES:2023,Auctions,Silverstone Auctions
ATTACH;FMTTYPE=image/png:https://themotoringdiary.com/wp-content/uploads/2023/01/Silverstone-Auctions-stsu9R.tmp_.png
ORGANIZER;CN="Silverstone Auctions":MAILTO:enquiries@silverstoneauctions.com
END:VEVENT
BEGIN:VEVENT
DTSTART;VALUE=DATE:20230730
DTEND;VALUE=DATE:20230731
DTSTAMP:20260421T111715
CREATED:20230124T161618Z
LAST-MODIFIED:20230124T161618Z
UID:10004207-1690675200-1690761599@themotoringdiary.com
SUMMARY:The Shuttleworth Motorcycle Sale
DESCRIPTION:
URL:https://themotoringdiary.com/event/the-shuttleworth-motorcycle-sale/
CATEGORIES:2023,Auctions,Motorcycle auction,Silverstone Auctions
ATTACH;FMTTYPE=image/png:https://themotoringdiary.com/wp-content/uploads/2023/01/Silverstone-Auctions-stsu9R.tmp_.png
ORGANIZER;CN="Silverstone Auctions":MAILTO:enquiries@silverstoneauctions.com
END:VEVENT
BEGIN:VEVENT
DTSTART;VALUE=DATE:20230520
DTEND;VALUE=DATE:20230521
DTSTAMP:20260421T111715
CREATED:20230124T161551Z
LAST-MODIFIED:20230124T161551Z
UID:10004203-1684540800-1684627199@themotoringdiary.com
SUMMARY:Supercar Fest Sale
DESCRIPTION:
URL:https://themotoringdiary.com/event/supercar-fest-sale-2/
LOCATION:Sywell Aerodrome\, Hall Farm\, Sywell\, Northamptonshire\, NN6 0BN\, United Kingdom
CATEGORIES:2023,Auctions,Silverstone Auctions
ATTACH;FMTTYPE=image/png:https://themotoringdiary.com/wp-content/uploads/2023/01/Silverstone-Auctions-stsu9R.tmp_.png
ORGANIZER;CN="Silverstone Auctions":MAILTO:enquiries@silverstoneauctions.com
GEO:52.3053889;-0.7885248
X-APPLE-STRUCTURED-LOCATION;VALUE=URI;X-ADDRESS=Sywell Aerodrome Hall Farm Sywell Northamptonshire NN6 0BN United Kingdom;X-APPLE-RADIUS=500;X-TITLE=Hall Farm:geo:-0.7885248,52.3053889
END:VEVENT
BEGIN:VEVENT
DTSTART;VALUE=DATE:20230225
DTEND;VALUE=DATE:20230226
DTSTAMP:20260421T111715
CREATED:20230124T161546Z
LAST-MODIFIED:20230124T161546Z
UID:10004202-1677283200-1677369599@themotoringdiary.com
SUMMARY:Race Retro Classic & Competition Car Sale
DESCRIPTION:
URL:https://themotoringdiary.com/event/race-retro-classic-competition-car-sale/
LOCATION:Stoneleigh Park\, Kenilworth\, Warwickshire\, CV8 2LG\, United Kingdom
CATEGORIES:2023,Auctions,Silverstone Auctions
ATTACH;FMTTYPE=image/png:https://themotoringdiary.com/wp-content/uploads/2023/01/Silverstone-Auctions-stsu9R.tmp_.png
ORGANIZER;CN="Silverstone Auctions":MAILTO:enquiries@silverstoneauctions.com
GEO:52.339779;-1.5276219
END:VEVENT
BEGIN:VEVENT
DTSTART;VALUE=DATE:20230218
DTEND;VALUE=DATE:20230219
DTSTAMP:20260421T111715
CREATED:20230124T161541Z
LAST-MODIFIED:20230124T161541Z
UID:10004201-1676678400-1676764799@themotoringdiary.com
SUMMARY:London Motorcycle Show Sale
DESCRIPTION:Silverstone Motorcycle Auctions is excited to be holding a live auction of classic and contemporary motorcycles at the UK’s favourite bike show on February 11-13\, at ExCeL London. After a years hiatus\, the 2022 Carole Nash MCN London Motorcycle Show will include the usual huge displays of machines from all the major manufacturers\, new model launches and celebrity guests; plus a special bike display. Our not-to-be missed live motorcycle auction will take place from 11am on Saturday 12th February 2022.
URL:https://themotoringdiary.com/event/london-motorcycle-show-sale-2/
LOCATION:ExCeL London\, Royal Victoria Dock\, London\, E16 1XL\, United Kingdom
CATEGORIES:2023,Auctions,Motorcycle auction,Silverstone Auctions
ATTACH;FMTTYPE=image/png:https://themotoringdiary.com/wp-content/uploads/2023/01/Silverstone-Auctions-stsu9R.tmp_.png
ORGANIZER;CN="Silverstone Auctions":MAILTO:enquiries@silverstoneauctions.com
GEO:51.5077767;0.0300599
X-APPLE-STRUCTURED-LOCATION;VALUE=URI;X-ADDRESS=ExCeL London Royal Victoria Dock London E16 1XL United Kingdom;X-APPLE-RADIUS=500;X-TITLE=Royal Victoria Dock:geo:0.0300599,51.5077767
END:VEVENT
BEGIN:VEVENT
DTSTART;VALUE=DATE:20221111
DTEND;VALUE=DATE:20221114
DTSTAMP:20260421T111715
CREATED:20211224T082846Z
LAST-MODIFIED:20211224T082846Z
UID:10003136-1668124800-1668383999@themotoringdiary.com
SUMMARY:NEC Classic Motor Show Motorcycle Sale
DESCRIPTION:
URL:https://themotoringdiary.com/event/nec-classic-motor-show-motorcycle-sale/
LOCATION:NEC\, Birmingham\, B40 1NT\, United Kingdom
CATEGORIES:2022,Auctions,Silverstone Auctions
ATTACH;FMTTYPE=image/png:https://themotoringdiary.com/wp-content/uploads/2021/12/Silverstone-Auctions-1-y5WsAd.tmp_.png
ORGANIZER;CN="Silverstone Auctions":MAILTO:enquiries@silverstoneauctions.com
GEO:52.4525855;-1.7134871
END:VEVENT
BEGIN:VEVENT
DTSTART;VALUE=DATE:20221111
DTEND;VALUE=DATE:20221114
DTSTAMP:20260421T111715
CREATED:20211224T082842Z
LAST-MODIFIED:20211224T082842Z
UID:10003268-1668124800-1668383999@themotoringdiary.com
SUMMARY:NEC Classic Motor Show Sale
DESCRIPTION:
URL:https://themotoringdiary.com/event/nec-classic-motor-show-sale/
LOCATION:NEC\, Birmingham\, B40 1NT\, United Kingdom
CATEGORIES:2022,Auctions,Silverstone Auctions
ATTACH;FMTTYPE=image/png:https://themotoringdiary.com/wp-content/uploads/2021/12/Silverstone-Auctions-1-y5WsAd.tmp_.png
ORGANIZER;CN="Silverstone Auctions":MAILTO:enquiries@silverstoneauctions.com
GEO:52.4525855;-1.7134871
END:VEVENT
BEGIN:VEVENT
DTSTART;VALUE=DATE:20220826
DTEND;VALUE=DATE:20220829
DTSTAMP:20260421T111715
CREATED:20211224T082846Z
LAST-MODIFIED:20211224T082846Z
UID:10003272-1661472000-1661731199@themotoringdiary.com
SUMMARY:The Classic Motorcycle Sale at Silverstone
DESCRIPTION:
URL:https://themotoringdiary.com/event/the-classic-motorcycle-sale-at-silverstone/
LOCATION:Silverstone Circuit\, Silverstone\, Towcester\, Northamptonshire\, NN12 8TN\, United Kingdom
CATEGORIES:2022,Auctions,Silverstone Auctions
ATTACH;FMTTYPE=image/png:https://themotoringdiary.com/wp-content/uploads/2021/12/Silverstone-Auctions-1-y5WsAd.tmp_.png
ORGANIZER;CN="Silverstone Auctions":MAILTO:enquiries@silverstoneauctions.com
GEO:52.0746186;-1.0228666
X-APPLE-STRUCTURED-LOCATION;VALUE=URI;X-ADDRESS=Silverstone Circuit Silverstone Towcester Northamptonshire NN12 8TN United Kingdom;X-APPLE-RADIUS=500;X-TITLE=Silverstone:geo:-1.0228666,52.0746186
END:VEVENT
BEGIN:VEVENT
DTSTART;VALUE=DATE:20220826
DTEND;VALUE=DATE:20220829
DTSTAMP:20260421T111715
CREATED:20211224T082846Z
LAST-MODIFIED:20211224T082846Z
UID:10003134-1661472000-1661731199@themotoringdiary.com
SUMMARY:The Classic Sale at Silverstone
DESCRIPTION:
URL:https://themotoringdiary.com/event/the-classic-sale-at-silverstone/
LOCATION:Silverstone Circuit\, Silverstone\, Towcester\, Northamptonshire\, NN12 8TN\, United Kingdom
CATEGORIES:2022,Auctions,Silverstone Auctions
ATTACH;FMTTYPE=image/png:https://themotoringdiary.com/wp-content/uploads/2021/12/Silverstone-Auctions-1-y5WsAd.tmp_.png
ORGANIZER;CN="Silverstone Auctions":MAILTO:enquiries@silverstoneauctions.com
GEO:52.0746186;-1.0228666
X-APPLE-STRUCTURED-LOCATION;VALUE=URI;X-ADDRESS=Silverstone Circuit Silverstone Towcester Northamptonshire NN12 8TN United Kingdom;X-APPLE-RADIUS=500;X-TITLE=Silverstone:geo:-1.0228666,52.0746186
END:VEVENT
BEGIN:VEVENT
DTSTART;VALUE=DATE:20220604
DTEND;VALUE=DATE:20220605
DTSTAMP:20260421T111715
CREATED:20211224T082842Z
LAST-MODIFIED:20211224T082842Z
UID:10003267-1654300800-1654387199@themotoringdiary.com
SUMMARY:A Sale of Ferraris
DESCRIPTION:
URL:https://themotoringdiary.com/event/a-sale-of-ferraris/
LOCATION:Sywell Aerodrome\, Hall Farm\, Sywell\, Northamptonshire\, NN6 0BN\, United Kingdom
CATEGORIES:2022,Auctions,Silverstone Auctions
ATTACH;FMTTYPE=image/png:https://themotoringdiary.com/wp-content/uploads/2021/12/Silverstone-Auctions-1-y5WsAd.tmp_.png
ORGANIZER;CN="Silverstone Auctions":MAILTO:enquiries@silverstoneauctions.com
GEO:52.3053889;-0.7885248
X-APPLE-STRUCTURED-LOCATION;VALUE=URI;X-ADDRESS=Sywell Aerodrome Hall Farm Sywell Northamptonshire NN6 0BN United Kingdom;X-APPLE-RADIUS=500;X-TITLE=Hall Farm:geo:-0.7885248,52.3053889
END:VEVENT
BEGIN:VEVENT
DTSTART;VALUE=DATE:20220528
DTEND;VALUE=DATE:20220530
DTSTAMP:20260421T111715
CREATED:20211224T082843Z
LAST-MODIFIED:20211224T082843Z
UID:10003271-1653696000-1653868799@themotoringdiary.com
SUMMARY:Supercar Fest Sale
DESCRIPTION:
URL:https://themotoringdiary.com/event/supercar-fest-sale/
LOCATION:Sywell Aerodrome\, Hall Farm\, Sywell\, Northamptonshire\, NN6 0BN\, United Kingdom
CATEGORIES:2022,Auctions,Silverstone Auctions
ATTACH;FMTTYPE=image/png:https://themotoringdiary.com/wp-content/uploads/2021/12/Silverstone-Auctions-1-y5WsAd.tmp_.png
ORGANIZER;CN="Silverstone Auctions":MAILTO:enquiries@silverstoneauctions.com
GEO:52.3053889;-0.7885248
X-APPLE-STRUCTURED-LOCATION;VALUE=URI;X-ADDRESS=Sywell Aerodrome Hall Farm Sywell Northamptonshire NN6 0BN United Kingdom;X-APPLE-RADIUS=500;X-TITLE=Hall Farm:geo:-0.7885248,52.3053889
END:VEVENT
BEGIN:VEVENT
DTSTART;VALUE=DATE:20220305
DTEND;VALUE=DATE:20220306
DTSTAMP:20260421T111715
CREATED:20211224T082843Z
LAST-MODIFIED:20211224T082843Z
UID:10003270-1646438400-1646524799@themotoringdiary.com
SUMMARY:Classic Car Sale
DESCRIPTION:
URL:https://themotoringdiary.com/event/classic-car-sale/
LOCATION:RAF Museum Hendon\, Grahame Park Way\, London\, NW9 5LL\, United Kingdom
CATEGORIES:2022,Auctions,Silverstone Auctions
ATTACH;FMTTYPE=image/png:https://themotoringdiary.com/wp-content/uploads/2021/12/Silverstone-Auctions-1-y5WsAd.tmp_.png
ORGANIZER;CN="Silverstone Auctions":MAILTO:enquiries@silverstoneauctions.com
GEO:51.5989678;-0.238192
X-APPLE-STRUCTURED-LOCATION;VALUE=URI;X-ADDRESS=RAF Museum Hendon Grahame Park Way London NW9 5LL United Kingdom;X-APPLE-RADIUS=500;X-TITLE=Grahame Park Way:geo:-0.238192,51.5989678
END:VEVENT
BEGIN:VEVENT
DTSTART;VALUE=DATE:20220305
DTEND;VALUE=DATE:20220306
DTSTAMP:20260421T111715
CREATED:20211224T082843Z
LAST-MODIFIED:20211224T082843Z
UID:10003269-1646438400-1646524799@themotoringdiary.com
SUMMARY:Competition Car Sale
DESCRIPTION:
URL:https://themotoringdiary.com/event/competition-car-sale/
LOCATION:RAF Museum Hendon\, Grahame Park Way\, London\, NW9 5LL\, United Kingdom
CATEGORIES:2022,Auctions,Silverstone Auctions
ATTACH;FMTTYPE=image/png:https://themotoringdiary.com/wp-content/uploads/2021/12/Silverstone-Auctions-1-y5WsAd.tmp_.png
ORGANIZER;CN="Silverstone Auctions":MAILTO:enquiries@silverstoneauctions.com
GEO:51.5989678;-0.238192
X-APPLE-STRUCTURED-LOCATION;VALUE=URI;X-ADDRESS=RAF Museum Hendon Grahame Park Way London NW9 5LL United Kingdom;X-APPLE-RADIUS=500;X-TITLE=Grahame Park Way:geo:-0.238192,51.5989678
END:VEVENT
BEGIN:VEVENT
DTSTART;VALUE=DATE:20220212
DTEND;VALUE=DATE:20220213
DTSTAMP:20260421T111715
CREATED:20211223T170627Z
LAST-MODIFIED:20211224T085044Z
UID:10003127-1644624000-1644710399@themotoringdiary.com
SUMMARY:London Motorcycle Show Sale
DESCRIPTION:Silverstone Motorcycle Auctions is excited to be holding a live auction of classic and contemporary motorcycles at the UK’s favourite bike show on February 11-13\, at ExCeL London. After a years hiatus\, the 2022 Carole Nash MCN London Motorcycle Show will include the usual huge displays of machines from all the major manufacturers\, new model launches and celebrity guests; plus a special bike display. Our not-to-be missed live motorcycle auction will take place from 11am on Saturday 12th February 2022.
URL:https://themotoringdiary.com/event/london-motorcycle-show-sale/
LOCATION:ExCeL London\, Royal Victoria Dock\, London\, E16 1XL\, United Kingdom
CATEGORIES:2022,Auctions,Motorcycle auction,Silverstone Auctions
ATTACH;FMTTYPE=image/png:https://themotoringdiary.com/wp-content/uploads/2021/11/Silverstone-Auctions-1.png
ORGANIZER;CN="Silverstone Auctions":MAILTO:enquiries@silverstoneauctions.com
GEO:51.5077767;0.0300599
X-APPLE-STRUCTURED-LOCATION;VALUE=URI;X-ADDRESS=ExCeL London Royal Victoria Dock London E16 1XL United Kingdom;X-APPLE-RADIUS=500;X-TITLE=Royal Victoria Dock:geo:0.0300599,51.5077767
END:VEVENT
END:VCALENDAR