BEGIN:VCALENDAR
VERSION:2.0
PRODID:-//The Motoring Diary - ECPv6.15.20//NONSGML v1.0//EN
CALSCALE:GREGORIAN
METHOD:PUBLISH
X-WR-CALNAME:The Motoring Diary
X-ORIGINAL-URL:https://themotoringdiary.com
X-WR-CALDESC:Events for The Motoring Diary
REFRESH-INTERVAL;VALUE=DURATION:PT1H
X-Robots-Tag:noindex
X-PUBLISHED-TTL:PT1H
BEGIN:VTIMEZONE
TZID:Europe/London
BEGIN:DAYLIGHT
TZOFFSETFROM:+0000
TZOFFSETTO:+0100
TZNAME:BST
DTSTART:20210328T010000
END:DAYLIGHT
BEGIN:STANDARD
TZOFFSETFROM:+0100
TZOFFSETTO:+0000
TZNAME:GMT
DTSTART:20211031T010000
END:STANDARD
BEGIN:DAYLIGHT
TZOFFSETFROM:+0000
TZOFFSETTO:+0100
TZNAME:BST
DTSTART:20220327T010000
END:DAYLIGHT
BEGIN:STANDARD
TZOFFSETFROM:+0100
TZOFFSETTO:+0000
TZNAME:GMT
DTSTART:20221030T010000
END:STANDARD
BEGIN:DAYLIGHT
TZOFFSETFROM:+0000
TZOFFSETTO:+0100
TZNAME:BST
DTSTART:20230326T010000
END:DAYLIGHT
BEGIN:STANDARD
TZOFFSETFROM:+0100
TZOFFSETTO:+0000
TZNAME:GMT
DTSTART:20231029T010000
END:STANDARD
END:VTIMEZONE
BEGIN:VEVENT
DTSTART;VALUE=DATE:20221007
DTEND;VALUE=DATE:20221010
DTSTAMP:20260421T141610
CREATED:20211224T162522Z
LAST-MODIFIED:20211224T162522Z
UID:10003527-1665100800-1665359999@themotoringdiary.com
SUMMARY:DTM  - Hockenheim
DESCRIPTION:No other race series worldwide is combining tradition and modernism in such a perfect way as the DTM. Here\, young and elder spectators get to see fascinating motorsport. The touring car races are challenging\, spectacular and many legends are surrounding them. The DTM can’t be compared with anything else. It sparks emotions and invites to dream. Brave overtaking manouevres\, continuous on-track action\, pushing at the limit. Anyone who has ever attended a race is always happy to come back. The DTM is unique.
URL:https://themotoringdiary.com/event/dtm-hockenheim/
LOCATION:Hockenheimring\, Hockenheim\, Germany
CATEGORIES:2022,DTM,Motorsport,Touring Cars
ATTACH;FMTTYPE=image/png:https://themotoringdiary.com/wp-content/uploads/2021/11/DTM.png
GEO:49.319552;8.5498581
END:VEVENT
BEGIN:VEVENT
DTSTART;VALUE=DATE:20220923
DTEND;VALUE=DATE:20220926
DTSTAMP:20260421T141610
CREATED:20211224T162526Z
LAST-MODIFIED:20211224T162526Z
UID:10003534-1663891200-1664150399@themotoringdiary.com
SUMMARY:DTM - Red Bull Ring
DESCRIPTION:No other race series worldwide is combining tradition and modernism in such a perfect way as the DTM. Here\, young and elder spectators get to see fascinating motorsport. The touring car races are challenging\, spectacular and many legends are surrounding them. The DTM can’t be compared with anything else. It sparks emotions and invites to dream. Brave overtaking manouevres\, continuous on-track action\, pushing at the limit. Anyone who has ever attended a race is always happy to come back. The DTM is unique.
URL:https://themotoringdiary.com/event/dtm-red-bull-ring/
LOCATION:Red Bull Ring\, Spielburg\, Austria
CATEGORIES:2022,DTM,Motorsport,Touring Cars
ATTACH;FMTTYPE=image/png:https://themotoringdiary.com/wp-content/uploads/2021/11/DTM.png
GEO:47.2085616;14.7996235
END:VEVENT
BEGIN:VEVENT
DTSTART;VALUE=DATE:20220909
DTEND;VALUE=DATE:20220912
DTSTAMP:20260421T141610
CREATED:20211224T162526Z
LAST-MODIFIED:20211224T162526Z
UID:10003544-1662681600-1662940799@themotoringdiary.com
SUMMARY:DTM - Spa
DESCRIPTION:No other race series worldwide is combining tradition and modernism in such a perfect way as the DTM. Here\, young and elder spectators get to see fascinating motorsport. The touring car races are challenging\, spectacular and many legends are surrounding them. The DTM can’t be compared with anything else. It sparks emotions and invites to dream. Brave overtaking manouevres\, continuous on-track action\, pushing at the limit. Anyone who has ever attended a race is always happy to come back. The DTM is unique.
URL:https://themotoringdiary.com/event/dtm-spa/
LOCATION:Circuit de Spa-Francorchamps\, Stavelot\, Belgium
CATEGORIES:2022,DTM,Motorsport,Touring Cars
ATTACH;FMTTYPE=image/png:https://themotoringdiary.com/wp-content/uploads/2021/11/DTM.png
GEO:50.3940981;5.9304413
END:VEVENT
BEGIN:VEVENT
DTSTART;VALUE=DATE:20220826
DTEND;VALUE=DATE:20220829
DTSTAMP:20260421T141610
CREATED:20211224T162526Z
LAST-MODIFIED:20211224T162526Z
UID:10003532-1661472000-1661731199@themotoringdiary.com
SUMMARY:DTM - Nurburgring
DESCRIPTION:No other race series worldwide is combining tradition and modernism in such a perfect way as the DTM. Here\, young and elder spectators get to see fascinating motorsport. The touring car races are challenging\, spectacular and many legends are surrounding them. The DTM can’t be compared with anything else. It sparks emotions and invites to dream. Brave overtaking manouevres\, continuous on-track action\, pushing at the limit. Anyone who has ever attended a race is always happy to come back. The DTM is unique.
URL:https://themotoringdiary.com/event/dtm-nurburgring/
LOCATION:Nurburgring\, Nürburgring Boulevard 1\, Nürburg\, 53520\, Germany
CATEGORIES:2022,DTM,Motorsport,Touring Cars
ATTACH;FMTTYPE=image/png:https://themotoringdiary.com/wp-content/uploads/2021/11/DTM.png
GEO:50.3340981;6.9426625
X-APPLE-STRUCTURED-LOCATION;VALUE=URI;X-ADDRESS=Nurburgring Nürburgring Boulevard 1 Nürburg 53520 Germany;X-APPLE-RADIUS=500;X-TITLE=Nürburgring Boulevard 1:geo:6.9426625,50.3340981
END:VEVENT
BEGIN:VEVENT
DTSTART;VALUE=DATE:20220701
DTEND;VALUE=DATE:20220704
DTSTAMP:20260421T141610
CREATED:20211224T162523Z
LAST-MODIFIED:20211224T162523Z
UID:10003531-1656633600-1656892799@themotoringdiary.com
SUMMARY:DTM - Norisring
DESCRIPTION:No other race series worldwide is combining tradition and modernism in such a perfect way as the DTM. Here\, young and elder spectators get to see fascinating motorsport. The touring car races are challenging\, spectacular and many legends are surrounding them. The DTM can’t be compared with anything else. It sparks emotions and invites to dream. Brave overtaking manouevres\, continuous on-track action\, pushing at the limit. Anyone who has ever attended a race is always happy to come back. The DTM is unique.
URL:https://themotoringdiary.com/event/dtm-norisring/
LOCATION:Norisring\, Zeppelinstraße\, 90471 Nürnberg\, Germany
CATEGORIES:2022,DTM,Motorsport,Touring Cars
ATTACH;FMTTYPE=image/png:https://themotoringdiary.com/wp-content/uploads/2021/11/DTM.png
GEO:49.4320461;11.1251085
X-APPLE-STRUCTURED-LOCATION;VALUE=URI;X-ADDRESS=Norisring Zeppelinstraße 90471 Nürnberg Germany;X-APPLE-RADIUS=500;X-TITLE=Zeppelinstraße:geo:11.1251085,49.4320461
END:VEVENT
BEGIN:VEVENT
DTSTART;VALUE=DATE:20220617
DTEND;VALUE=DATE:20220620
DTSTAMP:20260421T141610
CREATED:20211224T162522Z
LAST-MODIFIED:20211224T162522Z
UID:10003529-1655424000-1655683199@themotoringdiary.com
SUMMARY:DTM - Imola
DESCRIPTION:No other race series worldwide is combining tradition and modernism in such a perfect way as the DTM. Here\, young and elder spectators get to see fascinating motorsport. The touring car races are challenging\, spectacular and many legends are surrounding them. The DTM can’t be compared with anything else. It sparks emotions and invites to dream. Brave overtaking manouevres\, continuous on-track action\, pushing at the limit. Anyone who has ever attended a race is always happy to come back. The DTM is unique.
URL:https://themotoringdiary.com/event/dtm-imola/
LOCATION:Autodromo Internazionale Enzo e Dino Ferrari\, Piazza Ayrton Senna da Silva\, 1\, 40026 Imola BO\, Italy
CATEGORIES:2022,DTM,Motorsport,Touring Cars
ATTACH;FMTTYPE=image/png:https://themotoringdiary.com/wp-content/uploads/2021/11/DTM.png
GEO:44.3445875;11.7148859
X-APPLE-STRUCTURED-LOCATION;VALUE=URI;X-ADDRESS=Autodromo Internazionale Enzo e Dino Ferrari Piazza Ayrton Senna da Silva 1 40026 Imola BO Italy;X-APPLE-RADIUS=500;X-TITLE=Piazza Ayrton Senna da Silva:geo:11.7148859,44.3445875
END:VEVENT
BEGIN:VEVENT
DTSTART;VALUE=DATE:20220520
DTEND;VALUE=DATE:20220523
DTSTAMP:20260421T141610
CREATED:20211224T162523Z
LAST-MODIFIED:20211224T162523Z
UID:10003530-1653004800-1653263999@themotoringdiary.com
SUMMARY:DTM - Lausitzring
DESCRIPTION:No other race series worldwide is combining tradition and modernism in such a perfect way as the DTM. Here\, young and elder spectators get to see fascinating motorsport. The touring car races are challenging\, spectacular and many legends are surrounding them. The DTM can’t be compared with anything else. It sparks emotions and invites to dream. Brave overtaking manouevres\, continuous on-track action\, pushing at the limit. Anyone who has ever attended a race is always happy to come back. The DTM is unique.
URL:https://themotoringdiary.com/event/dtm-lausitzring/
LOCATION:Lausitzring\, Lausitzallee 1\, 01998 Schipkau\, Germany
CATEGORIES:2022,DTM,Motorsport,Touring Cars
ATTACH;FMTTYPE=image/png:https://themotoringdiary.com/wp-content/uploads/2021/11/DTM.png
GEO:51.5350871;13.9284204
X-APPLE-STRUCTURED-LOCATION;VALUE=URI;X-ADDRESS=Lausitzring Lausitzallee 1 01998 Schipkau Germany;X-APPLE-RADIUS=500;X-TITLE=Lausitzallee 1:geo:13.9284204,51.5350871
END:VEVENT
BEGIN:VEVENT
DTSTART;VALUE=DATE:20220429
DTEND;VALUE=DATE:20220502
DTSTAMP:20260421T141610
CREATED:20211224T162522Z
LAST-MODIFIED:20211224T162522Z
UID:10003528-1651190400-1651449599@themotoringdiary.com
SUMMARY:DTM  - Portimao
DESCRIPTION:No other race series worldwide is combining tradition and modernism in such a perfect way as the DTM. Here\, young and elder spectators get to see fascinating motorsport. The touring car races are challenging\, spectacular and many legends are surrounding them. The DTM can’t be compared with anything else. It sparks emotions and invites to dream. Brave overtaking manouevres\, continuous on-track action\, pushing at the limit. Anyone who has ever attended a race is always happy to come back. The DTM is unique.
URL:https://themotoringdiary.com/event/dtm-portimao/
LOCATION:Autodromo Internacional Do Algarve\, Sítio do Escampadinho\, Mexilhoeira Grande\, 8500-148 Portimão\, Portugal
CATEGORIES:2022,DTM,Motorsport,Touring Cars
ATTACH;FMTTYPE=image/png:https://themotoringdiary.com/wp-content/uploads/2021/11/DTM.png
GEO:37.2427708;-8.624884
X-APPLE-STRUCTURED-LOCATION;VALUE=URI;X-ADDRESS=Autodromo Internacional Do Algarve Sítio do Escampadinho Mexilhoeira Grande 8500-148 Portimão Portugal;X-APPLE-RADIUS=500;X-TITLE=Sítio do Escampadinho:geo:-8.624884,37.2427708
END:VEVENT
END:VCALENDAR