BEGIN:VCALENDAR
VERSION:2.0
PRODID:-//The Motoring Diary - ECPv6.15.20//NONSGML v1.0//EN
CALSCALE:GREGORIAN
METHOD:PUBLISH
X-WR-CALNAME:The Motoring Diary
X-ORIGINAL-URL:https://themotoringdiary.com
X-WR-CALDESC:Events for The Motoring Diary
REFRESH-INTERVAL;VALUE=DURATION:PT1H
X-Robots-Tag:noindex
X-PUBLISHED-TTL:PT1H
BEGIN:VTIMEZONE
TZID:Europe/London
BEGIN:DAYLIGHT
TZOFFSETFROM:+0000
TZOFFSETTO:+0100
TZNAME:BST
DTSTART:20230326T010000
END:DAYLIGHT
BEGIN:STANDARD
TZOFFSETFROM:+0100
TZOFFSETTO:+0000
TZNAME:GMT
DTSTART:20231029T010000
END:STANDARD
BEGIN:DAYLIGHT
TZOFFSETFROM:+0000
TZOFFSETTO:+0100
TZNAME:BST
DTSTART:20240331T010000
END:DAYLIGHT
BEGIN:STANDARD
TZOFFSETFROM:+0100
TZOFFSETTO:+0000
TZNAME:GMT
DTSTART:20241027T010000
END:STANDARD
BEGIN:DAYLIGHT
TZOFFSETFROM:+0000
TZOFFSETTO:+0100
TZNAME:BST
DTSTART:20250330T010000
END:DAYLIGHT
BEGIN:STANDARD
TZOFFSETFROM:+0100
TZOFFSETTO:+0000
TZNAME:GMT
DTSTART:20251026T010000
END:STANDARD
END:VTIMEZONE
BEGIN:VEVENT
DTSTART;VALUE=DATE:20241206
DTEND;VALUE=DATE:20241209
DTSTAMP:20260421T094549
CREATED:20231204T153958Z
LAST-MODIFIED:20231204T153958Z
UID:10004648-1733443200-1733702399@themotoringdiary.com
SUMMARY:F1 Abu Dhabi GP
DESCRIPTION:
URL:https://themotoringdiary.com/event/f1-abu-dhabi-gp-3/
LOCATION:Yas Marina Circuit\, Yas Island\, Abu Dhabi
CATEGORIES:2024,F1,Motorsport,Single Seaters
ATTACH;FMTTYPE=image/jpeg:https://themotoringdiary.com/wp-content/uploads/2023/01/F1-Logo-800x533-gCRzZk.tmp_.jpg
ORGANIZER;CN="Formula 1":MAILTO:F1Media@F1.com
GEO:24.4958385;54.6040121
X-APPLE-STRUCTURED-LOCATION;VALUE=URI;X-ADDRESS=Yas Marina Circuit Yas Island Abu Dhabi;X-APPLE-RADIUS=500;X-TITLE=Yas Island:geo:54.6040121,24.4958385
END:VEVENT
BEGIN:VEVENT
DTSTART;VALUE=DATE:20241129
DTEND;VALUE=DATE:20241202
DTSTAMP:20260421T094549
CREATED:20231204T154008Z
LAST-MODIFIED:20231204T154008Z
UID:10004650-1732838400-1733097599@themotoringdiary.com
SUMMARY:F1 Quatar GP
DESCRIPTION:
URL:https://themotoringdiary.com/event/f1-quatar-gp-2/
LOCATION:Warwickshire
CATEGORIES:2024,F1,Motorsport,Single Seaters
ATTACH;FMTTYPE=image/jpeg:https://themotoringdiary.com/wp-content/uploads/2023/01/F1-Logo-800x533-gCRzZk.tmp_.jpg
ORGANIZER;CN="Formula 1":MAILTO:F1Media@F1.com
END:VEVENT
BEGIN:VEVENT
DTSTART;VALUE=DATE:20241121
DTEND;VALUE=DATE:20241124
DTSTAMP:20260421T094549
CREATED:20231204T154010Z
LAST-MODIFIED:20231204T154010Z
UID:10004651-1732147200-1732406399@themotoringdiary.com
SUMMARY:F1 USA GP 3
DESCRIPTION:
URL:https://themotoringdiary.com/event/f1-usa-gp-3-2/
LOCATION:Warwickshire
CATEGORIES:2024,F1,Motorsport,Single Seaters
ATTACH;FMTTYPE=image/jpeg:https://themotoringdiary.com/wp-content/uploads/2023/01/F1-Logo-800x533-gCRzZk.tmp_.jpg
ORGANIZER;CN="Formula 1":MAILTO:F1Media@F1.com
END:VEVENT
BEGIN:VEVENT
DTSTART;VALUE=DATE:20241110
DTEND;VALUE=DATE:20241111
DTSTAMP:20260421T094549
CREATED:20231204T143550Z
LAST-MODIFIED:20231204T143550Z
UID:10004606-1731196800-1731283199@themotoringdiary.com
SUMMARY:Simply Smart
DESCRIPTION:We have a number of Simply rallies scheduled for 2024. Join us in the grounds of the National Motor Museum\, where owners are invited to drive into Beaulieu and park up to show off their pride and joy. These events are a fantastic day out\, not only for owners\, but also for enthusiasts.
URL:https://themotoringdiary.com/event/simply-smart-3/
LOCATION:Warwickshire
CATEGORIES:2024,Classic Car Show,Museums,National Motor Museum,Shows
ATTACH;FMTTYPE=image/png:https://themotoringdiary.com/wp-content/uploads/2023/01/Beaulieu-qzf6mo.tmp_.png
END:VEVENT
BEGIN:VEVENT
DTSTART;VALUE=DATE:20241101
DTEND;VALUE=DATE:20241104
DTSTAMP:20260421T094549
CREATED:20231204T153956Z
LAST-MODIFIED:20231204T153956Z
UID:10004647-1730419200-1730678399@themotoringdiary.com
SUMMARY:F1 Brazilian GP
DESCRIPTION:
URL:https://themotoringdiary.com/event/f1-brazilian-gp-3/
LOCATION:Interlagos Circuit\, Sao Paulo\, Brazil
CATEGORIES:2024,F1,Motorsport,Single Seaters
ATTACH;FMTTYPE=image/jpeg:https://themotoringdiary.com/wp-content/uploads/2023/01/F1-Logo-800x533-gCRzZk.tmp_.jpg
ORGANIZER;CN="Formula 1":MAILTO:F1Media@F1.com
GEO:'-23.5505199;'-46.6333094
END:VEVENT
BEGIN:VEVENT
DTSTART;VALUE=DATE:20241025
DTEND;VALUE=DATE:20241028
DTSTAMP:20260421T094549
CREATED:20231204T153954Z
LAST-MODIFIED:20231204T153954Z
UID:10004646-1729814400-1730073599@themotoringdiary.com
SUMMARY:F1 Mexican GP
DESCRIPTION:
URL:https://themotoringdiary.com/event/f1-mexican-gp-3/
LOCATION:Autódromo Hermanos Rodríguez\, Mexico City\, Mexico
CATEGORIES:2024,F1,Motorsport,Single Seaters
ATTACH;FMTTYPE=image/jpeg:https://themotoringdiary.com/wp-content/uploads/2023/01/F1-Logo-800x533-gCRzZk.tmp_.jpg
ORGANIZER;CN="Formula 1":MAILTO:F1Media@F1.com
GEO:19.4326077;'-99.133208
END:VEVENT
BEGIN:VEVENT
DTSTART;VALUE=DATE:20241018
DTEND;VALUE=DATE:20241021
DTSTAMP:20260421T094549
CREATED:20231204T153953Z
LAST-MODIFIED:20231204T153953Z
UID:10004645-1729209600-1729468799@themotoringdiary.com
SUMMARY:F1 USA GP 2
DESCRIPTION:
URL:https://themotoringdiary.com/event/f1-usa-gp-2-2/
LOCATION:Circuit of The Americas\, Austin\, TX
CATEGORIES:2024,F1,Motorsport,Single Seaters
ATTACH;FMTTYPE=image/jpeg:https://themotoringdiary.com/wp-content/uploads/2023/01/F1-Logo-800x533-gCRzZk.tmp_.jpg
ORGANIZER;CN="Formula 1":MAILTO:F1Media@F1.com
GEO:30.267153;-97.7430608
END:VEVENT
BEGIN:VEVENT
DTSTART;VALUE=DATE:20241005
DTEND;VALUE=DATE:20241007
DTSTAMP:20260421T094549
CREATED:20231204T150924Z
LAST-MODIFIED:20231204T150924Z
UID:10004625-1728086400-1728259199@themotoringdiary.com
SUMMARY:BTCC - Brands Hatch GP
DESCRIPTION:Rounds 28\, 29\, 30
URL:https://themotoringdiary.com/event/btcc-brands-hatch-gp-2/
LOCATION:Brands Hatch\, West Kingsdown\, Longfield\, Kent\, DA3 8PU\, United Kingdom
CATEGORIES:2024,BTCC,Motorsport,Touring Cars
ATTACH;FMTTYPE=image/jpeg:https://themotoringdiary.com/wp-content/uploads/2023/01/BTCC-Logo-wOSe7l.tmp_.jpg
GEO:51.3611377;0.264664
X-APPLE-STRUCTURED-LOCATION;VALUE=URI;X-ADDRESS=Brands Hatch West Kingsdown Longfield Kent DA3 8PU United Kingdom;X-APPLE-RADIUS=500;X-TITLE=West Kingsdown:geo:0.264664,51.3611377
END:VEVENT
BEGIN:VEVENT
DTSTART;VALUE=DATE:20240929
DTEND;VALUE=DATE:20240930
DTSTAMP:20260421T094549
CREATED:20231204T143522Z
LAST-MODIFIED:20231204T144042Z
UID:10004597-1727568000-1727654399@themotoringdiary.com
SUMMARY:Simply British
DESCRIPTION:We have a number of Simply rallies scheduled for 2024. Join us in the grounds of the National Motor Museum\, where owners are invited to drive into Beaulieu and park up to show off their pride and joy. These events are a fantastic day out\, not only for owners\, but also for enthusiasts.
URL:https://themotoringdiary.com/event/simply-british/
LOCATION:Warwickshire
CATEGORIES:2024,Classic Car Show,Museums,National Motor Museum,Shows
ATTACH;FMTTYPE=image/png:https://themotoringdiary.com/wp-content/uploads/2023/01/Beaulieu-qzf6mo.tmp_.png
END:VEVENT
BEGIN:VEVENT
DTSTART;VALUE=DATE:20240922
DTEND;VALUE=DATE:20240923
DTSTAMP:20260421T094549
CREATED:20231204T143520Z
LAST-MODIFIED:20231204T144040Z
UID:10004596-1726963200-1727049599@themotoringdiary.com
SUMMARY:Simply BMW
DESCRIPTION:We have a number of Simply rallies scheduled for 2024. Join us in the grounds of the National Motor Museum\, where owners are invited to drive into Beaulieu and park up to show off their pride and joy. These events are a fantastic day out\, not only for owners\, but also for enthusiasts.
URL:https://themotoringdiary.com/event/simply-bmw-3/
LOCATION:Warwickshire
CATEGORIES:2024,Classic Car Show,Museums,National Motor Museum,Shows
ATTACH;FMTTYPE=image/png:https://themotoringdiary.com/wp-content/uploads/2023/01/Beaulieu-qzf6mo.tmp_.png
END:VEVENT
BEGIN:VEVENT
DTSTART;VALUE=DATE:20240921
DTEND;VALUE=DATE:20240923
DTSTAMP:20260421T094549
CREATED:20231204T150922Z
LAST-MODIFIED:20231204T150922Z
UID:10004624-1726876800-1727049599@themotoringdiary.com
SUMMARY:BTCC - Silverstone National
DESCRIPTION:Rounds 25\, 26\, 27
URL:https://themotoringdiary.com/event/btcc-silverstone-national-3/
LOCATION:Silverstone Circuit\, Silverstone\, Towcester\, Northamptonshire\, NN12 8TN\, United Kingdom
CATEGORIES:2024,BTCC,Motorsport,Touring Cars
ATTACH;FMTTYPE=image/jpeg:https://themotoringdiary.com/wp-content/uploads/2023/01/BTCC-Logo-wOSe7l.tmp_.jpg
GEO:52.0746186;-1.0228666
X-APPLE-STRUCTURED-LOCATION;VALUE=URI;X-ADDRESS=Silverstone Circuit Silverstone Towcester Northamptonshire NN12 8TN United Kingdom;X-APPLE-RADIUS=500;X-TITLE=Silverstone:geo:-1.0228666,52.0746186
END:VEVENT
BEGIN:VEVENT
DTSTART;VALUE=DATE:20240921
DTEND;VALUE=DATE:20240922
DTSTAMP:20260421T094549
CREATED:20231204T145654Z
LAST-MODIFIED:20231204T145654Z
UID:10004615-1726876800-1726963199@themotoringdiary.com
SUMMARY:Swedish Takeover
DESCRIPTION:Volvo Surrey\, Sussex and Hampshire would like to invite all Swedish car owners and enthusiasts to join them for their Annual Swedish Takeover at Beaulieu on Saturday 15th July.\nThe Swedish Takeover is open to all Swedish cars\, old and new. Whether it’s a 1974 ÖV 4 or a 2021 Uniti One\, all are welcome.
URL:https://themotoringdiary.com/event/swedish-takeover-2/
LOCATION:National Motor Museum\, Beaulieu\, Brockenhurst\, Beaulieu\, Hampshire\, SO42 7ZN\, United Kingdom
CATEGORIES:2024,Classic Car Show,Museums,National Motor Museum,Shows
ATTACH;FMTTYPE=image/png:https://themotoringdiary.com/wp-content/uploads/2023/01/Beaulieu-qzf6mo.tmp_.png
ORGANIZER;CN="National Motor Museum%2C Beaulieu":MAILTO:info@beaulieu.co.uk
GEO:50.8230206;-1.4536012
X-APPLE-STRUCTURED-LOCATION;VALUE=URI;X-ADDRESS=National Motor Museum Beaulieu Brockenhurst Beaulieu Hampshire SO42 7ZN United Kingdom;X-APPLE-RADIUS=500;X-TITLE=Brockenhurst:geo:-1.4536012,50.8230206
END:VEVENT
BEGIN:VEVENT
DTSTART;VALUE=DATE:20240920
DTEND;VALUE=DATE:20240923
DTSTAMP:20260421T094549
CREATED:20231204T153943Z
LAST-MODIFIED:20231204T153943Z
UID:10004643-1726790400-1727049599@themotoringdiary.com
SUMMARY:F1 Singapore GP
DESCRIPTION:
URL:https://themotoringdiary.com/event/f1-singapore-gp-3/
LOCATION:Marina Bay Street Circuit\, Bay Marina\, Singapore
CATEGORIES:2024,F1,Motorsport,Single Seaters
ATTACH;FMTTYPE=image/jpeg:https://themotoringdiary.com/wp-content/uploads/2023/01/F1-Logo-800x533-gCRzZk.tmp_.jpg
ORGANIZER;CN="Formula 1":MAILTO:F1Media@F1.com
GEO:1.2839431;103.8609341
END:VEVENT
BEGIN:VEVENT
DTSTART;VALUE=DATE:20240914
DTEND;VALUE=DATE:20240916
DTSTAMP:20260421T094549
CREATED:20231204T145652Z
LAST-MODIFIED:20231204T145652Z
UID:10004614-1726272000-1726444799@themotoringdiary.com
SUMMARY:International Autojumble
DESCRIPTION:The iconic International Autojumble is back for 2023. Join us on September 2nd and 3rd for the biggest outdoor sale of motoring items this side of the Atlantic.
URL:https://themotoringdiary.com/event/international-autojumble-3/
LOCATION:National Motor Museum\, Beaulieu\, Brockenhurst\, Beaulieu\, Hampshire\, SO42 7ZN\, United Kingdom
CATEGORIES:2024,Autojumble,Automotive,Museums,National Motor Museum
ATTACH;FMTTYPE=image/jpeg:https://themotoringdiary.com/wp-content/uploads/2023/01/Beaulieu-AJ-aAQHHK.tmp_.jpg
ORGANIZER;CN="National Motor Museum%2C Beaulieu":MAILTO:info@beaulieu.co.uk
GEO:50.8230206;-1.4536012
X-APPLE-STRUCTURED-LOCATION;VALUE=URI;X-ADDRESS=National Motor Museum Beaulieu Brockenhurst Beaulieu Hampshire SO42 7ZN United Kingdom;X-APPLE-RADIUS=500;X-TITLE=Brockenhurst:geo:-1.4536012,50.8230206
END:VEVENT
BEGIN:VEVENT
DTSTART;VALUE=DATE:20240913
DTEND;VALUE=DATE:20240916
DTSTAMP:20260421T094549
CREATED:20231204T153923Z
LAST-MODIFIED:20231204T153923Z
UID:10004635-1726185600-1726444799@themotoringdiary.com
SUMMARY:F1 Azerbaijan GP
DESCRIPTION:
URL:https://themotoringdiary.com/event/f1-azerbaijan-gp-3/
LOCATION:Baku City Circuit\, Baku\, Azerbaijan
CATEGORIES:2024,F1,Motorsport,Single Seaters
ATTACH;FMTTYPE=image/jpeg:https://themotoringdiary.com/wp-content/uploads/2023/01/F1-Logo-800x533-gCRzZk.tmp_.jpg
ORGANIZER;CN="Formula 1":MAILTO:F1Media@F1.com
GEO:40.143105;47.576927
END:VEVENT
BEGIN:VEVENT
DTSTART;VALUE=DATE:20240906
DTEND;VALUE=DATE:20240909
DTSTAMP:20260421T094549
CREATED:20231204T152041Z
LAST-MODIFIED:20231204T152041Z
UID:10004628-1725580800-1725839999@themotoringdiary.com
SUMMARY:Goodwood Revival
DESCRIPTION:
URL:https://themotoringdiary.com/event/goodwood-revival-2/
LOCATION:Goodwood Motor Circuit\, Chichester\, West Sussex\, PO18 0PX\, United Kingdom
CATEGORIES:2024,Goodwood,Historic,Motorsport
ATTACH;FMTTYPE=image/png:https://themotoringdiary.com/wp-content/uploads/2023/12/Goodwood-Revival-Wxvcz2.tmp_.png
ORGANIZER;CN="Goodwood":MAILTO:customer.sales@goodwood.com
GEO:50.859876;-0.751151
END:VEVENT
BEGIN:VEVENT
DTSTART;VALUE=DATE:20240901
DTEND;VALUE=DATE:20240902
DTSTAMP:20260421T094549
CREATED:20231204T143530Z
LAST-MODIFIED:20231204T143530Z
UID:10004599-1725148800-1725235199@themotoringdiary.com
SUMMARY:Simply French
DESCRIPTION:We have a number of Simply rallies scheduled for 2024. Join us in the grounds of the National Motor Museum\, where owners are invited to drive into Beaulieu and park up to show off their pride and joy. These events are a fantastic day out\, not only for owners\, but also for enthusiasts.
URL:https://themotoringdiary.com/event/simply-french-3/
LOCATION:Warwickshire
CATEGORIES:2024,Classic Car Show,Museums,National Motor Museum,Shows
ATTACH;FMTTYPE=image/png:https://themotoringdiary.com/wp-content/uploads/2023/01/Beaulieu-qzf6mo.tmp_.png
END:VEVENT
BEGIN:VEVENT
DTSTART;VALUE=DATE:20240830
DTEND;VALUE=DATE:20240902
DTSTAMP:20260421T094549
CREATED:20231204T170023Z
LAST-MODIFIED:20231204T170023Z
UID:10004658-1724976000-1725235199@themotoringdiary.com
SUMMARY:Concours Of Elegance
DESCRIPTION:For three days only\, the gardens at Hampton Court Palace will be home to over 300 of the finest and rarest motor cars ever to be seen. The crown jewels of the automotive world – 1896 pioneers to present day supercars
URL:https://themotoringdiary.com/event/concours-of-elegance-2/
LOCATION:Hampton Court Palace\, Molesey\, East Molesey\, KT8 9AU\, United Kingdom
CATEGORIES:2024,Automotive,Concours,Shows
ATTACH;FMTTYPE=image/png:https://themotoringdiary.com/wp-content/uploads/2023/12/Concours-of-Elegance-uklmlR.tmp_.png
ORGANIZER;CN="Thorough Events":MAILTO:gilli@thoroughevents.co.uk
GEO:51.403813;'-0.3376701
X-APPLE-STRUCTURED-LOCATION;VALUE=URI;X-ADDRESS=Hampton Court Palace Molesey East Molesey KT8 9AU United Kingdom;X-APPLE-RADIUS=500;X-TITLE=Molesey:geo:'-0.3376701,51.403813
END:VEVENT
BEGIN:VEVENT
DTSTART;VALUE=DATE:20240830
DTEND;VALUE=DATE:20240902
DTSTAMP:20260421T094549
CREATED:20231204T153941Z
LAST-MODIFIED:20231204T153941Z
UID:10004642-1724976000-1725235199@themotoringdiary.com
SUMMARY:F1 Italian GP
DESCRIPTION:
URL:https://themotoringdiary.com/event/f1-italian-gp-3/
LOCATION:Autodromo Nazionale Monza\, Monza\, Italy
CATEGORIES:2024,F1,Motorsport,Single Seaters
ATTACH;FMTTYPE=image/jpeg:https://themotoringdiary.com/wp-content/uploads/2023/01/F1-Logo-800x533-gCRzZk.tmp_.jpg
ORGANIZER;CN="Formula 1":MAILTO:F1Media@F1.com
GEO:45.5845001;9.2744485
END:VEVENT
BEGIN:VEVENT
DTSTART;VALUE=DATE:20240828
DTEND;VALUE=DATE:20240901
DTSTAMP:20260421T094549
CREATED:20231204T170021Z
LAST-MODIFIED:20231204T170021Z
UID:10004657-1724803200-1725148799@themotoringdiary.com
SUMMARY:Salon Prive Concours
DESCRIPTION:Now in its 14th year\, Salon Privé returns to Blenheim Palace with their most sensational line-up to date. A Concours d’Elégance in the truest sense\, Salon Privé is the most luxurious of garden parties set out over three days on our South Lawn. Presenting the finest collection of supercars\, hypercars and classic cars\, along with a luxury retail village and exquisite cuisine\, it is a truly unique experience.
URL:https://themotoringdiary.com/event/salon-prive-concours-2/
LOCATION:Blenheim Palace\, Woodstock\, Oxfordshire\, OX20 1PP\, United Kingdom
CATEGORIES:2024,Automotive,Concours,Shows
ATTACH;FMTTYPE=image/png:https://themotoringdiary.com/wp-content/uploads/2023/12/Salon-Prive-05G8Gl.tmp_.png
GEO:51.8463865;-1.361046
X-APPLE-STRUCTURED-LOCATION;VALUE=URI;X-ADDRESS=Blenheim Palace Woodstock Oxfordshire OX20 1PP United Kingdom;X-APPLE-RADIUS=500;X-TITLE=Woodstock:geo:-1.361046,51.8463865
END:VEVENT
BEGIN:VEVENT
DTSTART;VALUE=DATE:20240824
DTEND;VALUE=DATE:20240826
DTSTAMP:20260421T094549
CREATED:20231204T150920Z
LAST-MODIFIED:20231204T150920Z
UID:10004623-1724457600-1724630399@themotoringdiary.com
SUMMARY:BTCC - Donington Park GP
DESCRIPTION:Rounds 22\, 23\, 24
URL:https://themotoringdiary.com/event/btcc-donington-park-gp-2/
LOCATION:Donington Park Circuit\, Castle Donington\, Derby\, Leicestershire\, DE74 2RP\, United Kingdom
CATEGORIES:2024,BTCC,Motorsport,Touring Cars
ATTACH;FMTTYPE=image/jpeg:https://themotoringdiary.com/wp-content/uploads/2023/01/BTCC-Logo-wOSe7l.tmp_.jpg
GEO:52.828346;-1.3724602
X-APPLE-STRUCTURED-LOCATION;VALUE=URI;X-ADDRESS=Donington Park Circuit Castle Donington Derby Leicestershire DE74 2RP United Kingdom;X-APPLE-RADIUS=500;X-TITLE=Castle Donington:geo:-1.3724602,52.828346
END:VEVENT
BEGIN:VEVENT
DTSTART;VALUE=DATE:20240823
DTEND;VALUE=DATE:20240826
DTSTAMP:20260421T094549
CREATED:20231204T164409Z
LAST-MODIFIED:20240111T162307Z
UID:10004654-1724371200-1724630399@themotoringdiary.com
SUMMARY:Silverstone Festival
DESCRIPTION:As ever the record-breaking displays of privately-owned classic cars and unrivalled line-up of retro races from all of motor racing’s golden eras will be right at the heart of The Classic event\, with feverish qualifying sessions followed by a programme of spectacular showdowns across three packed days.\nFeaturing the cream of Europe’s finest historic racing grids\, the races will be set on the famous Silverstone Grand Prix circuit\, which will also continue to witness massive parades honouring key marque and model milestones. \nAs well as enhancing its global reputation as the epicentre of historic racing\, in recent years The Classic has become a massive family attraction\, providing entertainment for all generations to enjoy at the home of British motor racing. \nWhile lovers of automotive nostalgia always revel in all the great competition and road cars from yesteryear\, others immerse themselves in the off-track festivities – the vast majority included absolutely free in the price of admission. \nFun fair rides\, crazy golf on the buzzing Village Green\, dramatic stunt driving displays plus a massive shopping village are now very much part of the show at the Festival\, as is the lure of live music from chart-topping bands which this year features Sophie Ellis-Bextor\, Busted and Olly Murs
URL:https://themotoringdiary.com/event/silverstone-festival/
LOCATION:Silverstone Circuit\, Silverstone\, Towcester\, Northamptonshire\, NN12 8TN\, United Kingdom
CATEGORIES:2024,Goose Live Events,Historic,Motorsport
ATTACH;FMTTYPE=image/png:https://themotoringdiary.com/wp-content/uploads/2023/12/Silverstone-Festival-Logo-.png
ORGANIZER;CN="Goose Live Events":MAILTO:talk@goose.co.uk
GEO:52.0746186;-1.0228666
X-APPLE-STRUCTURED-LOCATION;VALUE=URI;X-ADDRESS=Silverstone Circuit Silverstone Towcester Northamptonshire NN12 8TN United Kingdom;X-APPLE-RADIUS=500;X-TITLE=Silverstone:geo:-1.0228666,52.0746186
END:VEVENT
BEGIN:VEVENT
DTSTART;VALUE=DATE:20240823
DTEND;VALUE=DATE:20240826
DTSTAMP:20260421T094549
CREATED:20231204T153940Z
LAST-MODIFIED:20231204T153940Z
UID:10004641-1724371200-1724630399@themotoringdiary.com
SUMMARY:F1 Dutch GP
DESCRIPTION:
URL:https://themotoringdiary.com/event/f1-dutch-gp-3/
LOCATION:Circuit Park Zandvoort\, burgemeester van alphenstraat 108\, Zandvoort\, 2041\, Netherlands
CATEGORIES:2024,F1,Motorsport,Single Seaters
ATTACH;FMTTYPE=image/jpeg:https://themotoringdiary.com/wp-content/uploads/2023/01/F1-Logo-800x533-gCRzZk.tmp_.jpg
ORGANIZER;CN="Formula 1":MAILTO:F1Media@F1.com
GEO:52.3842476;4.5344808
X-APPLE-STRUCTURED-LOCATION;VALUE=URI;X-ADDRESS=Circuit Park Zandvoort burgemeester van alphenstraat 108 Zandvoort 2041 Netherlands;X-APPLE-RADIUS=500;X-TITLE=burgemeester van alphenstraat 108:geo:4.5344808,52.3842476
END:VEVENT
BEGIN:VEVENT
DTSTART;VALUE=DATE:20240818
DTEND;VALUE=DATE:20240819
DTSTAMP:20260421T094549
CREATED:20231204T143524Z
LAST-MODIFIED:20231204T144045Z
UID:10004598-1723939200-1724025599@themotoringdiary.com
SUMMARY:Simply Ford
DESCRIPTION:We have a number of Simply rallies scheduled for 2024. Join us in the grounds of the National Motor Museum\, where owners are invited to drive into Beaulieu and park up to show off their pride and joy. These events are a fantastic day out\, not only for owners\, but also for enthusiasts.
URL:https://themotoringdiary.com/event/simply-ford-3/
LOCATION:Warwickshire
CATEGORIES:2024,Classic Car Show,Museums,National Motor Museum,Shows
ATTACH;FMTTYPE=image/png:https://themotoringdiary.com/wp-content/uploads/2023/01/Beaulieu-qzf6mo.tmp_.png
END:VEVENT
BEGIN:VEVENT
DTSTART;VALUE=DATE:20240811
DTEND;VALUE=DATE:20240812
DTSTAMP:20260421T094549
CREATED:20231204T145650Z
LAST-MODIFIED:20231204T145650Z
UID:10004613-1723334400-1723420799@themotoringdiary.com
SUMMARY:Graham Walker Run
DESCRIPTION:The annual Graham Walker Memorial Run returns for its 60th vintage and veteran motorcycle gathering at Beaulieu on the 20th August.
URL:https://themotoringdiary.com/event/graham-walker-run-3/
LOCATION:National Motor Museum\, Beaulieu\, Brockenhurst\, Beaulieu\, Hampshire\, SO42 7ZN\, United Kingdom
CATEGORIES:2024,Classic Car Show,Museums,National Motor Museum,Shows
ATTACH;FMTTYPE=image/png:https://themotoringdiary.com/wp-content/uploads/2023/01/Beaulieu-qzf6mo.tmp_.png
ORGANIZER;CN="National Motor Museum%2C Beaulieu":MAILTO:info@beaulieu.co.uk
GEO:50.8230206;-1.4536012
X-APPLE-STRUCTURED-LOCATION;VALUE=URI;X-ADDRESS=National Motor Museum Beaulieu Brockenhurst Beaulieu Hampshire SO42 7ZN United Kingdom;X-APPLE-RADIUS=500;X-TITLE=Brockenhurst:geo:-1.4536012,50.8230206
END:VEVENT
BEGIN:VEVENT
DTSTART;VALUE=DATE:20240811
DTEND;VALUE=DATE:20240812
DTSTAMP:20260421T094549
CREATED:20231204T143546Z
LAST-MODIFIED:20231204T143546Z
UID:10004604-1723334400-1723420799@themotoringdiary.com
SUMMARY:Simply Mercedes
DESCRIPTION:We have a number of Simply rallies scheduled for 2024. Join us in the grounds of the National Motor Museum\, where owners are invited to drive into Beaulieu and park up to show off their pride and joy. These events are a fantastic day out\, not only for owners\, but also for enthusiasts.
URL:https://themotoringdiary.com/event/simply-mercedes-3/
LOCATION:Warwickshire
CATEGORIES:2024,Classic Car Show,Museums,National Motor Museum,Shows
ATTACH;FMTTYPE=image/png:https://themotoringdiary.com/wp-content/uploads/2023/01/Beaulieu-qzf6mo.tmp_.png
END:VEVENT
BEGIN:VEVENT
DTSTART;VALUE=DATE:20240810
DTEND;VALUE=DATE:20240812
DTSTAMP:20260421T094549
CREATED:20231204T150918Z
LAST-MODIFIED:20231204T150918Z
UID:10004622-1723248000-1723420799@themotoringdiary.com
SUMMARY:BTCC - Knockhill
DESCRIPTION:Rounds\, 19\, 20\, 21
URL:https://themotoringdiary.com/event/btcc-knockhill-3/
LOCATION:Knockhill Racing Circuit\, Dunfermline\, Fife\, KY12 9TF\, United Kingdom
CATEGORIES:2024,BTCC,Motorsport,Touring Cars
ATTACH;FMTTYPE=image/jpeg:https://themotoringdiary.com/wp-content/uploads/2023/01/BTCC-Logo-wOSe7l.tmp_.jpg
GEO:56.1317055;-3.5230765
END:VEVENT
BEGIN:VEVENT
DTSTART;VALUE=DATE:20240803
DTEND;VALUE=DATE:20240805
DTSTAMP:20260421T094549
CREATED:20231204T145641Z
LAST-MODIFIED:20231204T145641Z
UID:10004612-1722643200-1722815999@themotoringdiary.com
SUMMARY:Beaulieu Supercar Weekend
DESCRIPTION:We are pleased to announce the return of Beaulieu Supercar Weekend in 2023 on 5 – 6 August; the must-see family spectacular that brings some of the world’s most exclusive and desirable motors to Beaulieu.
URL:https://themotoringdiary.com/event/beaulieu-supercar-weekend-3/
LOCATION:National Motor Museum\, Beaulieu\, Brockenhurst\, Beaulieu\, Hampshire\, SO42 7ZN\, United Kingdom
CATEGORIES:2024,Museums,National Motor Museum,Shows
ORGANIZER;CN="National Motor Museum%2C Beaulieu":MAILTO:info@beaulieu.co.uk
GEO:50.8230206;-1.4536012
X-APPLE-STRUCTURED-LOCATION;VALUE=URI;X-ADDRESS=National Motor Museum Beaulieu Brockenhurst Beaulieu Hampshire SO42 7ZN United Kingdom;X-APPLE-RADIUS=500;X-TITLE=Brockenhurst:geo:-1.4536012,50.8230206
END:VEVENT
BEGIN:VEVENT
DTSTART;VALUE=DATE:20240727
DTEND;VALUE=DATE:20240729
DTSTAMP:20260421T094549
CREATED:20231204T150916Z
LAST-MODIFIED:20231204T150916Z
UID:10004621-1722038400-1722211199@themotoringdiary.com
SUMMARY:BTCC - Croft
DESCRIPTION:Rounds 16\, 17\, 18
URL:https://themotoringdiary.com/event/btcc-croft-3/
LOCATION:Croft\, West Lane\, Dalton On Tees\, North Yorkshire\, DL2 2PL\, United Kingdom
CATEGORIES:2024,BTCC,Motorsport,Touring Cars
ATTACH;FMTTYPE=image/jpeg:https://themotoringdiary.com/wp-content/uploads/2023/01/BTCC-Logo-wOSe7l.tmp_.jpg
GEO:54.4556395;'-1.5496882
X-APPLE-STRUCTURED-LOCATION;VALUE=URI;X-ADDRESS=Croft West Lane Dalton On Tees North Yorkshire DL2 2PL United Kingdom;X-APPLE-RADIUS=500;X-TITLE=West Lane:geo:'-1.5496882,54.4556395
END:VEVENT
BEGIN:VEVENT
DTSTART;VALUE=DATE:20240726
DTEND;VALUE=DATE:20240729
DTSTAMP:20260421T094549
CREATED:20231204T153938Z
LAST-MODIFIED:20231204T153938Z
UID:10004640-1721952000-1722211199@themotoringdiary.com
SUMMARY:F1 Belgian GP
DESCRIPTION:
URL:https://themotoringdiary.com/event/f1-belgian-gp-3/
LOCATION:Circuit de Spa-Francorchamps\, Stavelot\, Belgium
CATEGORIES:2024,F1,Motorsport,Single Seaters
ATTACH;FMTTYPE=image/jpeg:https://themotoringdiary.com/wp-content/uploads/2023/01/F1-Logo-800x533-gCRzZk.tmp_.jpg
ORGANIZER;CN="Formula 1":MAILTO:F1Media@F1.com
GEO:50.3940981;5.9304413
END:VEVENT
END:VCALENDAR