BEGIN:VCALENDAR
VERSION:2.0
PRODID:-//The Motoring Diary - ECPv6.15.20//NONSGML v1.0//EN
CALSCALE:GREGORIAN
METHOD:PUBLISH
X-WR-CALNAME:The Motoring Diary
X-ORIGINAL-URL:https://themotoringdiary.com
X-WR-CALDESC:Events for The Motoring Diary
REFRESH-INTERVAL;VALUE=DURATION:PT1H
X-Robots-Tag:noindex
X-PUBLISHED-TTL:PT1H
BEGIN:VTIMEZONE
TZID:Europe/London
BEGIN:DAYLIGHT
TZOFFSETFROM:+0000
TZOFFSETTO:+0100
TZNAME:BST
DTSTART:20220327T010000
END:DAYLIGHT
BEGIN:STANDARD
TZOFFSETFROM:+0100
TZOFFSETTO:+0000
TZNAME:GMT
DTSTART:20221030T010000
END:STANDARD
BEGIN:DAYLIGHT
TZOFFSETFROM:+0000
TZOFFSETTO:+0100
TZNAME:BST
DTSTART:20230326T010000
END:DAYLIGHT
BEGIN:STANDARD
TZOFFSETFROM:+0100
TZOFFSETTO:+0000
TZNAME:GMT
DTSTART:20231029T010000
END:STANDARD
BEGIN:DAYLIGHT
TZOFFSETFROM:+0000
TZOFFSETTO:+0100
TZNAME:BST
DTSTART:20240331T010000
END:DAYLIGHT
BEGIN:STANDARD
TZOFFSETFROM:+0100
TZOFFSETTO:+0000
TZNAME:GMT
DTSTART:20241027T010000
END:STANDARD
END:VTIMEZONE
BEGIN:VEVENT
DTSTART;VALUE=DATE:20230922
DTEND;VALUE=DATE:20230925
DTSTAMP:20260423T203743
CREATED:20230124T155501Z
LAST-MODIFIED:20230124T155501Z
UID:39848-1695340800-1695599999@themotoringdiary.com
SUMMARY:World Superbikes - Spain\, Aragon
DESCRIPTION:
URL:https://themotoringdiary.com/event/world-superbikes-spain-aragon-2/
LOCATION:Motorland Aragon\, Edificio Circuito de Velocidad\,\, Ctra TE-V 7033\, Km. 1\, 44600 Alcañiz\, Teruel\, Spain
CATEGORIES:2023,Dorna,Motorbikes,Motorsport,World Superbikes,wsbk
ATTACH;FMTTYPE=image/png:https://themotoringdiary.com/wp-content/uploads/2023/01/World-Superbikes-iV4Jdy.tmp_.png
ORGANIZER;CN="Dorna":MAILTO:info.events@dorna.com
GEO:41.0803413;-0.20437
X-APPLE-STRUCTURED-LOCATION;VALUE=URI;X-ADDRESS=Motorland Aragon Edificio Circuito de Velocidad Ctra TE-V 7033 Km. 1 44600 Alcañiz Teruel Spain;X-APPLE-RADIUS=500;X-TITLE=Edificio Circuito de Velocidad\,:geo:-0.20437,41.0803413
END:VEVENT
END:VCALENDAR