BEGIN:VCALENDAR
VERSION:2.0
PRODID:-//The Motoring Diary - ECPv6.15.20//NONSGML v1.0//EN
CALSCALE:GREGORIAN
METHOD:PUBLISH
X-WR-CALNAME:The Motoring Diary
X-ORIGINAL-URL:https://themotoringdiary.com
X-WR-CALDESC:Events for The Motoring Diary
REFRESH-INTERVAL;VALUE=DURATION:PT1H
X-Robots-Tag:noindex
X-PUBLISHED-TTL:PT1H
BEGIN:VTIMEZONE
TZID:Europe/London
BEGIN:DAYLIGHT
TZOFFSETFROM:+0000
TZOFFSETTO:+0100
TZNAME:BST
DTSTART:20220327T010000
END:DAYLIGHT
BEGIN:STANDARD
TZOFFSETFROM:+0100
TZOFFSETTO:+0000
TZNAME:GMT
DTSTART:20221030T010000
END:STANDARD
BEGIN:DAYLIGHT
TZOFFSETFROM:+0000
TZOFFSETTO:+0100
TZNAME:BST
DTSTART:20230326T010000
END:DAYLIGHT
BEGIN:STANDARD
TZOFFSETFROM:+0100
TZOFFSETTO:+0000
TZNAME:GMT
DTSTART:20231029T010000
END:STANDARD
BEGIN:DAYLIGHT
TZOFFSETFROM:+0000
TZOFFSETTO:+0100
TZNAME:BST
DTSTART:20240331T010000
END:DAYLIGHT
BEGIN:STANDARD
TZOFFSETFROM:+0100
TZOFFSETTO:+0000
TZNAME:GMT
DTSTART:20241027T010000
END:STANDARD
END:VTIMEZONE
BEGIN:VEVENT
DTSTART;VALUE=DATE:20230929
DTEND;VALUE=DATE:20231002
DTSTAMP:20260423T174212
CREATED:20230124T155511Z
LAST-MODIFIED:20230124T155511Z
UID:39850-1695945600-1696204799@themotoringdiary.com
SUMMARY:World Superbikes - Portugal
DESCRIPTION:
URL:https://themotoringdiary.com/event/world-superbikes-portugal-3/
LOCATION:Circuito Estoril\, Av. Alfredo César Torres\, 2646-901 Alcabideche\, Portugal
CATEGORIES:2023,Dorna,Motorbikes,Motorsport,World Superbikes,wsbk
ATTACH;FMTTYPE=image/png:https://themotoringdiary.com/wp-content/uploads/2023/01/World-Superbikes-iV4Jdy.tmp_.png
ORGANIZER;CN="Dorna":MAILTO:info.events@dorna.com
GEO:38.7487363;-9.393469
X-APPLE-STRUCTURED-LOCATION;VALUE=URI;X-ADDRESS=Circuito Estoril Av. Alfredo César Torres 2646-901 Alcabideche Portugal;X-APPLE-RADIUS=500;X-TITLE=Av. Alfredo César Torres:geo:-9.393469,38.7487363
END:VEVENT
END:VCALENDAR