BEGIN:VCALENDAR
VERSION:2.0
PRODID:-//The Motoring Diary - ECPv6.15.20//NONSGML v1.0//EN
CALSCALE:GREGORIAN
METHOD:PUBLISH
X-WR-CALNAME:The Motoring Diary
X-ORIGINAL-URL:https://themotoringdiary.com
X-WR-CALDESC:Events for The Motoring Diary
REFRESH-INTERVAL;VALUE=DURATION:PT1H
X-Robots-Tag:noindex
X-PUBLISHED-TTL:PT1H
BEGIN:VTIMEZONE
TZID:Europe/London
BEGIN:DAYLIGHT
TZOFFSETFROM:+0000
TZOFFSETTO:+0100
TZNAME:BST
DTSTART:20220327T010000
END:DAYLIGHT
BEGIN:STANDARD
TZOFFSETFROM:+0100
TZOFFSETTO:+0000
TZNAME:GMT
DTSTART:20221030T010000
END:STANDARD
BEGIN:DAYLIGHT
TZOFFSETFROM:+0000
TZOFFSETTO:+0100
TZNAME:BST
DTSTART:20230326T010000
END:DAYLIGHT
BEGIN:STANDARD
TZOFFSETFROM:+0100
TZOFFSETTO:+0000
TZNAME:GMT
DTSTART:20231029T010000
END:STANDARD
BEGIN:DAYLIGHT
TZOFFSETFROM:+0000
TZOFFSETTO:+0100
TZNAME:BST
DTSTART:20240331T010000
END:DAYLIGHT
BEGIN:STANDARD
TZOFFSETFROM:+0100
TZOFFSETTO:+0000
TZNAME:GMT
DTSTART:20241027T010000
END:STANDARD
END:VTIMEZONE
BEGIN:VEVENT
DTSTART;VALUE=DATE:20230908
DTEND;VALUE=DATE:20230911
DTSTAMP:20260423T113056
CREATED:20230124T155540Z
LAST-MODIFIED:20230124T155540Z
UID:39854-1694131200-1694390399@themotoringdiary.com
SUMMARY:World Superbikes - France
DESCRIPTION:
URL:https://themotoringdiary.com/event/world-superbikes-france-2/
LOCATION:Circuit de Nevers Magny-Cours\, Technopôle\, Magny-Cours\, 58470\, France
CATEGORIES:2023,Dorna,Motorbikes,Motorsport,World Superbikes,wsbk
ATTACH;FMTTYPE=image/png:https://themotoringdiary.com/wp-content/uploads/2023/01/World-Superbikes-iV4Jdy.tmp_.png
ORGANIZER;CN="Dorna":MAILTO:info.events@dorna.com
GEO:46.8676723;3.1616112
X-APPLE-STRUCTURED-LOCATION;VALUE=URI;X-ADDRESS=Circuit de Nevers Magny-Cours Technopôle Magny-Cours 58470 France;X-APPLE-RADIUS=500;X-TITLE=Technopôle:geo:3.1616112,46.8676723
END:VEVENT
END:VCALENDAR