BEGIN:VCALENDAR
VERSION:2.0
PRODID:-//The Motoring Diary - ECPv6.15.20//NONSGML v1.0//EN
CALSCALE:GREGORIAN
METHOD:PUBLISH
X-WR-CALNAME:The Motoring Diary
X-ORIGINAL-URL:https://themotoringdiary.com
X-WR-CALDESC:Events for The Motoring Diary
REFRESH-INTERVAL;VALUE=DURATION:PT1H
X-Robots-Tag:noindex
X-PUBLISHED-TTL:PT1H
BEGIN:VTIMEZONE
TZID:Europe/London
BEGIN:DAYLIGHT
TZOFFSETFROM:+0000
TZOFFSETTO:+0100
TZNAME:BST
DTSTART:20210328T010000
END:DAYLIGHT
BEGIN:STANDARD
TZOFFSETFROM:+0100
TZOFFSETTO:+0000
TZNAME:GMT
DTSTART:20211031T010000
END:STANDARD
BEGIN:DAYLIGHT
TZOFFSETFROM:+0000
TZOFFSETTO:+0100
TZNAME:BST
DTSTART:20220327T010000
END:DAYLIGHT
BEGIN:STANDARD
TZOFFSETFROM:+0100
TZOFFSETTO:+0000
TZNAME:GMT
DTSTART:20221030T010000
END:STANDARD
BEGIN:DAYLIGHT
TZOFFSETFROM:+0000
TZOFFSETTO:+0100
TZNAME:BST
DTSTART:20230326T010000
END:DAYLIGHT
BEGIN:STANDARD
TZOFFSETFROM:+0100
TZOFFSETTO:+0000
TZNAME:GMT
DTSTART:20231029T010000
END:STANDARD
END:VTIMEZONE
BEGIN:VEVENT
DTSTART;VALUE=DATE:20220729
DTEND;VALUE=DATE:20220801
DTSTAMP:20260425T150724
CREATED:20211224T095040Z
LAST-MODIFIED:20211224T100910Z
UID:37162-1659052800-1659311999@themotoringdiary.com
SUMMARY:World Superbikes - Czech Republic
DESCRIPTION:
URL:https://themotoringdiary.com/event/world-superbikes-czech-republic/
LOCATION:Autodrom Most\, Tvrzova 5\, Souš\, 435 02 Most\, Czechia
CATEGORIES:2022,Dorna,Motorbikes,Motorsport,World Superbikes,wsbk
ATTACH;FMTTYPE=image/png:https://themotoringdiary.com/wp-content/uploads/2021/11/World-Superbikes.png
ORGANIZER;CN="Dorna":MAILTO:info.events@dorna.com
GEO:50.5190615;13.6156869
X-APPLE-STRUCTURED-LOCATION;VALUE=URI;X-ADDRESS=Autodrom Most Tvrzova 5 Souš 435 02 Most Czechia;X-APPLE-RADIUS=500;X-TITLE=Tvrzova 5:geo:13.6156869,50.5190615
END:VEVENT
END:VCALENDAR