BEGIN:VCALENDAR
VERSION:2.0
PRODID:-//The Motoring Diary - ECPv6.15.20//NONSGML v1.0//EN
CALSCALE:GREGORIAN
METHOD:PUBLISH
X-WR-CALNAME:The Motoring Diary
X-ORIGINAL-URL:https://themotoringdiary.com
X-WR-CALDESC:Events for The Motoring Diary
REFRESH-INTERVAL;VALUE=DURATION:PT1H
X-Robots-Tag:noindex
X-PUBLISHED-TTL:PT1H
BEGIN:VTIMEZONE
TZID:Europe/London
BEGIN:DAYLIGHT
TZOFFSETFROM:+0000
TZOFFSETTO:+0100
TZNAME:BST
DTSTART:20210328T010000
END:DAYLIGHT
BEGIN:STANDARD
TZOFFSETFROM:+0100
TZOFFSETTO:+0000
TZNAME:GMT
DTSTART:20211031T010000
END:STANDARD
BEGIN:DAYLIGHT
TZOFFSETFROM:+0000
TZOFFSETTO:+0100
TZNAME:BST
DTSTART:20220327T010000
END:DAYLIGHT
BEGIN:STANDARD
TZOFFSETFROM:+0100
TZOFFSETTO:+0000
TZNAME:GMT
DTSTART:20221030T010000
END:STANDARD
BEGIN:DAYLIGHT
TZOFFSETFROM:+0000
TZOFFSETTO:+0100
TZNAME:BST
DTSTART:20230326T010000
END:DAYLIGHT
BEGIN:STANDARD
TZOFFSETFROM:+0100
TZOFFSETTO:+0000
TZNAME:GMT
DTSTART:20231029T010000
END:STANDARD
END:VTIMEZONE
BEGIN:VEVENT
DTSTART;TZID=Europe/London:20220717T100000
DTEND;TZID=Europe/London:20220717T163000
DTSTAMP:20260425T163202
CREATED:20220117T130823Z
LAST-MODIFIED:20220117T130823Z
UID:38639-1658052000-1658075400@themotoringdiary.com
SUMMARY:Wadebridge Wheels
DESCRIPTION:“Wheels Classic Vehicle Show” – for Classic cars\, motorcycles\, commercial vans/lorries\, agricultural\, tractors\, steam (mobile & stationary) and military alongside trade and autojumble stands\, catering facilities\, children’s play area and entertainments on stage. \nEntry is free to exhibitors. Visitor tickets are £7.50 per person\, under-12s free. \nWheels is a fund-raising event and local charities benefit enormously. In 2019\, we raised £28\,000\, and after two years without Wheels\, we’d love to break the £30\,000 barrier on our return.
URL:https://themotoringdiary.com/event/wadebridge-wheels/
LOCATION:Royal Cornwall Showground\, Wadebridge\, Cornwall\, PL27 7JE\, United Kingdom
CATEGORIES:2022,Classic Car Show,Shows
ATTACH;FMTTYPE=image/jpeg:https://themotoringdiary.com/wp-content/uploads/2022/01/422A4112-Triumphs.jpg
ORGANIZER;CN="Wadebridge Rotary":MAILTO:publicity@wadebridgewheels.co.uk
GEO:50.5156361;-4.8654176
X-APPLE-STRUCTURED-LOCATION;VALUE=URI;X-ADDRESS=Royal Cornwall Showground Wadebridge Cornwall PL27 7JE United Kingdom;X-APPLE-RADIUS=500;X-TITLE=Wadebridge:geo:-4.8654176,50.5156361
END:VEVENT
END:VCALENDAR