BEGIN:VCALENDAR
VERSION:2.0
PRODID:-//The Motoring Diary - ECPv6.15.20//NONSGML v1.0//EN
CALSCALE:GREGORIAN
METHOD:PUBLISH
X-WR-CALNAME:The Motoring Diary
X-ORIGINAL-URL:https://themotoringdiary.com
X-WR-CALDESC:Events for The Motoring Diary
REFRESH-INTERVAL;VALUE=DURATION:PT1H
X-Robots-Tag:noindex
X-PUBLISHED-TTL:PT1H
BEGIN:VTIMEZONE
TZID:Europe/London
BEGIN:DAYLIGHT
TZOFFSETFROM:+0000
TZOFFSETTO:+0100
TZNAME:BST
DTSTART:20210328T010000
END:DAYLIGHT
BEGIN:STANDARD
TZOFFSETFROM:+0100
TZOFFSETTO:+0000
TZNAME:GMT
DTSTART:20211031T010000
END:STANDARD
BEGIN:DAYLIGHT
TZOFFSETFROM:+0000
TZOFFSETTO:+0100
TZNAME:BST
DTSTART:20220327T010000
END:DAYLIGHT
BEGIN:STANDARD
TZOFFSETFROM:+0100
TZOFFSETTO:+0000
TZNAME:GMT
DTSTART:20221030T010000
END:STANDARD
BEGIN:DAYLIGHT
TZOFFSETFROM:+0000
TZOFFSETTO:+0100
TZNAME:BST
DTSTART:20230326T010000
END:DAYLIGHT
BEGIN:STANDARD
TZOFFSETFROM:+0100
TZOFFSETTO:+0000
TZNAME:GMT
DTSTART:20231029T010000
END:STANDARD
END:VTIMEZONE
BEGIN:VEVENT
DTSTART;VALUE=DATE:20220910
DTEND;VALUE=DATE:20220912
DTSTAMP:20260425T182049
CREATED:20211223T180943Z
LAST-MODIFIED:20211223T180943Z
UID:36876-1662768000-1662940799@themotoringdiary.com
SUMMARY:VSCC Loton Park Hill Climb
DESCRIPTION:This popular venue\, set within the estate’s picturesque deer park\, is home to two rounds of our VSCC Speed Championship over the course of the weekend. Viewing opportunities are excellent for spectators.
URL:https://themotoringdiary.com/event/vscc-loton-park-hill-climb/
LOCATION:Loton Park Speed Hill Climb\, Alberbury\, Shrewsbury\, Shropshire\, SY5 9AG\, United Kingdom
CATEGORIES:2022,Hill Climbs,Motorsport,Speed,The Vintage Sports-Car Club,Vintage,VSCC
ATTACH;FMTTYPE=image/png:https://themotoringdiary.com/wp-content/uploads/2021/12/VSCC-1-P5UhyY.tmp_.png
ORGANIZER;CN="The Vintage Sports-Car Club":MAILTO:info@vscc.co.uk
GEO:52.7225527;-2.9488012
X-APPLE-STRUCTURED-LOCATION;VALUE=URI;X-ADDRESS=Loton Park Speed Hill Climb Alberbury Shrewsbury Shropshire SY5 9AG United Kingdom;X-APPLE-RADIUS=500;X-TITLE=Alberbury:geo:-2.9488012,52.7225527
END:VEVENT
END:VCALENDAR