BEGIN:VCALENDAR
VERSION:2.0
PRODID:-//The Motoring Diary - ECPv6.15.20//NONSGML v1.0//EN
CALSCALE:GREGORIAN
METHOD:PUBLISH
X-WR-CALNAME:The Motoring Diary
X-ORIGINAL-URL:https://themotoringdiary.com
X-WR-CALDESC:Events for The Motoring Diary
REFRESH-INTERVAL;VALUE=DURATION:PT1H
X-Robots-Tag:noindex
X-PUBLISHED-TTL:PT1H
BEGIN:VTIMEZONE
TZID:Europe/London
BEGIN:DAYLIGHT
TZOFFSETFROM:+0000
TZOFFSETTO:+0100
TZNAME:BST
DTSTART:20210328T010000
END:DAYLIGHT
BEGIN:STANDARD
TZOFFSETFROM:+0100
TZOFFSETTO:+0000
TZNAME:GMT
DTSTART:20211031T010000
END:STANDARD
BEGIN:DAYLIGHT
TZOFFSETFROM:+0000
TZOFFSETTO:+0100
TZNAME:BST
DTSTART:20220327T010000
END:DAYLIGHT
BEGIN:STANDARD
TZOFFSETFROM:+0100
TZOFFSETTO:+0000
TZNAME:GMT
DTSTART:20221030T010000
END:STANDARD
BEGIN:DAYLIGHT
TZOFFSETFROM:+0000
TZOFFSETTO:+0100
TZNAME:BST
DTSTART:20230326T010000
END:DAYLIGHT
BEGIN:STANDARD
TZOFFSETFROM:+0100
TZOFFSETTO:+0000
TZNAME:GMT
DTSTART:20231029T010000
END:STANDARD
END:VTIMEZONE
BEGIN:VEVENT
DTSTART;VALUE=DATE:20220717
DTEND;VALUE=DATE:20220718
DTSTAMP:20260423T203917
CREATED:20211223T181701Z
LAST-MODIFIED:20211223T181701Z
UID:36916-1658016000-1658102399@themotoringdiary.com
SUMMARY:The Ford Show
DESCRIPTION:From the earliest Anglias\, Escorts and Cortinas\, through to the latest Mustangs\, Focuses and Fiestas; the best of the Blue Oval has graced Santa Pod’s famed drag strip since its earliest days. This weekend we once again pay homage the very best of Ford cars (and the occasional Transit van!)\, giving you the opportunity to take your Ford vehicle down the quarter mile. The Ford Show is more than just your average car show however\, with Show & Shine cars\, drag racing demos\, stunt shows\, jet cars and everything else you could possibly imagine to make a great day out for the family and every Ford enthusiast.
URL:https://themotoringdiary.com/event/the-ford-show/
LOCATION:Santa Pod Raceway\, Airfield Road\, Podington\, Wellingborough\, Northamptonshire\, NN29 7XA\, United Kingdom
CATEGORIES:2022,Drag Racing,Motorsport,Santa Pod Raceway
ATTACH;FMTTYPE=image/jpeg:https://themotoringdiary.com/wp-content/uploads/2021/12/santa-pod-2022.jpg
ORGANIZER;CN="Santa Pod Raceway":MAILTO:aimee@santapod.com
GEO:52.2414223;-0.6159423
X-APPLE-STRUCTURED-LOCATION;VALUE=URI;X-ADDRESS=Santa Pod Raceway Airfield Road Podington Wellingborough Northamptonshire NN29 7XA United Kingdom;X-APPLE-RADIUS=500;X-TITLE=Airfield Road\, Podington:geo:-0.6159423,52.2414223
END:VEVENT
END:VCALENDAR