BEGIN:VCALENDAR
VERSION:2.0
PRODID:-//The Motoring Diary - ECPv6.15.20//NONSGML v1.0//EN
CALSCALE:GREGORIAN
METHOD:PUBLISH
X-WR-CALNAME:The Motoring Diary
X-ORIGINAL-URL:https://themotoringdiary.com
X-WR-CALDESC:Events for The Motoring Diary
REFRESH-INTERVAL;VALUE=DURATION:PT1H
X-Robots-Tag:noindex
X-PUBLISHED-TTL:PT1H
BEGIN:VTIMEZONE
TZID:Europe/London
BEGIN:DAYLIGHT
TZOFFSETFROM:+0000
TZOFFSETTO:+0100
TZNAME:BST
DTSTART:20210328T010000
END:DAYLIGHT
BEGIN:STANDARD
TZOFFSETFROM:+0100
TZOFFSETTO:+0000
TZNAME:GMT
DTSTART:20211031T010000
END:STANDARD
BEGIN:DAYLIGHT
TZOFFSETFROM:+0000
TZOFFSETTO:+0100
TZNAME:BST
DTSTART:20220327T010000
END:DAYLIGHT
BEGIN:STANDARD
TZOFFSETFROM:+0100
TZOFFSETTO:+0000
TZNAME:GMT
DTSTART:20221030T010000
END:STANDARD
BEGIN:DAYLIGHT
TZOFFSETFROM:+0000
TZOFFSETTO:+0100
TZNAME:BST
DTSTART:20230326T010000
END:DAYLIGHT
BEGIN:STANDARD
TZOFFSETFROM:+0100
TZOFFSETTO:+0000
TZNAME:GMT
DTSTART:20231029T010000
END:STANDARD
END:VTIMEZONE
BEGIN:VEVENT
DTSTART;VALUE=DATE:20220127
DTEND;VALUE=DATE:20220128
DTSTAMP:20260420T230544
CREATED:20211223T170405Z
LAST-MODIFIED:20211227T092347Z
UID:36804-1643241600-1643327999@themotoringdiary.com
SUMMARY:Scottsdale Auction
DESCRIPTION:
URL:https://themotoringdiary.com/event/scottsdale-auction/
LOCATION:The Westin Kierland Resort & Spa\, 6902 East Greenway Parkway\, Phoenix\, AZ\, 85254
CATEGORIES:2022,Auctions,Bonhams
ATTACH;FMTTYPE=image/png:https://themotoringdiary.com/wp-content/uploads/2021/12/Bonhams-2-6d8jeO.tmp_.png
ORGANIZER;CN="Bonhams":MAILTO:Malcolm.Barber@bonhams.com
GEO:33.6254335;-111.9331991
X-APPLE-STRUCTURED-LOCATION;VALUE=URI;X-ADDRESS=The Westin Kierland Resort & Spa 6902 East Greenway Parkway Phoenix AZ 85254;X-APPLE-RADIUS=500;X-TITLE=6902 East Greenway Parkway:geo:-111.9331991,33.6254335
END:VEVENT
END:VCALENDAR