BEGIN:VCALENDAR
VERSION:2.0
PRODID:-//The Motoring Diary - ECPv6.15.20//NONSGML v1.0//EN
CALSCALE:GREGORIAN
METHOD:PUBLISH
X-WR-CALNAME:The Motoring Diary
X-ORIGINAL-URL:https://themotoringdiary.com
X-WR-CALDESC:Events for The Motoring Diary
REFRESH-INTERVAL;VALUE=DURATION:PT1H
X-Robots-Tag:noindex
X-PUBLISHED-TTL:PT1H
BEGIN:VTIMEZONE
TZID:Europe/London
BEGIN:DAYLIGHT
TZOFFSETFROM:+0000
TZOFFSETTO:+0100
TZNAME:BST
DTSTART:20210328T010000
END:DAYLIGHT
BEGIN:STANDARD
TZOFFSETFROM:+0100
TZOFFSETTO:+0000
TZNAME:GMT
DTSTART:20211031T010000
END:STANDARD
BEGIN:DAYLIGHT
TZOFFSETFROM:+0000
TZOFFSETTO:+0100
TZNAME:BST
DTSTART:20220327T010000
END:DAYLIGHT
BEGIN:STANDARD
TZOFFSETFROM:+0100
TZOFFSETTO:+0000
TZNAME:GMT
DTSTART:20221030T010000
END:STANDARD
BEGIN:DAYLIGHT
TZOFFSETFROM:+0000
TZOFFSETTO:+0100
TZNAME:BST
DTSTART:20230326T010000
END:DAYLIGHT
BEGIN:STANDARD
TZOFFSETFROM:+0100
TZOFFSETTO:+0000
TZNAME:GMT
DTSTART:20231029T010000
END:STANDARD
END:VTIMEZONE
BEGIN:VEVENT
DTSTART;TZID=Europe/London:20220208T180000
DTEND;TZID=Europe/London:20220208T210000
DTSTAMP:20260425T234131
CREATED:20220118T194542Z
LAST-MODIFIED:20220118T194542Z
UID:38697-1644343200-1644354000@themotoringdiary.com
SUMMARY:Quiz Night at the British Motor Museum
DESCRIPTION:Back by popular demand\, join us for the second British Motor Museum Quiz Night led by special guest Danny Hopkins of Practical Classics. All proceeds of the event will go towards the vital work of the British Motor Industry Heritage Trust. \nPut together a team and enjoy a fun night out while testing your knowledge and exploring the Museum.\nDon’t worry if you’re not a classic car buff\, we promise there will be a mix of questions to keep you entertained! There will be 5 rounds in total including music and movies. \nYour ticket includes time to look around the Museum\, hours of fun entertainment\, Pie & Mash\, pudding and possibly the ultimate bragging rights among your friends! \nMaximum of 6 people per team. There will be a cash prize for the winning team. \nTicket price of £15 per person includes: time to explore the Museum; the quiz led by special guest Danny Hopkins of Practical Classics; Pie & Mash and pudding. All tickets must be booked in advance. \nTo find out more information please visit the website at https://www.britishmotormuseum.co.uk/whats-on
URL:https://themotoringdiary.com/event/quiz-night-at-the-british-motor-museum/
LOCATION:British Motor Museum\, Banbury Road\, Gaydon\, Warwickshire\, CV35 0BJ\, United Kingdom
CATEGORIES:2022,British Motor Museum,Social Meets
ATTACH;FMTTYPE=image/jpeg:https://themotoringdiary.com/wp-content/uploads/2022/01/Quiz-Night-scaled.jpg
ORGANIZER;CN="British Motor Museum":MAILTO:enquiries@britishmotormuseum.co.uk
GEO:52.1966401;-1.4808344
X-APPLE-STRUCTURED-LOCATION;VALUE=URI;X-ADDRESS=British Motor Museum Banbury Road Gaydon Warwickshire CV35 0BJ United Kingdom;X-APPLE-RADIUS=500;X-TITLE=Banbury Road:geo:-1.4808344,52.1966401
END:VEVENT
END:VCALENDAR