BEGIN:VCALENDAR
VERSION:2.0
PRODID:-//The Motoring Diary - ECPv6.15.20//NONSGML v1.0//EN
CALSCALE:GREGORIAN
METHOD:PUBLISH
X-WR-CALNAME:The Motoring Diary
X-ORIGINAL-URL:https://themotoringdiary.com
X-WR-CALDESC:Events for The Motoring Diary
REFRESH-INTERVAL;VALUE=DURATION:PT1H
X-Robots-Tag:noindex
X-PUBLISHED-TTL:PT1H
BEGIN:VTIMEZONE
TZID:Europe/London
BEGIN:DAYLIGHT
TZOFFSETFROM:+0000
TZOFFSETTO:+0100
TZNAME:BST
DTSTART:20210328T010000
END:DAYLIGHT
BEGIN:STANDARD
TZOFFSETFROM:+0100
TZOFFSETTO:+0000
TZNAME:GMT
DTSTART:20211031T010000
END:STANDARD
BEGIN:DAYLIGHT
TZOFFSETFROM:+0000
TZOFFSETTO:+0100
TZNAME:BST
DTSTART:20220327T010000
END:DAYLIGHT
BEGIN:STANDARD
TZOFFSETFROM:+0100
TZOFFSETTO:+0000
TZNAME:GMT
DTSTART:20221030T010000
END:STANDARD
BEGIN:DAYLIGHT
TZOFFSETFROM:+0000
TZOFFSETTO:+0100
TZNAME:BST
DTSTART:20230326T010000
END:DAYLIGHT
BEGIN:STANDARD
TZOFFSETFROM:+0100
TZOFFSETTO:+0000
TZNAME:GMT
DTSTART:20231029T010000
END:STANDARD
END:VTIMEZONE
BEGIN:VEVENT
DTSTART;TZID=Europe/London:20220702T080000
DTEND;TZID=Europe/London:20220703T170000
DTSTAMP:20260425T215546
CREATED:20211230T103003Z
LAST-MODIFIED:20211230T103003Z
UID:37616-1656748800-1656867600@themotoringdiary.com
SUMMARY:Piston Power
DESCRIPTION:Our early July Piston Power meeting for competitors to test their speed against the hill as the season gets into it’s stride. Times will be tumbling as drivers get their eye in on what is usually a sunny fun day.
URL:https://themotoringdiary.com/event/piston-power/
LOCATION:Shelsley Walsh Speed Hill Climb\, Shelsley Walsh\, Worcester\, Worcestershire\, WR6 6RP\, United Kingdom
CATEGORIES:2022,Club Motorsport,Hill Climbs,Motorsport,Shelsey Walsh Hill Climb
ATTACH;FMTTYPE=image/jpeg:https://themotoringdiary.com/wp-content/uploads/2021/12/Geoff-Robinson-08-08-2020-GPR-31-1-OEf93e.tmp_.jpg
ORGANIZER;CN="Midland Automobile Club":MAILTO:info@mac1901.co.uk
GEO:52.265542;-2.409403
X-APPLE-STRUCTURED-LOCATION;VALUE=URI;X-ADDRESS=Shelsley Walsh Speed Hill Climb Shelsley Walsh Worcester Worcestershire WR6 6RP United Kingdom;X-APPLE-RADIUS=500;X-TITLE=Shelsley Walsh:geo:-2.409403,52.265542
END:VEVENT
END:VCALENDAR