BEGIN:VCALENDAR
VERSION:2.0
PRODID:-//The Motoring Diary - ECPv6.15.20//NONSGML v1.0//EN
CALSCALE:GREGORIAN
METHOD:PUBLISH
X-WR-CALNAME:The Motoring Diary
X-ORIGINAL-URL:https://themotoringdiary.com
X-WR-CALDESC:Events for The Motoring Diary
REFRESH-INTERVAL;VALUE=DURATION:PT1H
X-Robots-Tag:noindex
X-PUBLISHED-TTL:PT1H
BEGIN:VTIMEZONE
TZID:Europe/London
BEGIN:DAYLIGHT
TZOFFSETFROM:+0000
TZOFFSETTO:+0100
TZNAME:BST
DTSTART:20210328T010000
END:DAYLIGHT
BEGIN:STANDARD
TZOFFSETFROM:+0100
TZOFFSETTO:+0000
TZNAME:GMT
DTSTART:20211031T010000
END:STANDARD
BEGIN:DAYLIGHT
TZOFFSETFROM:+0000
TZOFFSETTO:+0100
TZNAME:BST
DTSTART:20220327T010000
END:DAYLIGHT
BEGIN:STANDARD
TZOFFSETFROM:+0100
TZOFFSETTO:+0000
TZNAME:GMT
DTSTART:20221030T010000
END:STANDARD
BEGIN:DAYLIGHT
TZOFFSETFROM:+0000
TZOFFSETTO:+0100
TZNAME:BST
DTSTART:20230326T010000
END:DAYLIGHT
BEGIN:STANDARD
TZOFFSETFROM:+0100
TZOFFSETTO:+0000
TZNAME:GMT
DTSTART:20231029T010000
END:STANDARD
END:VTIMEZONE
BEGIN:VEVENT
DTSTART;VALUE=DATE:20220130
DTEND;VALUE=DATE:20220131
DTSTAMP:20260421T021923
CREATED:20211223T170406Z
LAST-MODIFIED:20211224T143249Z
UID:36806-1643500800-1643587199@themotoringdiary.com
SUMMARY:Normous Newark Autojumble
DESCRIPTION:A great day out for any car or motorcycle enthusiast\, the ‘Normous Newark Autojumble offers a vast array of parts\, restoration services and related products for a variety of vehicles on ten separate Sundays throughout the year.\nEach ‘Normous Newark Autojumble sees Newark Showground filled with hundreds of inside and outside trade plots\, as well as a classic car and bike display area. On site catering units are available as well as an inside cafeteria. \nRun by a friendly and experienced team of event staff from Mortons Media\, each ‘Normous Newark Autojumble attracts a large number of visitors from across the UK in search of the great finds and bargains on offer. \nIf you’re after a certain part\, piece or tool for a motoring project\, then the ‘Normous Newark Autojumble is where you’ll find it. \nEasy access from Newark\, Lincoln and Nottingham\, just off the A1/A46/A47 junction\, certainly the best regular Autojumble in the UK for Nottinghamshire\, Lincolnshire\, Derbyshire\, Yorkshire\, Leicestershire and beyond.
URL:https://themotoringdiary.com/event/normous-newark-autojumble/
LOCATION:Newark Showground\, Drove Lane\, Winthorpe\, Newrak\, Nottinghamshire\, NG24 2NY\, United Kingdom
CATEGORIES:2022,Autojumble,Automotive,Mortons Media
ATTACH;FMTTYPE=image/png:https://themotoringdiary.com/wp-content/uploads/2021/11/Normous-Newark-Autojumble.png
ORGANIZER;CN="Mortons Media Group":MAILTO:shows@mortons.co.uk
GEO:53.1009075;-0.767607
X-APPLE-STRUCTURED-LOCATION;VALUE=URI;X-ADDRESS=Newark Showground Drove Lane Winthorpe Newrak Nottinghamshire NG24 2NY United Kingdom;X-APPLE-RADIUS=500;X-TITLE=Drove Lane:geo:-0.767607,53.1009075
END:VEVENT
END:VCALENDAR