BEGIN:VCALENDAR
VERSION:2.0
PRODID:-//The Motoring Diary - ECPv6.15.20//NONSGML v1.0//EN
CALSCALE:GREGORIAN
METHOD:PUBLISH
X-WR-CALNAME:The Motoring Diary
X-ORIGINAL-URL:https://themotoringdiary.com
X-WR-CALDESC:Events for The Motoring Diary
REFRESH-INTERVAL;VALUE=DURATION:PT1H
X-Robots-Tag:noindex
X-PUBLISHED-TTL:PT1H
BEGIN:VTIMEZONE
TZID:Europe/London
BEGIN:DAYLIGHT
TZOFFSETFROM:+0000
TZOFFSETTO:+0100
TZNAME:BST
DTSTART:20220327T010000
END:DAYLIGHT
BEGIN:STANDARD
TZOFFSETFROM:+0100
TZOFFSETTO:+0000
TZNAME:GMT
DTSTART:20221030T010000
END:STANDARD
BEGIN:DAYLIGHT
TZOFFSETFROM:+0000
TZOFFSETTO:+0100
TZNAME:BST
DTSTART:20230326T010000
END:DAYLIGHT
BEGIN:STANDARD
TZOFFSETFROM:+0100
TZOFFSETTO:+0000
TZNAME:GMT
DTSTART:20231029T010000
END:STANDARD
BEGIN:DAYLIGHT
TZOFFSETFROM:+0000
TZOFFSETTO:+0100
TZNAME:BST
DTSTART:20240331T010000
END:DAYLIGHT
BEGIN:STANDARD
TZOFFSETFROM:+0100
TZOFFSETTO:+0000
TZNAME:GMT
DTSTART:20241027T010000
END:STANDARD
END:VTIMEZONE
BEGIN:VEVENT
DTSTART;VALUE=DATE:20230315
DTEND;VALUE=DATE:20230319
DTSTAMP:20260420T175307
CREATED:20230106T093844Z
LAST-MODIFIED:20230106T093844Z
UID:39604-1678838400-1679183999@themotoringdiary.com
SUMMARY:IMSA - 12 Hr of Sebring
DESCRIPTION:
URL:https://themotoringdiary.com/event/imsa-12-hr-of-sebring-2/
LOCATION:Sebring International Raceway\, 113 Midway Dr\, Sebring\, FL\, 33870
CATEGORIES:2023,IMSA SportsCar,Motorsport,Sportscars
ATTACH;FMTTYPE=image/png:https://themotoringdiary.com/wp-content/uploads/2023/01/WeatherTech-IMSA-ltpO9W.tmp_.png
GEO:27.4550124;-81.3496801
X-APPLE-STRUCTURED-LOCATION;VALUE=URI;X-ADDRESS=Sebring International Raceway 113 Midway Dr Sebring FL 33870;X-APPLE-RADIUS=500;X-TITLE=113 Midway Dr:geo:-81.3496801,27.4550124
END:VEVENT
END:VCALENDAR