BEGIN:VCALENDAR
VERSION:2.0
PRODID:-//The Motoring Diary - ECPv6.15.20//NONSGML v1.0//EN
CALSCALE:GREGORIAN
METHOD:PUBLISH
X-WR-CALNAME:The Motoring Diary
X-ORIGINAL-URL:https://themotoringdiary.com
X-WR-CALDESC:Events for The Motoring Diary
REFRESH-INTERVAL;VALUE=DURATION:PT1H
X-Robots-Tag:noindex
X-PUBLISHED-TTL:PT1H
BEGIN:VTIMEZONE
TZID:Europe/London
BEGIN:DAYLIGHT
TZOFFSETFROM:+0000
TZOFFSETTO:+0100
TZNAME:BST
DTSTART:20210328T010000
END:DAYLIGHT
BEGIN:STANDARD
TZOFFSETFROM:+0100
TZOFFSETTO:+0000
TZNAME:GMT
DTSTART:20211031T010000
END:STANDARD
BEGIN:DAYLIGHT
TZOFFSETFROM:+0000
TZOFFSETTO:+0100
TZNAME:BST
DTSTART:20220327T010000
END:DAYLIGHT
BEGIN:STANDARD
TZOFFSETFROM:+0100
TZOFFSETTO:+0000
TZNAME:GMT
DTSTART:20221030T010000
END:STANDARD
BEGIN:DAYLIGHT
TZOFFSETFROM:+0000
TZOFFSETTO:+0100
TZNAME:BST
DTSTART:20230326T010000
END:DAYLIGHT
BEGIN:STANDARD
TZOFFSETFROM:+0100
TZOFFSETTO:+0000
TZNAME:GMT
DTSTART:20231029T010000
END:STANDARD
END:VTIMEZONE
BEGIN:VEVENT
DTSTART;TZID=Europe/London:20220219T100000
DTEND;TZID=Europe/London:20220227T170000
DTSTAMP:20260426T013157
CREATED:20220118T194447Z
LAST-MODIFIED:20220118T194447Z
UID:38694-1645264800-1645981200@themotoringdiary.com
SUMMARY:F1 Fun this February half-term at the British Motor Museum
DESCRIPTION:Fuel their imagination this half term with a range of Formula One racing themed family activities at the British Motor Museum. Make a LEGO® F1 car\, enjoy a weekend family tour with our ‘resident racing driver’ and follow the new Road Map family trail to explore the cars in our collection. Join our crazy scientists to discover the secrets of speed at their ever-popular Science Shows on 21-22 and 24-25 February or make and launch Rocket Cars with the STEM ambassadors from MOD Kineton on 23 February. \nFor more information visit www.britishmotormuseum.co.uk/whats-on. Family annual pass from £40 (t’s & c’s apply).
URL:https://themotoringdiary.com/event/f1-fun-this-february-half-term-at-the-british-motor-museum/
LOCATION:British Motor Museum\, Banbury Road\, Gaydon\, Warwickshire\, CV35 0BJ\, United Kingdom
CATEGORIES:2022,British Motor Museum,Museums,Shows
ATTACH;FMTTYPE=image/jpeg:https://themotoringdiary.com/wp-content/uploads/2022/01/February-Half-Term-2022-Image-scaled.jpg
ORGANIZER;CN="British Motor Museum":MAILTO:enquiries@britishmotormuseum.co.uk
GEO:52.1966401;-1.4808344
X-APPLE-STRUCTURED-LOCATION;VALUE=URI;X-ADDRESS=British Motor Museum Banbury Road Gaydon Warwickshire CV35 0BJ United Kingdom;X-APPLE-RADIUS=500;X-TITLE=Banbury Road:geo:-1.4808344,52.1966401
END:VEVENT
END:VCALENDAR