BEGIN:VCALENDAR
VERSION:2.0
PRODID:-//The Motoring Diary - ECPv6.15.20//NONSGML v1.0//EN
CALSCALE:GREGORIAN
METHOD:PUBLISH
X-WR-CALNAME:The Motoring Diary
X-ORIGINAL-URL:https://themotoringdiary.com
X-WR-CALDESC:Events for The Motoring Diary
REFRESH-INTERVAL;VALUE=DURATION:PT1H
X-Robots-Tag:noindex
X-PUBLISHED-TTL:PT1H
BEGIN:VTIMEZONE
TZID:Europe/London
BEGIN:DAYLIGHT
TZOFFSETFROM:+0000
TZOFFSETTO:+0100
TZNAME:BST
DTSTART:20220327T010000
END:DAYLIGHT
BEGIN:STANDARD
TZOFFSETFROM:+0100
TZOFFSETTO:+0000
TZNAME:GMT
DTSTART:20221030T010000
END:STANDARD
BEGIN:DAYLIGHT
TZOFFSETFROM:+0000
TZOFFSETTO:+0100
TZNAME:BST
DTSTART:20230326T010000
END:DAYLIGHT
BEGIN:STANDARD
TZOFFSETFROM:+0100
TZOFFSETTO:+0000
TZNAME:GMT
DTSTART:20231029T010000
END:STANDARD
BEGIN:DAYLIGHT
TZOFFSETFROM:+0000
TZOFFSETTO:+0100
TZNAME:BST
DTSTART:20240331T010000
END:DAYLIGHT
BEGIN:STANDARD
TZOFFSETFROM:+0100
TZOFFSETTO:+0000
TZNAME:GMT
DTSTART:20241027T010000
END:STANDARD
END:VTIMEZONE
BEGIN:VEVENT
DTSTART;VALUE=DATE:20231014
DTEND;VALUE=DATE:20231016
DTSTAMP:20260425T164840
CREATED:20230124T114256Z
LAST-MODIFIED:20230124T114256Z
UID:39738-1697241600-1697414399@themotoringdiary.com
SUMMARY:Classic Motorcycle Mechanics Show
DESCRIPTION:Celebrating the growing popularity of emerging and modern classics from the 1960s\, 70s and 80s\, the Carole Nash Classic Motorcycle Mechanics Show has grown in popularity year after year and now regularly welcomes more than 30\,000 enthusiasts through its doors. Taking place at the superb Staffordshire County Showground the event features over 900 traders\, dealers and autojumble stands offering a wealth of parts and spares for every project.\n There’s a host of excellent club stands\, exciting live action\, the Bonhams autumn sale\, classic off-road machines and special guest stars from iconic eras of motorcycling.
URL:https://themotoringdiary.com/event/classic-motorcycle-mechanics-show-2/
LOCATION:Stafford County Showground\, Weston Road\, Stafford\, Staffordshire\, ST18 0BD\, United Kingdom
CATEGORIES:2023,Mortons Media,Shows
ATTACH;FMTTYPE=image/png:https://themotoringdiary.com/wp-content/uploads/2023/01/Motorcycle-mechanics-show-NW2Xm8.tmp_.png
ORGANIZER;CN="Mortons Media Group":MAILTO:shows@mortons.co.uk
GEO:52.8108032;'-2.0905398
X-APPLE-STRUCTURED-LOCATION;VALUE=URI;X-ADDRESS=Stafford County Showground Weston Road Stafford Staffordshire ST18 0BD United Kingdom;X-APPLE-RADIUS=500;X-TITLE=Weston Road:geo:'-2.0905398,52.8108032
END:VEVENT
END:VCALENDAR