BEGIN:VCALENDAR
VERSION:2.0
PRODID:-//The Motoring Diary - ECPv6.15.20//NONSGML v1.0//EN
CALSCALE:GREGORIAN
METHOD:PUBLISH
X-WR-CALNAME:The Motoring Diary
X-ORIGINAL-URL:https://themotoringdiary.com
X-WR-CALDESC:Events for The Motoring Diary
REFRESH-INTERVAL;VALUE=DURATION:PT1H
X-Robots-Tag:noindex
X-PUBLISHED-TTL:PT1H
BEGIN:VTIMEZONE
TZID:Europe/London
BEGIN:DAYLIGHT
TZOFFSETFROM:+0000
TZOFFSETTO:+0100
TZNAME:BST
DTSTART:20220327T010000
END:DAYLIGHT
BEGIN:STANDARD
TZOFFSETFROM:+0100
TZOFFSETTO:+0000
TZNAME:GMT
DTSTART:20221030T010000
END:STANDARD
BEGIN:DAYLIGHT
TZOFFSETFROM:+0000
TZOFFSETTO:+0100
TZNAME:BST
DTSTART:20230326T010000
END:DAYLIGHT
BEGIN:STANDARD
TZOFFSETFROM:+0100
TZOFFSETTO:+0000
TZNAME:GMT
DTSTART:20231029T010000
END:STANDARD
BEGIN:DAYLIGHT
TZOFFSETFROM:+0000
TZOFFSETTO:+0100
TZNAME:BST
DTSTART:20240331T010000
END:DAYLIGHT
BEGIN:STANDARD
TZOFFSETFROM:+0100
TZOFFSETTO:+0000
TZNAME:GMT
DTSTART:20241027T010000
END:STANDARD
END:VTIMEZONE
BEGIN:VEVENT
DTSTART;VALUE=DATE:20230617
DTEND;VALUE=DATE:20230618
DTSTAMP:20260423T112948
CREATED:20230124T161908Z
LAST-MODIFIED:20230124T161908Z
UID:39871-1686960000-1687046399@themotoringdiary.com
SUMMARY:CCA Summer Sale
DESCRIPTION:
URL:https://themotoringdiary.com/event/cca-summer-sale-2/
LOCATION:Warwickshire Exhibition Centre\, The Fosse\, Fosse Way\, Radford Semele\, Leamington Spa\, Warwickshire\, CV31 1XN\, United Kingdom
CATEGORIES:2023,Auctions,Classic Car Auctions
ORGANIZER;CN="Classic Car Auctions":MAILTO:enquiries@classiccarauctions.co.uk
GEO:52.2702052;-1.4684201
X-APPLE-STRUCTURED-LOCATION;VALUE=URI;X-ADDRESS=Warwickshire Exhibition Centre The Fosse Fosse Way Radford Semele Leamington Spa Warwickshire CV31 1XN United Kingdom;X-APPLE-RADIUS=500;X-TITLE=The Fosse\, Fosse Way:geo:-1.4684201,52.2702052
END:VEVENT
END:VCALENDAR