BEGIN:VCALENDAR
VERSION:2.0
PRODID:-//The Motoring Diary - ECPv6.15.20//NONSGML v1.0//EN
CALSCALE:GREGORIAN
METHOD:PUBLISH
X-WR-CALNAME:The Motoring Diary
X-ORIGINAL-URL:https://themotoringdiary.com
X-WR-CALDESC:Events for The Motoring Diary
REFRESH-INTERVAL;VALUE=DURATION:PT1H
X-Robots-Tag:noindex
X-PUBLISHED-TTL:PT1H
BEGIN:VTIMEZONE
TZID:Europe/London
BEGIN:DAYLIGHT
TZOFFSETFROM:+0000
TZOFFSETTO:+0100
TZNAME:BST
DTSTART:20220327T010000
END:DAYLIGHT
BEGIN:STANDARD
TZOFFSETFROM:+0100
TZOFFSETTO:+0000
TZNAME:GMT
DTSTART:20221030T010000
END:STANDARD
BEGIN:DAYLIGHT
TZOFFSETFROM:+0000
TZOFFSETTO:+0100
TZNAME:BST
DTSTART:20230326T010000
END:DAYLIGHT
BEGIN:STANDARD
TZOFFSETFROM:+0100
TZOFFSETTO:+0000
TZNAME:GMT
DTSTART:20231029T010000
END:STANDARD
BEGIN:DAYLIGHT
TZOFFSETFROM:+0000
TZOFFSETTO:+0100
TZNAME:BST
DTSTART:20240331T010000
END:DAYLIGHT
BEGIN:STANDARD
TZOFFSETFROM:+0100
TZOFFSETTO:+0000
TZNAME:GMT
DTSTART:20241027T010000
END:STANDARD
END:VTIMEZONE
BEGIN:VEVENT
DTSTART;VALUE=DATE:20230503
DTEND;VALUE=DATE:20230504
DTSTAMP:20260424T124353
CREATED:20230223T191950Z
LAST-MODIFIED:20230223T191950Z
UID:40126-1683072000-1683158399@themotoringdiary.com
SUMMARY:Castle Combe Bike Trackday
DESCRIPTION:Your bike\, our track and a whole day to enjoy it!Details \n    Max 12 bikes out at a time\n    Bikes must be over 250cc\n    One or two piece zipped together leathers\, full face helmet\, as well as appropriate motorcycle gloves and motorcycle boots\n    Official track photographer with photos available to purchase on the day\, or afterwards from: https://www.circuitphotos.com/ \nFULL DETAILS WILL BE SENT TO YOU BY EMAIL AFTER BOOKING
URL:https://themotoringdiary.com/event/castle-combe-bike-trackday-19/
LOCATION:Castle Combe Circuit\, Castle Combe Ltd\, Chippenham\, Wiltshire\, SN14 7EY\, United Kingdom
CATEGORIES:2023,Castle Combe Racing Club,Motorsport,Trackdays
ATTACH;FMTTYPE=image/jpeg:https://themotoringdiary.com/wp-content/uploads/2022/01/CC-Bike-Trackday.jpg
GEO:51.4906812;-2.2124403
X-APPLE-STRUCTURED-LOCATION;VALUE=URI;X-ADDRESS=Castle Combe Circuit Castle Combe Ltd Chippenham Wiltshire SN14 7EY United Kingdom;X-APPLE-RADIUS=500;X-TITLE=Castle Combe Ltd:geo:-2.2124403,51.4906812
END:VEVENT
END:VCALENDAR