BEGIN:VCALENDAR
VERSION:2.0
PRODID:-//The Motoring Diary - ECPv6.15.20//NONSGML v1.0//EN
CALSCALE:GREGORIAN
METHOD:PUBLISH
X-WR-CALNAME:The Motoring Diary
X-ORIGINAL-URL:https://themotoringdiary.com
X-WR-CALDESC:Events for The Motoring Diary
REFRESH-INTERVAL;VALUE=DURATION:PT1H
X-Robots-Tag:noindex
X-PUBLISHED-TTL:PT1H
BEGIN:VTIMEZONE
TZID:Europe/London
BEGIN:DAYLIGHT
TZOFFSETFROM:+0000
TZOFFSETTO:+0100
TZNAME:BST
DTSTART:20200329T010000
END:DAYLIGHT
BEGIN:STANDARD
TZOFFSETFROM:+0100
TZOFFSETTO:+0000
TZNAME:GMT
DTSTART:20201025T010000
END:STANDARD
BEGIN:DAYLIGHT
TZOFFSETFROM:+0000
TZOFFSETTO:+0100
TZNAME:BST
DTSTART:20210328T010000
END:DAYLIGHT
BEGIN:STANDARD
TZOFFSETFROM:+0100
TZOFFSETTO:+0000
TZNAME:GMT
DTSTART:20211031T010000
END:STANDARD
BEGIN:DAYLIGHT
TZOFFSETFROM:+0000
TZOFFSETTO:+0100
TZNAME:BST
DTSTART:20220327T010000
END:DAYLIGHT
BEGIN:STANDARD
TZOFFSETFROM:+0100
TZOFFSETTO:+0000
TZNAME:GMT
DTSTART:20221030T010000
END:STANDARD
END:VTIMEZONE
BEGIN:VEVENT
DTSTART;VALUE=DATE:20210827
DTEND;VALUE=DATE:20210830
DTSTAMP:20260423T110603
CREATED:20220106T162408Z
LAST-MODIFIED:20220106T162408Z
UID:38105-1630022400-1630281599@themotoringdiary.com
SUMMARY:Carfest South
DESCRIPTION:
URL:https://themotoringdiary.com/event/carfest-south/
LOCATION:Laverstoke Park\, Overton\, Basingstoke\, Hampshire\, RG25 3DR\, United Kingdom
CATEGORIES:2022,Brand Events,Carfest,Shows
ATTACH;FMTTYPE=image/png:https://themotoringdiary.com/wp-content/uploads/2021/11/Carfest-2019.png
ORGANIZER;CN="Brand Events":MAILTO:info@brandevents.co.uk
GEO:51.2183708;'-1.2581401
X-APPLE-STRUCTURED-LOCATION;VALUE=URI;X-ADDRESS=Laverstoke Park Overton Basingstoke Hampshire RG25 3DR United Kingdom;X-APPLE-RADIUS=500;X-TITLE=Overton:geo:'-1.2581401,51.2183708
END:VEVENT
END:VCALENDAR