BEGIN:VCALENDAR
VERSION:2.0
PRODID:-//The Motoring Diary - ECPv6.15.20//NONSGML v1.0//EN
CALSCALE:GREGORIAN
METHOD:PUBLISH
X-WR-CALNAME:The Motoring Diary
X-ORIGINAL-URL:https://themotoringdiary.com
X-WR-CALDESC:Events for The Motoring Diary
REFRESH-INTERVAL;VALUE=DURATION:PT1H
X-Robots-Tag:noindex
X-PUBLISHED-TTL:PT1H
BEGIN:VTIMEZONE
TZID:Europe/London
BEGIN:DAYLIGHT
TZOFFSETFROM:+0000
TZOFFSETTO:+0100
TZNAME:BST
DTSTART:20230326T010000
END:DAYLIGHT
BEGIN:STANDARD
TZOFFSETFROM:+0100
TZOFFSETTO:+0000
TZNAME:GMT
DTSTART:20231029T010000
END:STANDARD
BEGIN:DAYLIGHT
TZOFFSETFROM:+0000
TZOFFSETTO:+0100
TZNAME:BST
DTSTART:20240331T010000
END:DAYLIGHT
BEGIN:STANDARD
TZOFFSETFROM:+0100
TZOFFSETTO:+0000
TZNAME:GMT
DTSTART:20241027T010000
END:STANDARD
BEGIN:DAYLIGHT
TZOFFSETFROM:+0000
TZOFFSETTO:+0100
TZNAME:BST
DTSTART:20250330T010000
END:DAYLIGHT
BEGIN:STANDARD
TZOFFSETFROM:+0100
TZOFFSETTO:+0000
TZNAME:GMT
DTSTART:20251026T010000
END:STANDARD
END:VTIMEZONE
BEGIN:VEVENT
DTSTART;VALUE=DATE:20240727
DTEND;VALUE=DATE:20240729
DTSTAMP:20260425T150406
CREATED:20231204T150916Z
LAST-MODIFIED:20231204T150916Z
UID:40632-1722038400-1722211199@themotoringdiary.com
SUMMARY:BTCC - Croft
DESCRIPTION:Rounds 16\, 17\, 18
URL:https://themotoringdiary.com/event/btcc-croft-3/
LOCATION:Croft\, West Lane\, Dalton On Tees\, North Yorkshire\, DL2 2PL\, United Kingdom
CATEGORIES:2024,BTCC,Motorsport,Touring Cars
ATTACH;FMTTYPE=image/jpeg:https://themotoringdiary.com/wp-content/uploads/2023/01/BTCC-Logo-wOSe7l.tmp_.jpg
GEO:54.4556395;'-1.5496882
X-APPLE-STRUCTURED-LOCATION;VALUE=URI;X-ADDRESS=Croft West Lane Dalton On Tees North Yorkshire DL2 2PL United Kingdom;X-APPLE-RADIUS=500;X-TITLE=West Lane:geo:'-1.5496882,54.4556395
END:VEVENT
END:VCALENDAR