BEGIN:VCALENDAR
VERSION:2.0
PRODID:-//The Motoring Diary - ECPv6.15.20//NONSGML v1.0//EN
CALSCALE:GREGORIAN
METHOD:PUBLISH
X-WR-CALNAME:The Motoring Diary
X-ORIGINAL-URL:https://themotoringdiary.com
X-WR-CALDESC:Events for The Motoring Diary
REFRESH-INTERVAL;VALUE=DURATION:PT1H
X-Robots-Tag:noindex
X-PUBLISHED-TTL:PT1H
BEGIN:VTIMEZONE
TZID:Europe/London
BEGIN:DAYLIGHT
TZOFFSETFROM:+0000
TZOFFSETTO:+0100
TZNAME:BST
DTSTART:20220327T010000
END:DAYLIGHT
BEGIN:STANDARD
TZOFFSETFROM:+0100
TZOFFSETTO:+0000
TZNAME:GMT
DTSTART:20221030T010000
END:STANDARD
BEGIN:DAYLIGHT
TZOFFSETFROM:+0000
TZOFFSETTO:+0100
TZNAME:BST
DTSTART:20230326T010000
END:DAYLIGHT
BEGIN:STANDARD
TZOFFSETFROM:+0100
TZOFFSETTO:+0000
TZNAME:GMT
DTSTART:20231029T010000
END:STANDARD
BEGIN:DAYLIGHT
TZOFFSETFROM:+0000
TZOFFSETTO:+0100
TZNAME:BST
DTSTART:20240331T010000
END:DAYLIGHT
BEGIN:STANDARD
TZOFFSETFROM:+0100
TZOFFSETTO:+0000
TZNAME:GMT
DTSTART:20241027T010000
END:STANDARD
END:VTIMEZONE
BEGIN:VEVENT
DTSTART;VALUE=DATE:20230429
DTEND;VALUE=DATE:20230430
DTSTAMP:20260425T165111
CREATED:20230228T181903Z
LAST-MODIFIED:20230228T181903Z
UID:40180-1682726400-1682812799@themotoringdiary.com
SUMMARY:British Hill Climb Championship
DESCRIPTION:
URL:https://themotoringdiary.com/event/british-hill-climb-championship-15/
LOCATION:Craigantlet\, Ulster Automobile Club\, 54 Islandreagh Drive\, Dunadry\, Antrim\, BT41 2HB\, Ireland
CATEGORIES:2023,BARC,British Automobile Racing Club,British Hill Climb,Hill Climbs,Motorsport
ATTACH;FMTTYPE=image/png:https://themotoringdiary.com/wp-content/uploads/2021/11/British-Hill-Climb-Championship-1.png
ORGANIZER;CN="British Automobile Racing Club (BARC)":MAILTO:info@barc.net
GEO:54.6988563;-6.1405525
X-APPLE-STRUCTURED-LOCATION;VALUE=URI;X-ADDRESS=Craigantlet Ulster Automobile Club 54 Islandreagh Drive Dunadry Antrim BT41 2HB Ireland;X-APPLE-RADIUS=500;X-TITLE=Ulster Automobile Club\, 54 Islandreagh Drive:geo:-6.1405525,54.6988563
END:VEVENT
END:VCALENDAR