BEGIN:VCALENDAR
VERSION:2.0
PRODID:-//The Motoring Diary - ECPv6.15.20//NONSGML v1.0//EN
CALSCALE:GREGORIAN
METHOD:PUBLISH
X-WR-CALNAME:The Motoring Diary
X-ORIGINAL-URL:https://themotoringdiary.com
X-WR-CALDESC:Events for The Motoring Diary
REFRESH-INTERVAL;VALUE=DURATION:PT1H
X-Robots-Tag:noindex
X-PUBLISHED-TTL:PT1H
BEGIN:VTIMEZONE
TZID:Europe/London
BEGIN:DAYLIGHT
TZOFFSETFROM:+0000
TZOFFSETTO:+0100
TZNAME:BST
DTSTART:20210328T010000
END:DAYLIGHT
BEGIN:STANDARD
TZOFFSETFROM:+0100
TZOFFSETTO:+0000
TZNAME:GMT
DTSTART:20211031T010000
END:STANDARD
BEGIN:DAYLIGHT
TZOFFSETFROM:+0000
TZOFFSETTO:+0100
TZNAME:BST
DTSTART:20220327T010000
END:DAYLIGHT
BEGIN:STANDARD
TZOFFSETFROM:+0100
TZOFFSETTO:+0000
TZNAME:GMT
DTSTART:20221030T010000
END:STANDARD
BEGIN:DAYLIGHT
TZOFFSETFROM:+0000
TZOFFSETTO:+0100
TZNAME:BST
DTSTART:20230326T010000
END:DAYLIGHT
BEGIN:STANDARD
TZOFFSETFROM:+0100
TZOFFSETTO:+0000
TZNAME:GMT
DTSTART:20231029T010000
END:STANDARD
END:VTIMEZONE
BEGIN:VEVENT
DTSTART;TZID=Europe/London:20220903T080000
DTEND;TZID=Europe/London:20220904T170000
DTSTAMP:20260425T183339
CREATED:20220202T122418Z
LAST-MODIFIED:20220202T122418Z
UID:38916-1662192000-1662310800@themotoringdiary.com
SUMMARY:British and Midland Hill Climb Championships
DESCRIPTION:For the second time this year we welcome the British and Midland Championships to Prescott! This two day event will see practice completed on Saturday\, followed by competition runs on Sunday.
URL:https://themotoringdiary.com/event/british-and-midland-hill-climb-championships/
LOCATION:Prescott Speed Hill Climb\, Gotherington\, Cheltenham\, Gloucestershire\, GL52 9RD\, United Kingdom
CATEGORIES:2022,British Hill Climb,Bugatti Owners Club,Hill Climbs,Motorsport,Prescott Speed Hill Climb
ATTACH;FMTTYPE=image/jpeg:https://themotoringdiary.com/wp-content/uploads/2022/02/BOC-bm-sept.jpg
ORGANIZER;CN="Bugatti Owners Club":MAILTO:gemma@bugatti.co.uk
GEO:51.9653252;-2.024325
X-APPLE-STRUCTURED-LOCATION;VALUE=URI;X-ADDRESS=Prescott Speed Hill Climb Gotherington Cheltenham Gloucestershire GL52 9RD United Kingdom;X-APPLE-RADIUS=500;X-TITLE=Gotherington:geo:-2.024325,51.9653252
END:VEVENT
END:VCALENDAR