BEGIN:VCALENDAR
VERSION:2.0
PRODID:-//The Motoring Diary - ECPv6.15.20//NONSGML v1.0//EN
CALSCALE:GREGORIAN
METHOD:PUBLISH
X-WR-CALNAME:The Motoring Diary
X-ORIGINAL-URL:https://themotoringdiary.com
X-WR-CALDESC:Events for The Motoring Diary
REFRESH-INTERVAL;VALUE=DURATION:PT1H
X-Robots-Tag:noindex
X-PUBLISHED-TTL:PT1H
BEGIN:VTIMEZONE
TZID:Europe/London
BEGIN:DAYLIGHT
TZOFFSETFROM:+0000
TZOFFSETTO:+0100
TZNAME:BST
DTSTART:20220327T010000
END:DAYLIGHT
BEGIN:STANDARD
TZOFFSETFROM:+0100
TZOFFSETTO:+0000
TZNAME:GMT
DTSTART:20221030T010000
END:STANDARD
BEGIN:DAYLIGHT
TZOFFSETFROM:+0000
TZOFFSETTO:+0100
TZNAME:BST
DTSTART:20230326T010000
END:DAYLIGHT
BEGIN:STANDARD
TZOFFSETFROM:+0100
TZOFFSETTO:+0000
TZNAME:GMT
DTSTART:20231029T010000
END:STANDARD
BEGIN:DAYLIGHT
TZOFFSETFROM:+0000
TZOFFSETTO:+0100
TZNAME:BST
DTSTART:20240331T010000
END:DAYLIGHT
BEGIN:STANDARD
TZOFFSETFROM:+0100
TZOFFSETTO:+0000
TZNAME:GMT
DTSTART:20241027T010000
END:STANDARD
END:VTIMEZONE
BEGIN:VEVENT
DTSTART;TZID=Europe/London:20230603T090000
DTEND;TZID=Europe/London:20230603T180000
DTSTAMP:20260425T182854
CREATED:20230228T174357Z
LAST-MODIFIED:20230228T174357Z
UID:40175-1685782800-1685815200@themotoringdiary.com
SUMMARY:BMW Sommerfest
DESCRIPTION:
URL:https://themotoringdiary.com/event/bmw-sommerfest/
LOCATION:Oulton Park\, Little Budworth\, Tarporley\, Cheshire\, CW6 9BW\, United Kingdom
CATEGORIES:2023,Club Motorsport,Motorsport
ATTACH;FMTTYPE=image/jpeg:https://themotoringdiary.com/wp-content/uploads/2023/02/OP-GIzk64.tmp_.jpg
ORGANIZER;CN="MotorSport Vision":MAILTO:info@msv.com
GEO:53.1785643;-2.6153266
X-APPLE-STRUCTURED-LOCATION;VALUE=URI;X-ADDRESS=Oulton Park Little Budworth Tarporley Cheshire CW6 9BW United Kingdom;X-APPLE-RADIUS=500;X-TITLE=Little Budworth:geo:-2.6153266,53.1785643
END:VEVENT
END:VCALENDAR