BEGIN:VCALENDAR
VERSION:2.0
PRODID:-//The Motoring Diary - ECPv6.15.20//NONSGML v1.0//EN
CALSCALE:GREGORIAN
METHOD:PUBLISH
X-WR-CALNAME:The Motoring Diary
X-ORIGINAL-URL:https://themotoringdiary.com
X-WR-CALDESC:Events for The Motoring Diary
REFRESH-INTERVAL;VALUE=DURATION:PT1H
X-Robots-Tag:noindex
X-PUBLISHED-TTL:PT1H
BEGIN:VTIMEZONE
TZID:Europe/London
BEGIN:DAYLIGHT
TZOFFSETFROM:+0000
TZOFFSETTO:+0100
TZNAME:BST
DTSTART:20220327T010000
END:DAYLIGHT
BEGIN:STANDARD
TZOFFSETFROM:+0100
TZOFFSETTO:+0000
TZNAME:GMT
DTSTART:20221030T010000
END:STANDARD
BEGIN:DAYLIGHT
TZOFFSETFROM:+0000
TZOFFSETTO:+0100
TZNAME:BST
DTSTART:20230326T010000
END:DAYLIGHT
BEGIN:STANDARD
TZOFFSETFROM:+0100
TZOFFSETTO:+0000
TZNAME:GMT
DTSTART:20231029T010000
END:STANDARD
BEGIN:DAYLIGHT
TZOFFSETFROM:+0000
TZOFFSETTO:+0100
TZNAME:BST
DTSTART:20240331T010000
END:DAYLIGHT
BEGIN:STANDARD
TZOFFSETFROM:+0100
TZOFFSETTO:+0000
TZNAME:GMT
DTSTART:20241027T010000
END:STANDARD
END:VTIMEZONE
BEGIN:VEVENT
DTSTART;VALUE=DATE:20230722
DTEND;VALUE=DATE:20230723
DTSTAMP:20260420T135202
CREATED:20230228T182820Z
LAST-MODIFIED:20230228T182820Z
UID:40210-1689984000-1690070399@themotoringdiary.com
SUMMARY:BARC Race Meeting
DESCRIPTION:
URL:https://themotoringdiary.com/event/barc-race-meeting-36/
LOCATION:Donington Park Circuit\, Castle Donington\, Derby\, Leicestershire\, DE74 2RP\, United Kingdom
CATEGORIES:2023,BARC,British Automobile Racing Club,Club Motorsport,Motorsport
ATTACH;FMTTYPE=image/jpeg:https://themotoringdiary.com/wp-content/uploads/2021/11/BARC.jpg
ORGANIZER;CN="British Automobile Racing Club (BARC)":MAILTO:info@barc.net
GEO:52.828346;-1.3724602
X-APPLE-STRUCTURED-LOCATION;VALUE=URI;X-ADDRESS=Donington Park Circuit Castle Donington Derby Leicestershire DE74 2RP United Kingdom;X-APPLE-RADIUS=500;X-TITLE=Castle Donington:geo:-1.3724602,52.828346
END:VEVENT
END:VCALENDAR