BEGIN:VCALENDAR
VERSION:2.0
PRODID:-//The Motoring Diary - ECPv6.15.20//NONSGML v1.0//EN
CALSCALE:GREGORIAN
METHOD:PUBLISH
X-WR-CALNAME:The Motoring Diary
X-ORIGINAL-URL:https://themotoringdiary.com
X-WR-CALDESC:Events for The Motoring Diary
REFRESH-INTERVAL;VALUE=DURATION:PT1H
X-Robots-Tag:noindex
X-PUBLISHED-TTL:PT1H
BEGIN:VTIMEZONE
TZID:Europe/London
BEGIN:DAYLIGHT
TZOFFSETFROM:+0000
TZOFFSETTO:+0100
TZNAME:BST
DTSTART:20210328T010000
END:DAYLIGHT
BEGIN:STANDARD
TZOFFSETFROM:+0100
TZOFFSETTO:+0000
TZNAME:GMT
DTSTART:20211031T010000
END:STANDARD
BEGIN:DAYLIGHT
TZOFFSETFROM:+0000
TZOFFSETTO:+0100
TZNAME:BST
DTSTART:20220327T010000
END:DAYLIGHT
BEGIN:STANDARD
TZOFFSETFROM:+0100
TZOFFSETTO:+0000
TZNAME:GMT
DTSTART:20221030T010000
END:STANDARD
BEGIN:DAYLIGHT
TZOFFSETFROM:+0000
TZOFFSETTO:+0100
TZNAME:BST
DTSTART:20230326T010000
END:DAYLIGHT
BEGIN:STANDARD
TZOFFSETFROM:+0100
TZOFFSETTO:+0000
TZNAME:GMT
DTSTART:20231029T010000
END:STANDARD
END:VTIMEZONE
BEGIN:VEVENT
DTSTART;VALUE=DATE:20220127
DTEND;VALUE=DATE:20220128
DTSTAMP:20260420T230628
CREATED:20211223T170405Z
LAST-MODIFIED:20211224T084703Z
UID:36802-1643241600-1643327999@themotoringdiary.com
SUMMARY:Arizona - Auction
DESCRIPTION:
URL:https://themotoringdiary.com/event/arizona-auction/
LOCATION:Arizona Biltmore Resort & Spa\, 2400 East Missouri Avenue\, Phoenix\, AZ\, 85016
CATEGORIES:2022,Auctions,RM Sothebys
ATTACH;FMTTYPE=image/png:https://themotoringdiary.com/wp-content/uploads/2021/11/RMSothebys-1.png
GEO:33.523241;-112.0233209
X-APPLE-STRUCTURED-LOCATION;VALUE=URI;X-ADDRESS=Arizona Biltmore Resort & Spa 2400 East Missouri Avenue Phoenix AZ 85016;X-APPLE-RADIUS=500;X-TITLE=2400 East Missouri Avenue:geo:-112.0233209,33.523241
END:VEVENT
END:VCALENDAR