BEGIN:VCALENDAR
VERSION:2.0
PRODID:-//The Motoring Diary - ECPv6.15.20//NONSGML v1.0//EN
CALSCALE:GREGORIAN
METHOD:PUBLISH
X-ORIGINAL-URL:http://themotoringdiary.com
X-WR-CALDESC:Events for The Motoring Diary
REFRESH-INTERVAL;VALUE=DURATION:PT1H
X-Robots-Tag:noindex
X-PUBLISHED-TTL:PT1H
BEGIN:VTIMEZONE
TZID:Europe/London
BEGIN:DAYLIGHT
TZOFFSETFROM:+0000
TZOFFSETTO:+0100
TZNAME:BST
DTSTART:20210328T010000
END:DAYLIGHT
BEGIN:STANDARD
TZOFFSETFROM:+0100
TZOFFSETTO:+0000
TZNAME:GMT
DTSTART:20211031T010000
END:STANDARD
BEGIN:DAYLIGHT
TZOFFSETFROM:+0000
TZOFFSETTO:+0100
TZNAME:BST
DTSTART:20220327T010000
END:DAYLIGHT
BEGIN:STANDARD
TZOFFSETFROM:+0100
TZOFFSETTO:+0000
TZNAME:GMT
DTSTART:20221030T010000
END:STANDARD
BEGIN:DAYLIGHT
TZOFFSETFROM:+0000
TZOFFSETTO:+0100
TZNAME:BST
DTSTART:20230326T010000
END:DAYLIGHT
BEGIN:STANDARD
TZOFFSETFROM:+0100
TZOFFSETTO:+0000
TZNAME:GMT
DTSTART:20231029T010000
END:STANDARD
BEGIN:DAYLIGHT
TZOFFSETFROM:+0000
TZOFFSETTO:+0100
TZNAME:BST
DTSTART:20240331T010000
END:DAYLIGHT
BEGIN:STANDARD
TZOFFSETFROM:+0100
TZOFFSETTO:+0000
TZNAME:GMT
DTSTART:20241027T010000
END:STANDARD
END:VTIMEZONE
BEGIN:VEVENT
DTSTART;VALUE=DATE:20230922
DTEND;VALUE=DATE:20230925
DTSTAMP:20260425T161524
CREATED:20230301T173512Z
LAST-MODIFIED:20230301T173512Z
UID:10004561-1695340800-1695599999@themotoringdiary.com
SUMMARY:British Kart Championship - Honda
DESCRIPTION:The popular Honda Cadet class will tackle an expanded roster of six meetings and seven intense rounds in-line with feedback received from championship competitors as Whilton Mill hosts a thrilling final round double header.\nThe superb PF International will kick off the season for the Honda Cadets in May before moving to Scotland’s Larkhall in June. Warden Law hosts the third encounter in July before a trip to the South West and Clay Pigeon in August. Kimbolton takes racers into September before the grand finale’ takes place at Whilton Mill in October.
URL:http://themotoringdiary.com/event/british-kart-championship-honda-11/
LOCATION:Warden Law Motorsports Centre\, Sunderland\, Tyne and Wear\, SR3 2PR\, United Kingdom
CATEGORIES:2023,British Kart Championship,Karting,Motorsport,Motorsport UK
ATTACH;FMTTYPE=image/jpeg:http://themotoringdiary.com/wp-content/uploads/2022/01/Karting-Honda.jpg
ORGANIZER;CN="British Kart Championship":MAILTO:danielle.short@motorsportuk.org
GEO:54.8479528;-1.4230004
END:VEVENT
BEGIN:VEVENT
DTSTART;VALUE=DATE:20230922
DTEND;VALUE=DATE:20230925
DTSTAMP:20260425T161524
CREATED:20230301T173511Z
LAST-MODIFIED:20230301T173511Z
UID:10004560-1695340800-1695599999@themotoringdiary.com
SUMMARY:British Kart Championship - Rotax
DESCRIPTION:The Mini Max\, Junior Max\, Senior Max and Rotax 177** will do battle over an expanded roster of six meetings and seven intense rounds in-line with feedback received from championship competitors. Two brand new venues have been added to the calendar and the season will also host the Micro Max Grand Final Qualifiers during the year.\nThe superb PF International will kick off the season for the Rotax classes in May before moving to Scotland’s Larkhall in June. Warden Law hosts the third encounter in July before a trip to the South West and Clay Pigeon in August. Kimbolton takes racers into September before the grand finale’ takes place at Whilton Mill in October.
URL:http://themotoringdiary.com/event/british-kart-championship-rotax-11/
LOCATION:Warden Law Motorsports Centre\, Sunderland\, Tyne and Wear\, SR3 2PR\, United Kingdom
CATEGORIES:2023,British Kart Championship,Karting,Motorsport,Motorsport UK
ATTACH;FMTTYPE=image/jpeg:http://themotoringdiary.com/wp-content/uploads/2022/01/Karting-Rotax.jpg
ORGANIZER;CN="British Kart Championship":MAILTO:danielle.short@motorsportuk.org
GEO:54.8479528;-1.4230004
END:VEVENT
BEGIN:VEVENT
DTSTART;VALUE=DATE:20220722
DTEND;VALUE=DATE:20220725
DTSTAMP:20260425T161524
CREATED:20220106T200846Z
LAST-MODIFIED:20220106T200846Z
UID:10003791-1658448000-1658707199@themotoringdiary.com
SUMMARY:British Kart Championship - Honda
DESCRIPTION:The popular Honda Cadet class will tackle an expanded roster of six meetings and seven intense rounds in-line with feedback received from championship competitors as Whilton Mill hosts a thrilling final round double header.\nThe superb PF International will kick off the season for the Honda Cadets in May before moving to Scotland’s Larkhall in June. Warden Law hosts the third encounter in July before a trip to the South West and Clay Pigeon in August. Kimbolton takes racers into September before the grand finale’ takes place at Whilton Mill in October.
URL:http://themotoringdiary.com/event/british-kart-championship-honda-3/
LOCATION:Warden Law Motorsports Centre\, Sunderland\, Tyne and Wear\, SR3 2PR\, United Kingdom
CATEGORIES:2022,British Kart Championship,Karting,Motorsport,Motorsport UK
ATTACH;FMTTYPE=image/jpeg:http://themotoringdiary.com/wp-content/uploads/2022/01/Karting-Honda.jpg
ORGANIZER;CN="British Kart Championship":MAILTO:danielle.short@motorsportuk.org
GEO:54.8479528;-1.4230004
END:VEVENT
BEGIN:VEVENT
DTSTART;VALUE=DATE:20220722
DTEND;VALUE=DATE:20220725
DTSTAMP:20260425T161524
CREATED:20220106T200830Z
LAST-MODIFIED:20220106T200830Z
UID:10003785-1658448000-1658707199@themotoringdiary.com
SUMMARY:British Kart Championship - Rotax
DESCRIPTION:The Mini Max\, Junior Max\, Senior Max and Rotax 177** will do battle over an expanded roster of six meetings and seven intense rounds in-line with feedback received from championship competitors. Two brand new venues have been added to the calendar and the season will also host the Micro Max Grand Final Qualifiers during the year.\nThe superb PF International will kick off the season for the Rotax classes in May before moving to Scotland’s Larkhall in June. Warden Law hosts the third encounter in July before a trip to the South West and Clay Pigeon in August. Kimbolton takes racers into September before the grand finale’ takes place at Whilton Mill in October.
URL:http://themotoringdiary.com/event/british-kart-championship-rotax-3/
LOCATION:Warden Law Motorsports Centre\, Sunderland\, Tyne and Wear\, SR3 2PR\, United Kingdom
CATEGORIES:2022,British Kart Championship,Karting,Motorsport,Motorsport UK
ATTACH;FMTTYPE=image/jpeg:http://themotoringdiary.com/wp-content/uploads/2022/01/Karting-Rotax.jpg
ORGANIZER;CN="British Kart Championship":MAILTO:danielle.short@motorsportuk.org
GEO:54.8479528;-1.4230004
END:VEVENT
BEGIN:VEVENT
DTSTART;VALUE=DATE:20220521
DTEND;VALUE=DATE:20220523
DTSTAMP:20260425T161524
CREATED:20220106T200811Z
LAST-MODIFIED:20220106T200811Z
UID:10003773-1653091200-1653263999@themotoringdiary.com
SUMMARY:British Kart Championship - KZ2
DESCRIPTION:One of the fastest growing categories in the UK will do battle over five intense rounds with an expanded roster in-line with feedback received from championship competitors to offer an action-packed season of competition and two brand new venues on the KZ2 billing.\nThe popular Shenington circuit in Oxfordshire kicks off the season for the rapid racers in April before a trip to the North East at Warden Law in May. GYG (Glan Y Gors) offers a trip into the heart of Wales in June before Rissington takes contenders to the Cotswolds a few weeks later. Kimbolton in Cambridgeshire hosts the all important finale at the beginning of September.
URL:http://themotoringdiary.com/event/british-kart-championship-kz2-2/
LOCATION:Warden Law Motorsports Centre\, Sunderland\, Tyne and Wear\, SR3 2PR\, United Kingdom
CATEGORIES:2022,British Kart Championship,Karting,Motorsport,Motorsport UK
ATTACH;FMTTYPE=image/jpeg:http://themotoringdiary.com/wp-content/uploads/2022/01/Karting-KZ2.jpg
ORGANIZER;CN="British Kart Championship":MAILTO:danielle.short@motorsportuk.org
GEO:54.8479528;-1.4230004
END:VEVENT
BEGIN:VEVENT
DTSTART;VALUE=DATE:20220520
DTEND;VALUE=DATE:20220523
DTSTAMP:20260425T161524
CREATED:20220106T200902Z
LAST-MODIFIED:20220106T200902Z
UID:10003533-1653004800-1653263999@themotoringdiary.com
SUMMARY:British Kart Championship - TKM
DESCRIPTION:The TKM Junior and TKM Extreme contenders will battle it out over 6 intense rounds with an expanded season in-line with feedback received from championship competitors to offer an action-packed campaign.\nThe popular Shenington circuit in Oxfordshire kicks off the season in April before a trip to the North East at Warden Law in May. Rissington takes contenders to the Cotswolds in July whilst Whilton Mill hosts the penultimate round in August. The finale’ will be a double header\, played out at the popular PF International at the end of September.
URL:http://themotoringdiary.com/event/british-kart-championship-tkm-2/
LOCATION:Warden Law Motorsports Centre\, Sunderland\, Tyne and Wear\, SR3 2PR\, United Kingdom
CATEGORIES:2022,British Kart Championship,Karting,Motorsport,Motorsport UK
ATTACH;FMTTYPE=image/jpeg:http://themotoringdiary.com/wp-content/uploads/2022/01/Karting-TKM.jpg
ORGANIZER;CN="British Kart Championship":MAILTO:danielle.short@motorsportuk.org
GEO:54.8479528;-1.4230004
END:VEVENT
BEGIN:VEVENT
DTSTART;VALUE=DATE:20220520
DTEND;VALUE=DATE:20220523
DTSTAMP:20260425T161524
CREATED:20220106T200815Z
LAST-MODIFIED:20220106T200815Z
UID:10003778-1653004800-1653263999@themotoringdiary.com
SUMMARY:British Kart Championship - IAME
DESCRIPTION:The IAME Cadet\, Mini X30\, Junior X30 and Senior X30 contenders will battle it out over six blistering weekends and seven rounds with an expanded season in-line with feedback received from championship competitors to offer an action-packed campaign. Three brand new venues have been added in an exciting prospect for championship protagonists.\nThe popular Shenington circuit in Oxfordshire kicks off the season in April before a trip to the North East at Warden Law in May. GYG (Glan Y Gors) offers a trip into the heart of Wales in June before Rissington takes contenders to the Cotswolds a few weeks later.  Whilton Mill hosts the penultimate round in August before the double-header finale’\, played out at the popular PF International at the end of September.
URL:http://themotoringdiary.com/event/british-kart-championship-iame-2/
LOCATION:Warden Law Motorsports Centre\, Sunderland\, Tyne and Wear\, SR3 2PR\, United Kingdom
CATEGORIES:2022,British Kart Championship,Karting,Motorsport,Motorsport UK
ATTACH;FMTTYPE=image/jpeg:http://themotoringdiary.com/wp-content/uploads/2022/01/Karting-IAME.jpg
ORGANIZER;CN="British Kart Championship":MAILTO:danielle.short@motorsportuk.org
GEO:54.8479528;-1.4230004
END:VEVENT
END:VCALENDAR