BEGIN:VCALENDAR
VERSION:2.0
PRODID:-//The Motoring Diary - ECPv6.15.20//NONSGML v1.0//EN
CALSCALE:GREGORIAN
METHOD:PUBLISH
X-WR-CALNAME:The Motoring Diary
X-ORIGINAL-URL:http://themotoringdiary.com
X-WR-CALDESC:Events for The Motoring Diary
REFRESH-INTERVAL;VALUE=DURATION:PT1H
X-Robots-Tag:noindex
X-PUBLISHED-TTL:PT1H
BEGIN:VTIMEZONE
TZID:Europe/London
BEGIN:DAYLIGHT
TZOFFSETFROM:+0000
TZOFFSETTO:+0100
TZNAME:BST
DTSTART:20220327T010000
END:DAYLIGHT
BEGIN:STANDARD
TZOFFSETFROM:+0100
TZOFFSETTO:+0000
TZNAME:GMT
DTSTART:20221030T010000
END:STANDARD
BEGIN:DAYLIGHT
TZOFFSETFROM:+0000
TZOFFSETTO:+0100
TZNAME:BST
DTSTART:20230326T010000
END:DAYLIGHT
BEGIN:STANDARD
TZOFFSETFROM:+0100
TZOFFSETTO:+0000
TZNAME:GMT
DTSTART:20231029T010000
END:STANDARD
BEGIN:DAYLIGHT
TZOFFSETFROM:+0000
TZOFFSETTO:+0100
TZNAME:BST
DTSTART:20240331T010000
END:DAYLIGHT
BEGIN:STANDARD
TZOFFSETFROM:+0100
TZOFFSETTO:+0000
TZNAME:GMT
DTSTART:20241027T010000
END:STANDARD
END:VTIMEZONE
BEGIN:VEVENT
DTSTART;TZID=Europe/London:20230716T100000
DTEND;TZID=Europe/London:20230716T160000
DTSTAMP:20260422T164752
CREATED:20230124T105508Z
LAST-MODIFIED:20230124T105508Z
UID:10004090-1689501600-1689523200@themotoringdiary.com
SUMMARY:Atkins Ferrie Classic & Supercars Show
DESCRIPTION:18th Annual Charity Classic & Supercars Show. With an historic line up of race and road cars. Visitors will also see over 2\,000 Classic\, Supercars\, Veteran\, Race\, Rally\, American\, Custom\, Hot Rod and Special cars\, together with 40+ car clubs\, all in the magnificent grounds of Sherborne Castle. With 150+ Trade\, Autojumble and Craft stands plus live music\, a large catering village and beautiful picnic areas\, the show has something for all the family
URL:http://themotoringdiary.com/event/atkins-ferrie-classic-supercars-show-2/
LOCATION:Sherborne Castle\, Sherborne Castle\, Sherborne\, Dorset\, DT9 5NR\, United Kingdom
CATEGORIES:2023,Classic Car Show,Shows
ATTACH;FMTTYPE=image/jpeg:http://themotoringdiary.com/wp-content/uploads/2023/01/DSC_0146.jpg
GEO:50.945842;-2.500516
X-APPLE-STRUCTURED-LOCATION;VALUE=URI;X-ADDRESS=Sherborne Castle Sherborne Castle Sherborne Dorset DT9 5NR United Kingdom;X-APPLE-RADIUS=500;X-TITLE=Sherborne Castle:geo:-2.500516,50.945842
END:VEVENT
END:VCALENDAR