BEGIN:VCALENDAR
VERSION:2.0
PRODID:-//The Motoring Diary - ECPv6.15.20//NONSGML v1.0//EN
CALSCALE:GREGORIAN
METHOD:PUBLISH
X-WR-CALNAME:The Motoring Diary
X-ORIGINAL-URL:http://themotoringdiary.com
X-WR-CALDESC:Events for The Motoring Diary
REFRESH-INTERVAL;VALUE=DURATION:PT1H
X-Robots-Tag:noindex
X-PUBLISHED-TTL:PT1H
BEGIN:VTIMEZONE
TZID:Europe/London
BEGIN:DAYLIGHT
TZOFFSETFROM:+0000
TZOFFSETTO:+0100
TZNAME:BST
DTSTART:20210328T010000
END:DAYLIGHT
BEGIN:STANDARD
TZOFFSETFROM:+0100
TZOFFSETTO:+0000
TZNAME:GMT
DTSTART:20211031T010000
END:STANDARD
BEGIN:DAYLIGHT
TZOFFSETFROM:+0000
TZOFFSETTO:+0100
TZNAME:BST
DTSTART:20220327T010000
END:DAYLIGHT
BEGIN:STANDARD
TZOFFSETFROM:+0100
TZOFFSETTO:+0000
TZNAME:GMT
DTSTART:20221030T010000
END:STANDARD
BEGIN:DAYLIGHT
TZOFFSETFROM:+0000
TZOFFSETTO:+0100
TZNAME:BST
DTSTART:20230326T010000
END:DAYLIGHT
BEGIN:STANDARD
TZOFFSETFROM:+0100
TZOFFSETTO:+0000
TZNAME:GMT
DTSTART:20231029T010000
END:STANDARD
BEGIN:DAYLIGHT
TZOFFSETFROM:+0000
TZOFFSETTO:+0100
TZNAME:BST
DTSTART:20240331T010000
END:DAYLIGHT
BEGIN:STANDARD
TZOFFSETFROM:+0100
TZOFFSETTO:+0000
TZNAME:GMT
DTSTART:20241027T010000
END:STANDARD
END:VTIMEZONE
BEGIN:VEVENT
DTSTART;VALUE=DATE:20230128
DTEND;VALUE=DATE:20230130
DTSTAMP:20260425T183514
CREATED:20230106T153750Z
LAST-MODIFIED:20230106T153750Z
UID:10004077-1674864000-1675036799@themotoringdiary.com
SUMMARY:Race Of Champions
DESCRIPTION:As the first Race Of Champions (ROC) event in Scandinavia\, Pite Havsbad\, the biggest resort in the North of Sweden will be host to the most extreme ROC WORLD FINAL® yet.\n? \nBuilt on the frozen Baltic Sea\, the ROC SNOW+ICE course will use our iconic parallel track and cross-over bridge.  This proprietary track design ensures the head-to-head action is optimized for broadcast productions. \n? \nSome of the world’s best drivers from the major motor sport series – including Formula 1\, World Rally\, Nascar\, IndyCar\, Le Mans\, Touring Cars and X-Games – come together for a unique chance to compete head-to-head in identical cars to decide who really is the fastest of them all\, the “Champion of Champions”\, and to crown the “Fastest Nation” in the ROC Nations Cup.
URL:http://themotoringdiary.com/event/race-of-champions-2/
LOCATION:Pite Havsbad\, Sweden
CATEGORIES:2023,Motorsport
ATTACH;FMTTYPE=image/png:http://themotoringdiary.com/wp-content/uploads/2023/01/ROC-1-mi7JBd.tmp_.png
GEO:65.23611;21.54833
END:VEVENT
BEGIN:VEVENT
DTSTART;VALUE=DATE:20220205
DTEND;VALUE=DATE:20220207
DTSTAMP:20260425T183514
CREATED:20211223T170436Z
LAST-MODIFIED:20220202T094636Z
UID:10003118-1644019200-1644191999@themotoringdiary.com
SUMMARY:Race Of Champions
DESCRIPTION:As the first Race Of Champions (ROC) event in Scandinavia\, Pite Havsbad\, the biggest resort in the North of Sweden will be host to the most extreme ROC WORLD FINAL® yet.\n? \nBuilt on the frozen Baltic Sea\, the ROC SNOW+ICE course will use our iconic parallel track and cross-over bridge. This proprietary track design ensures the head-to-head action is optimized for broadcast productions. \n? \nSome of the world’s best drivers from the major motor sport series – including Formula 1\, World Rally\, Nascar\, IndyCar\, Le Mans\, Touring Cars and X-Games – come together for a unique chance to compete head-to-head in identical cars to decide who really is the fastest of them all\, the “Champion of Champions”\, and to crown the “Fastest Nation” in the ROC Nations Cup.
URL:http://themotoringdiary.com/event/race-of-champions/
LOCATION:Pite Havsbad\, Sweden
CATEGORIES:2022,Motorsport
ATTACH;FMTTYPE=image/png:http://themotoringdiary.com/wp-content/uploads/2021/12/ROC-2022.png
GEO:65.23611;21.54833
END:VEVENT
END:VCALENDAR