BEGIN:VCALENDAR
VERSION:2.0
PRODID:-//The Motoring Diary - ECPv6.15.20//NONSGML v1.0//EN
CALSCALE:GREGORIAN
METHOD:PUBLISH
X-ORIGINAL-URL:http://themotoringdiary.com
X-WR-CALDESC:Events for The Motoring Diary
REFRESH-INTERVAL;VALUE=DURATION:PT1H
X-Robots-Tag:noindex
X-PUBLISHED-TTL:PT1H
BEGIN:VTIMEZONE
TZID:Europe/London
BEGIN:DAYLIGHT
TZOFFSETFROM:+0000
TZOFFSETTO:+0100
TZNAME:BST
DTSTART:20210328T010000
END:DAYLIGHT
BEGIN:STANDARD
TZOFFSETFROM:+0100
TZOFFSETTO:+0000
TZNAME:GMT
DTSTART:20211031T010000
END:STANDARD
BEGIN:DAYLIGHT
TZOFFSETFROM:+0000
TZOFFSETTO:+0100
TZNAME:BST
DTSTART:20220327T010000
END:DAYLIGHT
BEGIN:STANDARD
TZOFFSETFROM:+0100
TZOFFSETTO:+0000
TZNAME:GMT
DTSTART:20221030T010000
END:STANDARD
BEGIN:DAYLIGHT
TZOFFSETFROM:+0000
TZOFFSETTO:+0100
TZNAME:BST
DTSTART:20230326T010000
END:DAYLIGHT
BEGIN:STANDARD
TZOFFSETFROM:+0100
TZOFFSETTO:+0000
TZNAME:GMT
DTSTART:20231029T010000
END:STANDARD
BEGIN:DAYLIGHT
TZOFFSETFROM:+0000
TZOFFSETTO:+0100
TZNAME:BST
DTSTART:20240331T010000
END:DAYLIGHT
BEGIN:STANDARD
TZOFFSETFROM:+0100
TZOFFSETTO:+0000
TZNAME:GMT
DTSTART:20241027T010000
END:STANDARD
END:VTIMEZONE
BEGIN:VEVENT
DTSTART;VALUE=DATE:20231104
DTEND;VALUE=DATE:20231106
DTSTAMP:20260420T163142
CREATED:20230215T155803Z
LAST-MODIFIED:20230215T155803Z
UID:10004338-1699056000-1699228799@themotoringdiary.com
SUMMARY:British Rallycross - Lydden Hill
DESCRIPTION:
URL:http://themotoringdiary.com/event/british-rallycross-lydden-hill-5/
LOCATION:Lydden Hill Race Circuit\, Wooton\, Canterbury\, Kent\, CT4 6ET\, United Kingdom
CATEGORIES:2023,British Rallycross,Motorsport,Rallycross
ATTACH;FMTTYPE=image/png:http://themotoringdiary.com/wp-content/uploads/2023/02/BRX-2021-TXF60A.tmp_.png
ORGANIZER;CN="Lydden Hill Motorsport Club":MAILTO:info@lyddenhill.co.uk
GEO:51.17743;1.199781
X-APPLE-STRUCTURED-LOCATION;VALUE=URI;X-ADDRESS=Lydden Hill Race Circuit Wooton Canterbury Kent CT4 6ET United Kingdom;X-APPLE-RADIUS=500;X-TITLE=Wooton:geo:1.199781,51.17743
END:VEVENT
BEGIN:VEVENT
DTSTART;VALUE=DATE:20230722
DTEND;VALUE=DATE:20230724
DTSTAMP:20260420T163142
CREATED:20230215T155743Z
LAST-MODIFIED:20230215T155743Z
UID:10004337-1689984000-1690156799@themotoringdiary.com
SUMMARY:British Rallycross - Lydden Hill
DESCRIPTION:
URL:http://themotoringdiary.com/event/british-rallycross-lydden-hill-4/
LOCATION:Lydden Hill Race Circuit\, Wooton\, Canterbury\, Kent\, CT4 6ET\, United Kingdom
CATEGORIES:2023,British Rallycross,Motorsport,Rallycross
ATTACH;FMTTYPE=image/png:http://themotoringdiary.com/wp-content/uploads/2023/02/BRX-2021-TXF60A.tmp_.png
ORGANIZER;CN="Lydden Hill Motorsport Club":MAILTO:info@lyddenhill.co.uk
GEO:51.17743;1.199781
X-APPLE-STRUCTURED-LOCATION;VALUE=URI;X-ADDRESS=Lydden Hill Race Circuit Wooton Canterbury Kent CT4 6ET United Kingdom;X-APPLE-RADIUS=500;X-TITLE=Wooton:geo:1.199781,51.17743
END:VEVENT
BEGIN:VEVENT
DTSTART;VALUE=DATE:20230408
DTEND;VALUE=DATE:20230411
DTSTAMP:20260420T163142
CREATED:20230215T155719Z
LAST-MODIFIED:20230215T155719Z
UID:10004334-1680912000-1681171199@themotoringdiary.com
SUMMARY:British Rallycross - Lydden Hill
DESCRIPTION:
URL:http://themotoringdiary.com/event/british-rallycross-lydden-hill-3/
LOCATION:Lydden Hill Race Circuit\, Wooton\, Canterbury\, Kent\, CT4 6ET\, United Kingdom
CATEGORIES:2023,British Rallycross,Motorsport,Rallycross
ATTACH;FMTTYPE=image/png:http://themotoringdiary.com/wp-content/uploads/2023/02/BRX-2021-TXF60A.tmp_.png
ORGANIZER;CN="Lydden Hill Motorsport Club":MAILTO:info@lyddenhill.co.uk
GEO:51.17743;1.199781
X-APPLE-STRUCTURED-LOCATION;VALUE=URI;X-ADDRESS=Lydden Hill Race Circuit Wooton Canterbury Kent CT4 6ET United Kingdom;X-APPLE-RADIUS=500;X-TITLE=Wooton:geo:1.199781,51.17743
END:VEVENT
BEGIN:VEVENT
DTSTART;VALUE=DATE:20221105
DTEND;VALUE=DATE:20221107
DTSTAMP:20260420T163142
CREATED:20211224T162636Z
LAST-MODIFIED:20211224T162636Z
UID:10003546-1667606400-1667779199@themotoringdiary.com
SUMMARY:British Rallycross - Lydden Hill
DESCRIPTION:The season will conclude with the final rounds at Lydden Hill over the weekend of December 5 & 6\, which will once again feature racing under floodlights and a firework spectacular on the Saturday. Due to the circuit’s shorter Sunday curfew\, the event will feature a double-header of Supercar action\, and the final round of the other classes held over the two days.
URL:http://themotoringdiary.com/event/british-rallycross-lydden-hill-2/
LOCATION:Lydden Hill Race Circuit\, Wooton\, Canterbury\, Kent\, CT4 6ET\, United Kingdom
CATEGORIES:2022,British Rallycross,Motorsport,Rallycross
ATTACH;FMTTYPE=image/png:http://themotoringdiary.com/wp-content/uploads/2021/11/BRX-2021.png
ORGANIZER;CN="Lydden Hill Motorsport Club":MAILTO:info@lyddenhill.co.uk
GEO:51.17743;1.199781
X-APPLE-STRUCTURED-LOCATION;VALUE=URI;X-ADDRESS=Lydden Hill Race Circuit Wooton Canterbury Kent CT4 6ET United Kingdom;X-APPLE-RADIUS=500;X-TITLE=Wooton:geo:1.199781,51.17743
END:VEVENT
BEGIN:VEVENT
DTSTART;VALUE=DATE:20220502
DTEND;VALUE=DATE:20220503
DTSTAMP:20260420T163142
CREATED:20211230T140158Z
LAST-MODIFIED:20211230T140158Z
UID:10003672-1651449600-1651535999@themotoringdiary.com
SUMMARY:BHP Performance Show
DESCRIPTION:BHP Performance Show\, known as the ‘first show of the year’\, is the leading Performance\, Motorsport and modified car show in the South of England.\nDISCOUNTED PUBLIC ENTRY\, CAR CLUB\, PUBLIC TRACKTIME TICKETS ARE NOW OPEN\, GO TO WWW.BHPSHOP.CO.UK  !! LIMITED AMOUNTS  !! GET THEM EARLY AND SAVE MONEY \nThe annual event which is held at Lydden Hill race Circuit in Kent for all the family. Southern Englands biggest Performance Car Show. \nThe event\, held on Monday May 3rd \, features children’s entertainment\, food village\, trade stands\, static displays from Classic to modern machinery\, and the highlight being the  9 hours of live ‘on track’ action including motorsport demonstrations and 5 hours of public track time. KID AREA FEATURING BOUNCY CASTLES\, FACE PAINTING\, AND MAGIC SHOW. \nA variety of motorsport and performance demonstrations are featured\, including Racing Lorries\, BTCC\, Drifting\, Rallycross\, Group B\, Circuit Racing\, Oval Racing\, Racing Lorries and High Powered sprint/street cars making it a fun day for all the family. \nGates open to visitors at 9am on the Monday. Gates close at 5pm with event concluding at 6pm.
URL:http://themotoringdiary.com/event/bhp-performance-show/
LOCATION:Lydden Hill Race Circuit\, Wooton\, Canterbury\, Kent\, CT4 6ET\, United Kingdom
CATEGORIES:2022,Shows
ATTACH;FMTTYPE=image/jpeg:http://themotoringdiary.com/wp-content/uploads/2021/11/BHP-Performance-Show.jpg
GEO:51.17743;1.199781
X-APPLE-STRUCTURED-LOCATION;VALUE=URI;X-ADDRESS=Lydden Hill Race Circuit Wooton Canterbury Kent CT4 6ET United Kingdom;X-APPLE-RADIUS=500;X-TITLE=Wooton:geo:1.199781,51.17743
END:VEVENT
BEGIN:VEVENT
DTSTART;VALUE=DATE:20220416
DTEND;VALUE=DATE:20220419
DTSTAMP:20260420T163142
CREATED:20211224T162635Z
LAST-MODIFIED:20211224T162635Z
UID:10003545-1650067200-1650326399@themotoringdiary.com
SUMMARY:British Rallycross - Lydden Hill
DESCRIPTION:The action will get underway at the iconic Home of Rallycross Lydden Hill\, England\, making a welcome return to its traditional date over the Easter Bank Holiday weekend. The double header event will take place on Saturday April 16 and Monday 18\, offering two standalone days of race action at the popular Kent track.
URL:http://themotoringdiary.com/event/british-rallycross-lydden-hill/
LOCATION:Lydden Hill Race Circuit\, Wooton\, Canterbury\, Kent\, CT4 6ET\, United Kingdom
CATEGORIES:2022,British Rallycross,Motorsport,Rallycross
ATTACH;FMTTYPE=image/png:http://themotoringdiary.com/wp-content/uploads/2021/11/BRX-2021.png
ORGANIZER;CN="Lydden Hill Motorsport Club":MAILTO:info@lyddenhill.co.uk
GEO:51.17743;1.199781
X-APPLE-STRUCTURED-LOCATION;VALUE=URI;X-ADDRESS=Lydden Hill Race Circuit Wooton Canterbury Kent CT4 6ET United Kingdom;X-APPLE-RADIUS=500;X-TITLE=Wooton:geo:1.199781,51.17743
END:VEVENT
END:VCALENDAR