BEGIN:VCALENDAR
VERSION:2.0
PRODID:-//The Motoring Diary - ECPv6.15.20//NONSGML v1.0//EN
CALSCALE:GREGORIAN
METHOD:PUBLISH
X-WR-CALNAME:The Motoring Diary
X-ORIGINAL-URL:http://themotoringdiary.com
X-WR-CALDESC:Events for The Motoring Diary
REFRESH-INTERVAL;VALUE=DURATION:PT1H
X-Robots-Tag:noindex
X-PUBLISHED-TTL:PT1H
BEGIN:VTIMEZONE
TZID:Europe/London
BEGIN:DAYLIGHT
TZOFFSETFROM:+0000
TZOFFSETTO:+0100
TZNAME:BST
DTSTART:20220327T010000
END:DAYLIGHT
BEGIN:STANDARD
TZOFFSETFROM:+0100
TZOFFSETTO:+0000
TZNAME:GMT
DTSTART:20221030T010000
END:STANDARD
BEGIN:DAYLIGHT
TZOFFSETFROM:+0000
TZOFFSETTO:+0100
TZNAME:BST
DTSTART:20230326T010000
END:DAYLIGHT
BEGIN:STANDARD
TZOFFSETFROM:+0100
TZOFFSETTO:+0000
TZNAME:GMT
DTSTART:20231029T010000
END:STANDARD
BEGIN:DAYLIGHT
TZOFFSETFROM:+0000
TZOFFSETTO:+0100
TZNAME:BST
DTSTART:20240331T010000
END:DAYLIGHT
BEGIN:STANDARD
TZOFFSETFROM:+0100
TZOFFSETTO:+0000
TZNAME:GMT
DTSTART:20241027T010000
END:STANDARD
END:VTIMEZONE
BEGIN:VEVENT
DTSTART;VALUE=DATE:20231202
DTEND;VALUE=DATE:20231203
DTSTAMP:20260425T121724
CREATED:20230124T113806Z
LAST-MODIFIED:20230124T113806Z
UID:10004100-1701475200-1701561599@themotoringdiary.com
SUMMARY:London Classic Off Road & Racing Show
DESCRIPTION:Come and join us as we finish the season in style at Kempton Park with a packed motorcycle autojumble and our off-road and racing show alongside! As ever\, there will be a huge selection of jumble stalls and trade stands offering bargains on all sorts of motorcycle items and project bikes. Plus\, for this special December event we welcome some beautiful machines from the off-road and racing worlds covering all the major disciplines. Among the many highlights will be Ted Davis’ and Ernest Allen’s famed Black Lightning/Watsonian sidecar outfit… and that’s just for starters.\nINFO: General admission from 9.30am Early bird entry from 7.45am (£10 per person) Traders/sellers entry from 5.45am\, plots from £28(pre-booked only) Free parking. Free admission for under-12s.
URL:http://themotoringdiary.com/event/london-classic-off-road-racing-show/
LOCATION:Kempton Park\, Staines Road Industrial Estate\, Sunbury On Thames\, Middlesex\, TW16 5AQ\, United Kingdom
CATEGORIES:2023,Autojumble,Mortons Media,motorcycle show
ATTACH;FMTTYPE=image/png:http://themotoringdiary.com/wp-content/uploads/2023/01/Kempton-Park-Autojumble-MT9kE1.tmp_.png
ORGANIZER;CN="Mortons Media Group":MAILTO:shows@mortons.co.uk
GEO:51.4179611;'-0.4066156
X-APPLE-STRUCTURED-LOCATION;VALUE=URI;X-ADDRESS=Kempton Park Staines Road Industrial Estate Sunbury On Thames Middlesex TW16 5AQ United Kingdom;X-APPLE-RADIUS=500;X-TITLE=Staines Road Industrial Estate:geo:'-0.4066156,51.4179611
END:VEVENT
BEGIN:VEVENT
DTSTART;VALUE=DATE:20231028
DTEND;VALUE=DATE:20231029
DTSTAMP:20260425T121724
CREATED:20230124T113757Z
LAST-MODIFIED:20230124T113757Z
UID:10004098-1698451200-1698537599@themotoringdiary.com
SUMMARY:Kempton Park Motorcycle Autojumbles
DESCRIPTION:The first bike jumble was held at Kempton in 1986 after it moved from Ascot racecourse. Its origins can be traced back to small autojumble events held in Eton church hall during the late seventies.\nOur Kempton Jumble now accommodates at least 250 stalls for regular traders and is a very useful venue for enthusiasts having “clear outs”. There is a wide selection of stall locations including many under cover. It has a busy market atmosphere when it opens at 9:30am and\, for many in the vintage motorcycling fraternity\, it is a social event and meeting point.
URL:http://themotoringdiary.com/event/kempton-park-motorcycle-autojumbles-4/
LOCATION:Kempton Park\, Staines Road Industrial Estate\, Sunbury On Thames\, Middlesex\, TW16 5AQ\, United Kingdom
CATEGORIES:2023,Autojumble,Automotive,Mortons Media
ATTACH;FMTTYPE=image/png:http://themotoringdiary.com/wp-content/uploads/2023/01/Kempton-Park-Autojumble-MT9kE1.tmp_.png
ORGANIZER;CN="Mortons Media Group":MAILTO:shows@mortons.co.uk
GEO:51.4179611;'-0.4066156
X-APPLE-STRUCTURED-LOCATION;VALUE=URI;X-ADDRESS=Kempton Park Staines Road Industrial Estate Sunbury On Thames Middlesex TW16 5AQ United Kingdom;X-APPLE-RADIUS=500;X-TITLE=Staines Road Industrial Estate:geo:'-0.4066156,51.4179611
END:VEVENT
BEGIN:VEVENT
DTSTART;VALUE=DATE:20230916
DTEND;VALUE=DATE:20230917
DTSTAMP:20260425T121724
CREATED:20230124T113730Z
LAST-MODIFIED:20230124T113730Z
UID:10004094-1694822400-1694908799@themotoringdiary.com
SUMMARY:Kempton Park Motorcycle Autojumbles
DESCRIPTION:The first bike jumble was held at Kempton in 1986 after it moved from Ascot racecourse. Its origins can be traced back to small autojumble events held in Eton church hall during the late seventies.\nOur Kempton Jumble now accommodates at least 250 stalls for regular traders and is a very useful venue for enthusiasts having “clear outs”. There is a wide selection of stall locations including many under cover. It has a busy market atmosphere when it opens at 9:30am and\, for many in the vintage motorcycling fraternity\, it is a social event and meeting point.
URL:http://themotoringdiary.com/event/kempton-park-motorcycle-autojumbles-3/
LOCATION:Kempton Park\, Staines Road Industrial Estate\, Sunbury On Thames\, Middlesex\, TW16 5AQ\, United Kingdom
CATEGORIES:2023,Autojumble,Automotive,Mortons Media
ATTACH;FMTTYPE=image/png:http://themotoringdiary.com/wp-content/uploads/2023/01/Kempton-Park-Autojumble-MT9kE1.tmp_.png
ORGANIZER;CN="Mortons Media Group":MAILTO:shows@mortons.co.uk
GEO:51.4179611;'-0.4066156
X-APPLE-STRUCTURED-LOCATION;VALUE=URI;X-ADDRESS=Kempton Park Staines Road Industrial Estate Sunbury On Thames Middlesex TW16 5AQ United Kingdom;X-APPLE-RADIUS=500;X-TITLE=Staines Road Industrial Estate:geo:'-0.4066156,51.4179611
END:VEVENT
BEGIN:VEVENT
DTSTART;VALUE=DATE:20230715
DTEND;VALUE=DATE:20230716
DTSTAMP:20260425T121724
CREATED:20230124T113726Z
LAST-MODIFIED:20230124T113726Z
UID:10004093-1689379200-1689465599@themotoringdiary.com
SUMMARY:Kempton Park Motorcycle Autojumbles
DESCRIPTION:The first bike jumble was held at Kempton in 1986 after it moved from Ascot racecourse. Its origins can be traced back to small autojumble events held in Eton church hall during the late seventies.\nOur Kempton Jumble now accommodates at least 250 stalls for regular traders and is a very useful venue for enthusiasts having “clear outs”. There is a wide selection of stall locations including many under cover. It has a busy market atmosphere when it opens at 9:30am and\, for many in the vintage motorcycling fraternity\, it is a social event and meeting point.
URL:http://themotoringdiary.com/event/kempton-park-motorcycle-autojumbles-2/
LOCATION:Kempton Park\, Staines Road Industrial Estate\, Sunbury On Thames\, Middlesex\, TW16 5AQ\, United Kingdom
CATEGORIES:2023,Autojumble,Automotive,Mortons Media
ATTACH;FMTTYPE=image/png:http://themotoringdiary.com/wp-content/uploads/2023/01/Kempton-Park-Autojumble-MT9kE1.tmp_.png
ORGANIZER;CN="Mortons Media Group":MAILTO:shows@mortons.co.uk
GEO:51.4179611;'-0.4066156
X-APPLE-STRUCTURED-LOCATION;VALUE=URI;X-ADDRESS=Kempton Park Staines Road Industrial Estate Sunbury On Thames Middlesex TW16 5AQ United Kingdom;X-APPLE-RADIUS=500;X-TITLE=Staines Road Industrial Estate:geo:'-0.4066156,51.4179611
END:VEVENT
BEGIN:VEVENT
DTSTART;VALUE=DATE:20230513
DTEND;VALUE=DATE:20230514
DTSTAMP:20260425T121724
CREATED:20230124T113734Z
LAST-MODIFIED:20230124T113734Z
UID:10004095-1683936000-1684022399@themotoringdiary.com
SUMMARY:London Classic Bike Show & Motorcycle Jumble 
DESCRIPTION:Come and join us this May as we bring you the Kempton Park Southern Classic Motorcycle Show and Autojumble. As ever\, there will be a huge selection of jumble stalls and trade stands offering bargains on all sorts of motorcycle items and project bikes. Plus\, for this special event we will welcome some beautiful classic machines covering a variety of makes\, models and eras. Not only is it a fantastic event to bag a bargain\, but with its friendly atmosphere it’s an ideal meeting place and social gathering for everyone in the motorcycling fraternity. And it’s all supported by Ace Cafe London and the London Motorcycle Museum.\nGeneral admission from 9.30am. Early bird entry from 7.45am (£10 per person). Traders/sellers entry from 5.45am\, plots from £28 (pre-booked only). Free parking. Free admission for under-12s.
URL:http://themotoringdiary.com/event/london-classic-bike-show-motorcycle-jumble/
LOCATION:Kempton Park\, Staines Road Industrial Estate\, Sunbury On Thames\, Middlesex\, TW16 5AQ\, United Kingdom
CATEGORIES:2023,Autojumble,Mortons Media,motorcycle show
ATTACH;FMTTYPE=image/png:http://themotoringdiary.com/wp-content/uploads/2023/01/Kempton-Park-Autojumble-MT9kE1.tmp_.png
ORGANIZER;CN="Mortons Media Group":MAILTO:shows@mortons.co.uk
GEO:51.4179611;'-0.4066156
X-APPLE-STRUCTURED-LOCATION;VALUE=URI;X-ADDRESS=Kempton Park Staines Road Industrial Estate Sunbury On Thames Middlesex TW16 5AQ United Kingdom;X-APPLE-RADIUS=500;X-TITLE=Staines Road Industrial Estate:geo:'-0.4066156,51.4179611
END:VEVENT
BEGIN:VEVENT
DTSTART;VALUE=DATE:20230325
DTEND;VALUE=DATE:20230326
DTSTAMP:20260425T121724
CREATED:20230124T113721Z
LAST-MODIFIED:20230124T113721Z
UID:10004092-1679702400-1679788799@themotoringdiary.com
SUMMARY:Kempton Park Motorcycle Autojumbles
DESCRIPTION:The first bike jumble was held at Kempton in 1986 after it moved from Ascot racecourse. Its origins can be traced back to small autojumble events held in Eton church hall during the late seventies.\nOur Kempton Jumble now accommodates at least 250 stalls for regular traders and is a very useful venue for enthusiasts having “clear outs”. There is a wide selection of stall locations including many under cover. It has a busy market atmosphere when it opens at 9:30am and\, for many in the vintage motorcycling fraternity\, it is a social event and meeting point.
URL:http://themotoringdiary.com/event/kempton-park-motorcycle-autojumbles/
LOCATION:Kempton Park\, Staines Road Industrial Estate\, Sunbury On Thames\, Middlesex\, TW16 5AQ\, United Kingdom
CATEGORIES:2023,Autojumble,Automotive,Mortons Media
ATTACH;FMTTYPE=image/png:http://themotoringdiary.com/wp-content/uploads/2023/01/Kempton-Park-Autojumble-MT9kE1.tmp_.png
ORGANIZER;CN="Mortons Media Group":MAILTO:shows@mortons.co.uk
GEO:51.4179611;'-0.4066156
X-APPLE-STRUCTURED-LOCATION;VALUE=URI;X-ADDRESS=Kempton Park Staines Road Industrial Estate Sunbury On Thames Middlesex TW16 5AQ United Kingdom;X-APPLE-RADIUS=500;X-TITLE=Staines Road Industrial Estate:geo:'-0.4066156,51.4179611
END:VEVENT
END:VCALENDAR