BEGIN:VCALENDAR
VERSION:2.0
PRODID:-//The Motoring Diary - ECPv6.15.20//NONSGML v1.0//EN
CALSCALE:GREGORIAN
METHOD:PUBLISH
X-ORIGINAL-URL:http://themotoringdiary.com
X-WR-CALDESC:Events for The Motoring Diary
REFRESH-INTERVAL;VALUE=DURATION:PT1H
X-Robots-Tag:noindex
X-PUBLISHED-TTL:PT1H
BEGIN:VTIMEZONE
TZID:Europe/London
BEGIN:DAYLIGHT
TZOFFSETFROM:+0000
TZOFFSETTO:+0100
TZNAME:BST
DTSTART:20210328T010000
END:DAYLIGHT
BEGIN:STANDARD
TZOFFSETFROM:+0100
TZOFFSETTO:+0000
TZNAME:GMT
DTSTART:20211031T010000
END:STANDARD
BEGIN:DAYLIGHT
TZOFFSETFROM:+0000
TZOFFSETTO:+0100
TZNAME:BST
DTSTART:20220327T010000
END:DAYLIGHT
BEGIN:STANDARD
TZOFFSETFROM:+0100
TZOFFSETTO:+0000
TZNAME:GMT
DTSTART:20221030T010000
END:STANDARD
BEGIN:DAYLIGHT
TZOFFSETFROM:+0000
TZOFFSETTO:+0100
TZNAME:BST
DTSTART:20230326T010000
END:DAYLIGHT
BEGIN:STANDARD
TZOFFSETFROM:+0100
TZOFFSETTO:+0000
TZNAME:GMT
DTSTART:20231029T010000
END:STANDARD
END:VTIMEZONE
BEGIN:VEVENT
DTSTART;VALUE=DATE:20221007
DTEND;VALUE=DATE:20221010
DTSTAMP:20260425T155244
CREATED:20211224T162522Z
LAST-MODIFIED:20211224T162522Z
UID:10003527-1665100800-1665359999@themotoringdiary.com
SUMMARY:DTM  - Hockenheim
DESCRIPTION:No other race series worldwide is combining tradition and modernism in such a perfect way as the DTM. Here\, young and elder spectators get to see fascinating motorsport. The touring car races are challenging\, spectacular and many legends are surrounding them. The DTM can’t be compared with anything else. It sparks emotions and invites to dream. Brave overtaking manouevres\, continuous on-track action\, pushing at the limit. Anyone who has ever attended a race is always happy to come back. The DTM is unique.
URL:http://themotoringdiary.com/event/dtm-hockenheim/
LOCATION:Hockenheimring\, Hockenheim\, Germany
CATEGORIES:2022,DTM,Motorsport,Touring Cars
ATTACH;FMTTYPE=image/png:http://themotoringdiary.com/wp-content/uploads/2021/11/DTM.png
GEO:49.319552;8.5498581
END:VEVENT
BEGIN:VEVENT
DTSTART;VALUE=DATE:20220902
DTEND;VALUE=DATE:20220905
DTSTAMP:20260425T155244
CREATED:20211224T090113Z
LAST-MODIFIED:20211224T090113Z
UID:10003289-1662076800-1662335999@themotoringdiary.com
SUMMARY:GT World Challenge Europe - Germany
DESCRIPTION:
URL:http://themotoringdiary.com/event/gt-world-challenge-europe-germany/
LOCATION:Hockenheimring\, Hockenheim\, Germany
CATEGORIES:2022,GT World Challenge,Motorsport,Sportscars,SRO
ATTACH;FMTTYPE=image/png:http://themotoringdiary.com/wp-content/uploads/2021/11/GT-World-Challenge-Europe.png
ORGANIZER;CN="SRO Motorsports Group":MAILTO:aaron@sro-motorsports.com
GEO:49.319552;8.5498581
END:VEVENT
BEGIN:VEVENT
DTSTART;VALUE=DATE:20220902
DTEND;VALUE=DATE:20220905
DTSTAMP:20260425T155244
CREATED:20211224T090010Z
LAST-MODIFIED:20211224T090010Z
UID:10003279-1662076800-1662335999@themotoringdiary.com
SUMMARY:GT4 European Series - Germany
DESCRIPTION:
URL:http://themotoringdiary.com/event/gt4-european-series-germany/
LOCATION:Hockenheimring\, Hockenheim\, Germany
CATEGORIES:2022,GT racing,GT4 European,Motorsport,Sportscars,SRO
ATTACH;FMTTYPE=image/png:http://themotoringdiary.com/wp-content/uploads/2021/11/GT4-European.png
ORGANIZER;CN="SRO Motorsports Group":MAILTO:aaron@sro-motorsports.com
GEO:49.319552;8.5498581
END:VEVENT
BEGIN:VEVENT
DTSTART;VALUE=DATE:20220513
DTEND;VALUE=DATE:20220516
DTSTAMP:20260425T155244
CREATED:20211224T082345Z
LAST-MODIFIED:20211224T082345Z
UID:10003248-1652400000-1652659199@themotoringdiary.com
SUMMARY:12H Hockenheim
DESCRIPTION:
URL:http://themotoringdiary.com/event/12h-hockenheim/
LOCATION:Hockenheimring\, Hockenheim\, Germany
CATEGORIES:2022,24H Series,Creventic,Motorsport,Sportscars
ATTACH;FMTTYPE=image/png:http://themotoringdiary.com/wp-content/uploads/2021/11/24H-Series-Continent.png
ORGANIZER;CN="Creventic":MAILTO:info@creventic.com
GEO:49.319552;8.5498581
END:VEVENT
END:VCALENDAR