BEGIN:VCALENDAR
VERSION:2.0
PRODID:-//The Motoring Diary - ECPv6.15.20//NONSGML v1.0//EN
CALSCALE:GREGORIAN
METHOD:PUBLISH
X-WR-CALNAME:The Motoring Diary
X-ORIGINAL-URL:http://themotoringdiary.com
X-WR-CALDESC:Events for The Motoring Diary
REFRESH-INTERVAL;VALUE=DURATION:PT1H
X-Robots-Tag:noindex
X-PUBLISHED-TTL:PT1H
BEGIN:VTIMEZONE
TZID:Europe/London
BEGIN:DAYLIGHT
TZOFFSETFROM:+0000
TZOFFSETTO:+0100
TZNAME:BST
DTSTART:20210328T010000
END:DAYLIGHT
BEGIN:STANDARD
TZOFFSETFROM:+0100
TZOFFSETTO:+0000
TZNAME:GMT
DTSTART:20211031T010000
END:STANDARD
BEGIN:DAYLIGHT
TZOFFSETFROM:+0000
TZOFFSETTO:+0100
TZNAME:BST
DTSTART:20220327T010000
END:DAYLIGHT
BEGIN:STANDARD
TZOFFSETFROM:+0100
TZOFFSETTO:+0000
TZNAME:GMT
DTSTART:20221030T010000
END:STANDARD
BEGIN:DAYLIGHT
TZOFFSETFROM:+0000
TZOFFSETTO:+0100
TZNAME:BST
DTSTART:20230326T010000
END:DAYLIGHT
BEGIN:STANDARD
TZOFFSETFROM:+0100
TZOFFSETTO:+0000
TZNAME:GMT
DTSTART:20231029T010000
END:STANDARD
BEGIN:DAYLIGHT
TZOFFSETFROM:+0000
TZOFFSETTO:+0100
TZNAME:BST
DTSTART:20240331T010000
END:DAYLIGHT
BEGIN:STANDARD
TZOFFSETFROM:+0100
TZOFFSETTO:+0000
TZNAME:GMT
DTSTART:20241027T010000
END:STANDARD
END:VTIMEZONE
BEGIN:VEVENT
DTSTART;VALUE=DATE:20230929
DTEND;VALUE=DATE:20231002
DTSTAMP:20260425T154050
CREATED:20230124T155511Z
LAST-MODIFIED:20230124T155511Z
UID:10004194-1695945600-1696204799@themotoringdiary.com
SUMMARY:World Superbikes - Portugal
DESCRIPTION:
URL:http://themotoringdiary.com/event/world-superbikes-portugal-3/
LOCATION:Circuito Estoril\, Av. Alfredo César Torres\, 2646-901 Alcabideche\, Portugal
CATEGORIES:2023,Dorna,Motorbikes,Motorsport,World Superbikes,wsbk
ATTACH;FMTTYPE=image/png:http://themotoringdiary.com/wp-content/uploads/2023/01/World-Superbikes-iV4Jdy.tmp_.png
ORGANIZER;CN="Dorna":MAILTO:info.events@dorna.com
GEO:38.7487363;-9.393469
X-APPLE-STRUCTURED-LOCATION;VALUE=URI;X-ADDRESS=Circuito Estoril Av. Alfredo César Torres 2646-901 Alcabideche Portugal;X-APPLE-RADIUS=500;X-TITLE=Av. Alfredo César Torres:geo:-9.393469,38.7487363
END:VEVENT
BEGIN:VEVENT
DTSTART;VALUE=DATE:20221007
DTEND;VALUE=DATE:20221010
DTSTAMP:20260425T154050
CREATED:20211230T141455Z
LAST-MODIFIED:20220113T155556Z
UID:10003698-1665100800-1665359999@themotoringdiary.com
SUMMARY:Estoril Classics
DESCRIPTION:
URL:http://themotoringdiary.com/event/estoril-classics/
LOCATION:Circuito Estoril\, Av. Alfredo César Torres\, 2646-901 Alcabideche\, Portugal
CATEGORIES:2022,Historic,Motorsport,Peter Auto
ATTACH;FMTTYPE=image/jpeg:http://themotoringdiary.com/wp-content/uploads/2021/11/Estoril-Classics.jpg
ORGANIZER;CN="Peter Auto":MAILTO:info@peter.fr
GEO:38.7487363;-9.393469
X-APPLE-STRUCTURED-LOCATION;VALUE=URI;X-ADDRESS=Circuito Estoril Av. Alfredo César Torres 2646-901 Alcabideche Portugal;X-APPLE-RADIUS=500;X-TITLE=Av. Alfredo César Torres:geo:-9.393469,38.7487363
END:VEVENT
BEGIN:VEVENT
DTSTART;VALUE=DATE:20220520
DTEND;VALUE=DATE:20220523
DTSTAMP:20260425T154050
CREATED:20211224T095044Z
LAST-MODIFIED:20211224T100945Z
UID:10003176-1653004800-1653263999@themotoringdiary.com
SUMMARY:World Superbikes - Portugal
DESCRIPTION:
URL:http://themotoringdiary.com/event/world-superbikes-portugal/
LOCATION:Circuito Estoril\, Av. Alfredo César Torres\, 2646-901 Alcabideche\, Portugal
CATEGORIES:2022,Dorna,Motorbikes,Motorsport,World Superbikes,wsbk
ATTACH;FMTTYPE=image/png:http://themotoringdiary.com/wp-content/uploads/2021/11/World-Superbikes.png
ORGANIZER;CN="Dorna":MAILTO:info.events@dorna.com
GEO:38.7487363;-9.393469
X-APPLE-STRUCTURED-LOCATION;VALUE=URI;X-ADDRESS=Circuito Estoril Av. Alfredo César Torres 2646-901 Alcabideche Portugal;X-APPLE-RADIUS=500;X-TITLE=Av. Alfredo César Torres:geo:-9.393469,38.7487363
END:VEVENT
END:VCALENDAR