BEGIN:VCALENDAR
VERSION:2.0
PRODID:-//The Motoring Diary - ECPv6.15.20//NONSGML v1.0//EN
CALSCALE:GREGORIAN
METHOD:PUBLISH
X-ORIGINAL-URL:http://themotoringdiary.com
X-WR-CALDESC:Events for The Motoring Diary
REFRESH-INTERVAL;VALUE=DURATION:PT1H
X-Robots-Tag:noindex
X-PUBLISHED-TTL:PT1H
BEGIN:VTIMEZONE
TZID:Europe/London
BEGIN:DAYLIGHT
TZOFFSETFROM:+0000
TZOFFSETTO:+0100
TZNAME:BST
DTSTART:20210328T010000
END:DAYLIGHT
BEGIN:STANDARD
TZOFFSETFROM:+0100
TZOFFSETTO:+0000
TZNAME:GMT
DTSTART:20211031T010000
END:STANDARD
BEGIN:DAYLIGHT
TZOFFSETFROM:+0000
TZOFFSETTO:+0100
TZNAME:BST
DTSTART:20220327T010000
END:DAYLIGHT
BEGIN:STANDARD
TZOFFSETFROM:+0100
TZOFFSETTO:+0000
TZNAME:GMT
DTSTART:20221030T010000
END:STANDARD
BEGIN:DAYLIGHT
TZOFFSETFROM:+0000
TZOFFSETTO:+0100
TZNAME:BST
DTSTART:20230326T010000
END:DAYLIGHT
BEGIN:STANDARD
TZOFFSETFROM:+0100
TZOFFSETTO:+0000
TZNAME:GMT
DTSTART:20231029T010000
END:STANDARD
END:VTIMEZONE
BEGIN:VEVENT
DTSTART;VALUE=DATE:20220618
DTEND;VALUE=DATE:20220620
DTSTAMP:20260425T141253
CREATED:20220113T180213Z
LAST-MODIFIED:20220113T180213Z
UID:10003865-1655510400-1655683199@themotoringdiary.com
SUMMARY:Fathers Day Motorfest
DESCRIPTION:One of the UK’s biggest all-action family events\, Motorfest 2022 is not one to be missed! You’ll be amazed from the moment you step into this action-packed event. From adventurous monster truck rides to the opportunity to take to the skies in a helicopter ride\, there’s so much to see\, and do! \nCheck out the main arena to see monster trucks having a tug of war\, the thrills of two wheel magicians on motorcycles and awesome motoring displays. There’s something for everyone\, all day long!! Kids will love our inflatable village and full size funfair at this years Motorfest! Bounce all day for free\, play on the dodgems\, or check out the amazing Wall of Death.\nThat’s just a taste of what we have to offer at this years show! You can relax and take in the shopping village and once you’ve built up an appetite\, head over to one of our locally-based artisan street food and drink vendors. Fancy a little rest after all that excitement? Take in the chilled vibes and soak up the sun whilst listening to live music on stage.
URL:http://themotoringdiary.com/event/fathers-day-motorfest/
LOCATION:Kings farm\, kings farm\, chelmsford\, essex\, cm1 3pj\, United Kingdom
CATEGORIES:2022,Motor Shows,Shows
ATTACH;FMTTYPE=image/jpeg:http://themotoringdiary.com/wp-content/uploads/2022/01/Fathers-Day-Motofest.jpg
ORGANIZER;CN="motorshow events":MAILTO:info@motorshowevents.com
GEO:52.742198;0.3975043
X-APPLE-STRUCTURED-LOCATION;VALUE=URI;X-ADDRESS=Kings farm kings farm chelmsford essex cm1 3pj United Kingdom;X-APPLE-RADIUS=500;X-TITLE=kings farm:geo:0.3975043,52.742198
END:VEVENT
END:VCALENDAR