BEGIN:VCALENDAR
VERSION:2.0
PRODID:-//The Motoring Diary - ECPv6.15.20//NONSGML v1.0//EN
CALSCALE:GREGORIAN
METHOD:PUBLISH
X-ORIGINAL-URL:http://themotoringdiary.com
X-WR-CALDESC:Events for The Motoring Diary
REFRESH-INTERVAL;VALUE=DURATION:PT1H
X-Robots-Tag:noindex
X-PUBLISHED-TTL:PT1H
BEGIN:VTIMEZONE
TZID:Europe/London
BEGIN:DAYLIGHT
TZOFFSETFROM:+0000
TZOFFSETTO:+0100
TZNAME:BST
DTSTART:20210328T010000
END:DAYLIGHT
BEGIN:STANDARD
TZOFFSETFROM:+0100
TZOFFSETTO:+0000
TZNAME:GMT
DTSTART:20211031T010000
END:STANDARD
BEGIN:DAYLIGHT
TZOFFSETFROM:+0000
TZOFFSETTO:+0100
TZNAME:BST
DTSTART:20220327T010000
END:DAYLIGHT
BEGIN:STANDARD
TZOFFSETFROM:+0100
TZOFFSETTO:+0000
TZNAME:GMT
DTSTART:20221030T010000
END:STANDARD
BEGIN:DAYLIGHT
TZOFFSETFROM:+0000
TZOFFSETTO:+0100
TZNAME:BST
DTSTART:20230326T010000
END:DAYLIGHT
BEGIN:STANDARD
TZOFFSETFROM:+0100
TZOFFSETTO:+0000
TZNAME:GMT
DTSTART:20231029T010000
END:STANDARD
BEGIN:DAYLIGHT
TZOFFSETFROM:+0000
TZOFFSETTO:+0100
TZNAME:BST
DTSTART:20240331T010000
END:DAYLIGHT
BEGIN:STANDARD
TZOFFSETFROM:+0100
TZOFFSETTO:+0000
TZNAME:GMT
DTSTART:20241027T010000
END:STANDARD
BEGIN:DAYLIGHT
TZOFFSETFROM:+0000
TZOFFSETTO:+0100
TZNAME:BST
DTSTART:20250330T010000
END:DAYLIGHT
BEGIN:STANDARD
TZOFFSETFROM:+0100
TZOFFSETTO:+0000
TZNAME:GMT
DTSTART:20251026T010000
END:STANDARD
END:VTIMEZONE
BEGIN:VEVENT
DTSTART;VALUE=DATE:20240504
DTEND;VALUE=DATE:20240506
DTSTAMP:20260421T131122
CREATED:20231204T164406Z
LAST-MODIFIED:20231204T164406Z
UID:10004653-1714780800-1714953599@themotoringdiary.com
SUMMARY:Donington Historic Festival
DESCRIPTION:Whether you’re a long-time enthusiast or have never seen a historic racing car in action before\, you’ll find plenty to entertain you at the Donington Historic Festival. After seven very successful years the event is firmly established as a major fixture on the international historic racing calendar\, attracting many thousands of spectators\, hundreds of world-class historic racing cars and huge numbers of classic car club displays.
URL:http://themotoringdiary.com/event/donington-historic-festival-2/
LOCATION:Donington Park Circuit\, Castle Donington\, Derby\, Leicestershire\, DE74 2RP\, United Kingdom
CATEGORIES:2024,Historic,Motorsport
ATTACH;FMTTYPE=image/png:http://themotoringdiary.com/wp-content/uploads/2023/12/Donington-Historic-4qhIVZ.tmp_.png
ORGANIZER;CN="Historic Promotions":MAILTO:enquiries@historicpromotions.com
GEO:52.828346;-1.3724602
X-APPLE-STRUCTURED-LOCATION;VALUE=URI;X-ADDRESS=Donington Park Circuit Castle Donington Derby Leicestershire DE74 2RP United Kingdom;X-APPLE-RADIUS=500;X-TITLE=Castle Donington:geo:-1.3724602,52.828346
END:VEVENT
BEGIN:VEVENT
DTSTART;VALUE=DATE:20220430
DTEND;VALUE=DATE:20220502
DTSTAMP:20260421T131122
CREATED:20220113T154926Z
LAST-MODIFIED:20220113T154926Z
UID:10003860-1651276800-1651449599@themotoringdiary.com
SUMMARY:Donington Historic Festival
DESCRIPTION:TWO EXHILARATING DAYS CELEBRATING EIGHT DECADES OF MOTORSPORT
URL:http://themotoringdiary.com/event/donington-historic-festival/
LOCATION:Donington Park Circuit\, Castle Donington\, Derby\, Leicestershire\, DE74 2RP\, United Kingdom
CATEGORIES:2022,Historic,Historic Promotions,Motorsport
ATTACH;FMTTYPE=image/jpeg:http://themotoringdiary.com/wp-content/uploads/2022/01/DHF_Logo-black-border.jpg
ORGANIZER;CN="Historic Promotions":MAILTO:enquiries@historicpromotions.com
GEO:52.828346;-1.3724602
X-APPLE-STRUCTURED-LOCATION;VALUE=URI;X-ADDRESS=Donington Park Circuit Castle Donington Derby Leicestershire DE74 2RP United Kingdom;X-APPLE-RADIUS=500;X-TITLE=Castle Donington:geo:-1.3724602,52.828346
END:VEVENT
END:VCALENDAR