BEGIN:VCALENDAR
VERSION:2.0
PRODID:-//The Motoring Diary - ECPv6.15.20//NONSGML v1.0//EN
CALSCALE:GREGORIAN
METHOD:PUBLISH
X-WR-CALNAME:The Motoring Diary
X-ORIGINAL-URL:http://themotoringdiary.com
X-WR-CALDESC:Events for The Motoring Diary
REFRESH-INTERVAL;VALUE=DURATION:PT1H
X-Robots-Tag:noindex
X-PUBLISHED-TTL:PT1H
BEGIN:VTIMEZONE
TZID:Europe/London
BEGIN:DAYLIGHT
TZOFFSETFROM:+0000
TZOFFSETTO:+0100
TZNAME:BST
DTSTART:20220327T010000
END:DAYLIGHT
BEGIN:STANDARD
TZOFFSETFROM:+0100
TZOFFSETTO:+0000
TZNAME:GMT
DTSTART:20221030T010000
END:STANDARD
BEGIN:DAYLIGHT
TZOFFSETFROM:+0000
TZOFFSETTO:+0100
TZNAME:BST
DTSTART:20230326T010000
END:DAYLIGHT
BEGIN:STANDARD
TZOFFSETFROM:+0100
TZOFFSETTO:+0000
TZNAME:GMT
DTSTART:20231029T010000
END:STANDARD
BEGIN:DAYLIGHT
TZOFFSETFROM:+0000
TZOFFSETTO:+0100
TZNAME:BST
DTSTART:20240331T010000
END:DAYLIGHT
BEGIN:STANDARD
TZOFFSETFROM:+0100
TZOFFSETTO:+0000
TZNAME:GMT
DTSTART:20241027T010000
END:STANDARD
END:VTIMEZONE
BEGIN:VEVENT
DTSTART;VALUE=DATE:20230511
DTEND;VALUE=DATE:20230522
DTSTAMP:20260421T130859
CREATED:20230301T162331Z
LAST-MODIFIED:20230301T162331Z
UID:10004500-1683763200-1684713599@themotoringdiary.com
SUMMARY:Barcelona International Motor Show
DESCRIPTION:
URL:http://themotoringdiary.com/event/barcelona-international-motor-show/
LOCATION:Fira Barcelona\, Av. reina Maria Cristina s/n\, Barcelona\, 8004\, Spain
CATEGORIES:2023,Automotive,Motor Shows
ATTACH;FMTTYPE=image/jpeg:http://themotoringdiary.com/wp-content/uploads/2023/03/Barcelona-Motor-Show-h0SWKU.tmp_.jpg
ORGANIZER;CN="Fira Barcelona":MAILTO:infofira@firabarcelona.com
GEO:41.3733545;2.1502695
X-APPLE-STRUCTURED-LOCATION;VALUE=URI;X-ADDRESS=Fira Barcelona Av. reina Maria Cristina s/n Barcelona 8004 Spain;X-APPLE-RADIUS=500;X-TITLE=Av. reina Maria Cristina s/n:geo:2.1502695,41.3733545
END:VEVENT
END:VCALENDAR