BEGIN:VCALENDAR
VERSION:2.0
PRODID:-//The Motoring Diary - ECPv6.15.20//NONSGML v1.0//EN
CALSCALE:GREGORIAN
METHOD:PUBLISH
X-ORIGINAL-URL:http://themotoringdiary.com
X-WR-CALDESC:Events for The Motoring Diary
REFRESH-INTERVAL;VALUE=DURATION:PT1H
X-Robots-Tag:noindex
X-PUBLISHED-TTL:PT1H
BEGIN:VTIMEZONE
TZID:Europe/London
BEGIN:DAYLIGHT
TZOFFSETFROM:+0000
TZOFFSETTO:+0100
TZNAME:BST
DTSTART:20210328T010000
END:DAYLIGHT
BEGIN:STANDARD
TZOFFSETFROM:+0100
TZOFFSETTO:+0000
TZNAME:GMT
DTSTART:20211031T010000
END:STANDARD
BEGIN:DAYLIGHT
TZOFFSETFROM:+0000
TZOFFSETTO:+0100
TZNAME:BST
DTSTART:20220327T010000
END:DAYLIGHT
BEGIN:STANDARD
TZOFFSETFROM:+0100
TZOFFSETTO:+0000
TZNAME:GMT
DTSTART:20221030T010000
END:STANDARD
BEGIN:DAYLIGHT
TZOFFSETFROM:+0000
TZOFFSETTO:+0100
TZNAME:BST
DTSTART:20230326T010000
END:DAYLIGHT
BEGIN:STANDARD
TZOFFSETFROM:+0100
TZOFFSETTO:+0000
TZNAME:GMT
DTSTART:20231029T010000
END:STANDARD
END:VTIMEZONE
BEGIN:VEVENT
DTSTART;VALUE=DATE:20220702
DTEND;VALUE=DATE:20220704
DTSTAMP:20260425T141718
CREATED:20211224T162814Z
LAST-MODIFIED:20211224T162814Z
UID:10003339-1656720000-1656892799@themotoringdiary.com
SUMMARY:WRX - Sweden
DESCRIPTION:
URL:http://themotoringdiary.com/event/wrx-sweden/
LOCATION:Holjes Motorstadion\, Holjes\, 680 65\, Sweden
CATEGORIES:2022,Motorsport,Rallycross,Rallycross Promoter,World Rallycross
ATTACH;FMTTYPE=image/jpeg:http://themotoringdiary.com/wp-content/uploads/2021/12/World-RX.jpg
GEO:60.916498;12.55908
X-APPLE-STRUCTURED-LOCATION;VALUE=URI;X-ADDRESS=Holjes Motorstadion Holjes 680 65 Sweden;X-APPLE-RADIUS=500;X-TITLE=Holjes:geo:12.55908,60.916498
END:VEVENT
BEGIN:VEVENT
DTSTART;VALUE=DATE:20220730
DTEND;VALUE=DATE:20220801
DTSTAMP:20260425T141718
CREATED:20211224T162806Z
LAST-MODIFIED:20211224T162806Z
UID:10003333-1659139200-1659311999@themotoringdiary.com
SUMMARY:WRX - Germany
DESCRIPTION:
URL:http://themotoringdiary.com/event/wrx-germany/
LOCATION:Nurburgring\, Nürburgring Boulevard 1\, Nürburg\, 53520\, Germany
CATEGORIES:2022,Motorsport,Rallycross,Rallycross Promoter,World Rallycross
ATTACH;FMTTYPE=image/jpeg:http://themotoringdiary.com/wp-content/uploads/2021/12/World-RX.jpg
GEO:50.3340981;6.9426625
X-APPLE-STRUCTURED-LOCATION;VALUE=URI;X-ADDRESS=Nurburgring Nürburgring Boulevard 1 Nürburg 53520 Germany;X-APPLE-RADIUS=500;X-TITLE=Nürburgring Boulevard 1:geo:6.9426625,50.3340981
END:VEVENT
BEGIN:VEVENT
DTSTART;VALUE=DATE:20220813
DTEND;VALUE=DATE:20220815
DTSTAMP:20260425T141718
CREATED:20211224T162806Z
LAST-MODIFIED:20211224T162806Z
UID:10003335-1660348800-1660521599@themotoringdiary.com
SUMMARY:WRX - Norway
DESCRIPTION:
URL:http://themotoringdiary.com/event/wrx-norway/
LOCATION:Hell\, Lankebanen\, Hell\, 7517\, Norway
CATEGORIES:2022,Motorsport,Rallycross,Rallycross Promoter,World Rallycross
ATTACH;FMTTYPE=image/jpeg:http://themotoringdiary.com/wp-content/uploads/2021/12/World-RX.jpg
GEO:63.404849;10.92099
X-APPLE-STRUCTURED-LOCATION;VALUE=URI;X-ADDRESS=Hell Lankebanen Hell 7517 Norway;X-APPLE-RADIUS=500;X-TITLE=Lankebanen:geo:10.92099,63.404849
END:VEVENT
BEGIN:VEVENT
DTSTART;VALUE=DATE:20220903
DTEND;VALUE=DATE:20220905
DTSTAMP:20260425T141718
CREATED:20211224T162814Z
LAST-MODIFIED:20211224T162814Z
UID:10003341-1662163200-1662335999@themotoringdiary.com
SUMMARY:WRX - Latvia
DESCRIPTION:
URL:http://themotoringdiary.com/event/wrx-latvia/
CATEGORIES:2022,Motorsport,Rallycross,Rallycross Promoter,World Rallycross
ATTACH;FMTTYPE=image/jpeg:http://themotoringdiary.com/wp-content/uploads/2021/12/World-RX.jpg
END:VEVENT
BEGIN:VEVENT
DTSTART;VALUE=DATE:20220917
DTEND;VALUE=DATE:20220919
DTSTAMP:20260425T141718
CREATED:20211224T162806Z
LAST-MODIFIED:20211224T162806Z
UID:10003337-1663372800-1663545599@themotoringdiary.com
SUMMARY:WRX - Portugal
DESCRIPTION:
URL:http://themotoringdiary.com/event/wrx-portugal/
LOCATION:Circuito Internacional de Montalegre\, Municipality of Montalegre\, Town Hall Square\, No. 1\, Montalegre\, 5470 - 214\, Portugal
CATEGORIES:2022,Motorsport,Rallycross,Rallycross Promoter,World Rallycross
ATTACH;FMTTYPE=image/jpeg:http://themotoringdiary.com/wp-content/uploads/2021/12/World-RX.jpg
GEO:41.823188;-7.7918073
X-APPLE-STRUCTURED-LOCATION;VALUE=URI;X-ADDRESS=Circuito Internacional de Montalegre Municipality of Montalegre Town Hall Square No. 1 Montalegre 5470 - 214 Portugal;X-APPLE-RADIUS=500;X-TITLE=Municipality of Montalegre:geo:-7.7918073,41.823188
END:VEVENT
BEGIN:VEVENT
DTSTART;VALUE=DATE:20221008
DTEND;VALUE=DATE:20221010
DTSTAMP:20260425T141718
CREATED:20211224T162805Z
LAST-MODIFIED:20211224T162805Z
UID:10003332-1665187200-1665359999@themotoringdiary.com
SUMMARY:WRX - Belgium
DESCRIPTION:
URL:http://themotoringdiary.com/event/wrx-belgium/
LOCATION:Circuit de Spa-Francorchamps\, Stavelot\, Belgium
CATEGORIES:2022,Motorsport,Rallycross,Rallycross Promoter,World Rallycross
ATTACH;FMTTYPE=image/jpeg:http://themotoringdiary.com/wp-content/uploads/2021/12/World-RX.jpg
GEO:50.3940981;5.9304413
END:VEVENT
END:VCALENDAR