BEGIN:VCALENDAR
VERSION:2.0
PRODID:-//The Motoring Diary - ECPv6.15.20//NONSGML v1.0//EN
CALSCALE:GREGORIAN
METHOD:PUBLISH
X-ORIGINAL-URL:http://themotoringdiary.com
X-WR-CALDESC:Events for The Motoring Diary
REFRESH-INTERVAL;VALUE=DURATION:PT1H
X-Robots-Tag:noindex
X-PUBLISHED-TTL:PT1H
BEGIN:VTIMEZONE
TZID:Europe/London
BEGIN:DAYLIGHT
TZOFFSETFROM:+0000
TZOFFSETTO:+0100
TZNAME:BST
DTSTART:20210328T010000
END:DAYLIGHT
BEGIN:STANDARD
TZOFFSETFROM:+0100
TZOFFSETTO:+0000
TZNAME:GMT
DTSTART:20211031T010000
END:STANDARD
BEGIN:DAYLIGHT
TZOFFSETFROM:+0000
TZOFFSETTO:+0100
TZNAME:BST
DTSTART:20220327T010000
END:DAYLIGHT
BEGIN:STANDARD
TZOFFSETFROM:+0100
TZOFFSETTO:+0000
TZNAME:GMT
DTSTART:20221030T010000
END:STANDARD
BEGIN:DAYLIGHT
TZOFFSETFROM:+0000
TZOFFSETTO:+0100
TZNAME:BST
DTSTART:20230326T010000
END:DAYLIGHT
BEGIN:STANDARD
TZOFFSETFROM:+0100
TZOFFSETTO:+0000
TZNAME:GMT
DTSTART:20231029T010000
END:STANDARD
BEGIN:DAYLIGHT
TZOFFSETFROM:+0000
TZOFFSETTO:+0100
TZNAME:BST
DTSTART:20240331T010000
END:DAYLIGHT
BEGIN:STANDARD
TZOFFSETFROM:+0100
TZOFFSETTO:+0000
TZNAME:GMT
DTSTART:20241027T010000
END:STANDARD
END:VTIMEZONE
BEGIN:VEVENT
DTSTART;VALUE=DATE:20231104
DTEND;VALUE=DATE:20231105
DTSTAMP:20260425T175247
CREATED:20230215T151413Z
LAST-MODIFIED:20230215T151413Z
UID:10004304-1699056000-1699142399@themotoringdiary.com
SUMMARY:WEC - 8 Hours Bahrain
DESCRIPTION:
URL:http://themotoringdiary.com/event/wec-8-hours-bahrain-2/
LOCATION:Bahrain International Circuit\, Sakhir\, Bahrain
CATEGORIES:2023,Motorsport,Sportscars,WEC
ATTACH;FMTTYPE=image/png:http://themotoringdiary.com/wp-content/uploads/2023/02/WEC-n9Iprq.tmp_.png
GEO:26.0316;50.5129
END:VEVENT
BEGIN:VEVENT
DTSTART;VALUE=DATE:20230910
DTEND;VALUE=DATE:20230911
DTSTAMP:20260425T175247
CREATED:20230215T151404Z
LAST-MODIFIED:20230215T151404Z
UID:10004303-1694304000-1694390399@themotoringdiary.com
SUMMARY:WEC - 6 Hours of Fuji
DESCRIPTION:
URL:http://themotoringdiary.com/event/wec-6-hours-of-fuji-2/
LOCATION:Fuji Speedway\, 694 Nakahinata\, Oyama-Cho Sunto-Gun\, Shizuoka-Ken\, 410-1307\, Japan
CATEGORIES:2023,Motorsport,Sportscars,WEC
ATTACH;FMTTYPE=image/png:http://themotoringdiary.com/wp-content/uploads/2023/02/WEC-n9Iprq.tmp_.png
GEO:35.368038;138.937428
X-APPLE-STRUCTURED-LOCATION;VALUE=URI;X-ADDRESS=Fuji Speedway 694 Nakahinata Oyama-Cho Sunto-Gun Shizuoka-Ken 410-1307 Japan;X-APPLE-RADIUS=500;X-TITLE=694 Nakahinata:geo:138.937428,35.368038
END:VEVENT
BEGIN:VEVENT
DTSTART;VALUE=DATE:20230709
DTEND;VALUE=DATE:20230710
DTSTAMP:20260425T175247
CREATED:20230215T151357Z
LAST-MODIFIED:20230215T151357Z
UID:10004302-1688860800-1688947199@themotoringdiary.com
SUMMARY:WEC - 6 Hours Of Monza
DESCRIPTION:
URL:http://themotoringdiary.com/event/wec-6-hours-of-monza-2/
LOCATION:Autodromo Nazionale Monza\, Monza\, Italy
CATEGORIES:2023,Motorsport,Sportscars,WEC
ATTACH;FMTTYPE=image/png:http://themotoringdiary.com/wp-content/uploads/2023/02/WEC-n9Iprq.tmp_.png
GEO:45.5845001;9.2744485
END:VEVENT
BEGIN:VEVENT
DTSTART;VALUE=DATE:20230429
DTEND;VALUE=DATE:20230430
DTSTAMP:20260425T175247
CREATED:20230215T151350Z
LAST-MODIFIED:20230215T151350Z
UID:10004301-1682726400-1682812799@themotoringdiary.com
SUMMARY:WEC - 6 hours Of Spa
DESCRIPTION:
URL:http://themotoringdiary.com/event/wec-6-hours-of-spa-2/
LOCATION:Circuit de Spa-Francorchamps\, Stavelot\, Belgium
CATEGORIES:2023,Motorsport,Sportscars,WEC
ATTACH;FMTTYPE=image/png:http://themotoringdiary.com/wp-content/uploads/2023/02/WEC-n9Iprq.tmp_.png
GEO:50.3940981;5.9304413
END:VEVENT
BEGIN:VEVENT
DTSTART;VALUE=DATE:20230416
DTEND;VALUE=DATE:20230417
DTSTAMP:20260425T175247
CREATED:20230215T151432Z
LAST-MODIFIED:20230215T151432Z
UID:10004305-1681603200-1681689599@themotoringdiary.com
SUMMARY:WEC - 6 Hours Portimao
DESCRIPTION:
URL:http://themotoringdiary.com/event/wec-6-hours-portimao/
LOCATION:Autodromo Internacional Do Algarve\, Sítio do Escampadinho\, Mexilhoeira Grande\, 8500-148 Portimão\, Portugal
CATEGORIES:2023,Motorsport,Sportscars,WEC
ATTACH;FMTTYPE=image/png:http://themotoringdiary.com/wp-content/uploads/2023/02/WEC-n9Iprq.tmp_.png
GEO:37.2427708;-8.624884
X-APPLE-STRUCTURED-LOCATION;VALUE=URI;X-ADDRESS=Autodromo Internacional Do Algarve Sítio do Escampadinho Mexilhoeira Grande 8500-148 Portimão Portugal;X-APPLE-RADIUS=500;X-TITLE=Sítio do Escampadinho:geo:-8.624884,37.2427708
END:VEVENT
BEGIN:VEVENT
DTSTART;VALUE=DATE:20230317
DTEND;VALUE=DATE:20230318
DTSTAMP:20260425T175247
CREATED:20230215T151342Z
LAST-MODIFIED:20230215T151342Z
UID:10004300-1679011200-1679097599@themotoringdiary.com
SUMMARY:WEC - 1000 miles of Sebring
DESCRIPTION:
URL:http://themotoringdiary.com/event/wec-1000-miles-of-sebring-2/
LOCATION:Sebring International Raceway\, 113 Midway Dr\, Sebring\, FL\, 33870
CATEGORIES:2023,Motorsport,Sportscars,WEC
ATTACH;FMTTYPE=image/png:http://themotoringdiary.com/wp-content/uploads/2023/02/WEC-n9Iprq.tmp_.png
GEO:27.4550124;-81.3496801
X-APPLE-STRUCTURED-LOCATION;VALUE=URI;X-ADDRESS=Sebring International Raceway 113 Midway Dr Sebring FL 33870;X-APPLE-RADIUS=500;X-TITLE=113 Midway Dr:geo:-81.3496801,27.4550124
END:VEVENT
BEGIN:VEVENT
DTSTART;VALUE=DATE:20221112
DTEND;VALUE=DATE:20221113
DTSTAMP:20260425T175247
CREATED:20211224T142353Z
LAST-MODIFIED:20211231T100035Z
UID:10003476-1668211200-1668297599@themotoringdiary.com
SUMMARY:WEC - 8 Hours Bahrain
DESCRIPTION:
URL:http://themotoringdiary.com/event/wec-8-hours-bahrain/
LOCATION:Bahrain International Circuit\, Sakhir\, Bahrain
CATEGORIES:2022,Motorsport,Sportscars,WEC
ATTACH;FMTTYPE=image/png:http://themotoringdiary.com/wp-content/uploads/2021/12/WEC-1-7jLXgF.tmp_.png
GEO:26.0316;50.5129
END:VEVENT
BEGIN:VEVENT
DTSTART;VALUE=DATE:20220911
DTEND;VALUE=DATE:20220912
DTSTAMP:20260425T175247
CREATED:20211224T142350Z
LAST-MODIFIED:20211231T100031Z
UID:10003473-1662854400-1662940799@themotoringdiary.com
SUMMARY:WEC - 6 Hours of Fuji
DESCRIPTION:
URL:http://themotoringdiary.com/event/wec-6-hours-of-fuji/
LOCATION:Fuji Speedway\, 694 Nakahinata\, Oyama-Cho Sunto-Gun\, Shizuoka-Ken\, 410-1307\, Japan
CATEGORIES:2022,Motorsport,Sportscars,WEC
ATTACH;FMTTYPE=image/png:http://themotoringdiary.com/wp-content/uploads/2021/12/WEC-1-7jLXgF.tmp_.png
GEO:35.368038;138.937428
X-APPLE-STRUCTURED-LOCATION;VALUE=URI;X-ADDRESS=Fuji Speedway 694 Nakahinata Oyama-Cho Sunto-Gun Shizuoka-Ken 410-1307 Japan;X-APPLE-RADIUS=500;X-TITLE=694 Nakahinata:geo:138.937428,35.368038
END:VEVENT
BEGIN:VEVENT
DTSTART;VALUE=DATE:20220710
DTEND;VALUE=DATE:20220711
DTSTAMP:20260425T175247
CREATED:20211224T142350Z
LAST-MODIFIED:20211231T100032Z
UID:10003474-1657411200-1657497599@themotoringdiary.com
SUMMARY:WEC - 6 Hours Of Monza
DESCRIPTION:
URL:http://themotoringdiary.com/event/wec-6-hours-of-monza/
LOCATION:Autodromo Nazionale Monza\, Monza\, Italy
CATEGORIES:2022,Motorsport,Sportscars,WEC
ATTACH;FMTTYPE=image/png:http://themotoringdiary.com/wp-content/uploads/2021/12/WEC-1-7jLXgF.tmp_.png
GEO:45.5845001;9.2744485
END:VEVENT
BEGIN:VEVENT
DTSTART;VALUE=DATE:20220611
DTEND;VALUE=DATE:20220613
DTSTAMP:20260425T175247
CREATED:20211224T142349Z
LAST-MODIFIED:20211231T100031Z
UID:10003471-1654905600-1655078399@themotoringdiary.com
SUMMARY:Le Mans 24 Hours
DESCRIPTION:
URL:http://themotoringdiary.com/event/le-mans-24-hours/
LOCATION:Circuit de La Sarthe\, 72100 Le Mans\, Le Mans\, France
CATEGORIES:2022,Motorsport,Sportscars,WEC
ATTACH;FMTTYPE=image/png:http://themotoringdiary.com/wp-content/uploads/2021/12/Le-Mans-2-1-U5THgf.tmp_.png
GEO:47.956867;0.208644
X-APPLE-STRUCTURED-LOCATION;VALUE=URI;X-ADDRESS=Circuit de La Sarthe 72100 Le Mans Le Mans France;X-APPLE-RADIUS=500;X-TITLE=72100 Le Mans:geo:0.208644,47.956867
END:VEVENT
BEGIN:VEVENT
DTSTART;VALUE=DATE:20220507
DTEND;VALUE=DATE:20220508
DTSTAMP:20260425T175247
CREATED:20211224T142350Z
LAST-MODIFIED:20211231T100032Z
UID:10003475-1651881600-1651967999@themotoringdiary.com
SUMMARY:WEC - 6 hours Of Spa
DESCRIPTION:
URL:http://themotoringdiary.com/event/wec-6-hours-of-spa/
LOCATION:Circuit de Spa-Francorchamps\, Stavelot\, Belgium
CATEGORIES:2022,Motorsport,Sportscars,WEC
ATTACH;FMTTYPE=image/png:http://themotoringdiary.com/wp-content/uploads/2021/12/WEC-1-7jLXgF.tmp_.png
GEO:50.3940981;5.9304413
END:VEVENT
BEGIN:VEVENT
DTSTART;VALUE=DATE:20220318
DTEND;VALUE=DATE:20220319
DTSTAMP:20260425T175247
CREATED:20211224T142350Z
LAST-MODIFIED:20211231T100031Z
UID:10003472-1647561600-1647647999@themotoringdiary.com
SUMMARY:WEC - 1000 miles of Sebring
DESCRIPTION:
URL:http://themotoringdiary.com/event/wec-1000-miles-of-sebring/
LOCATION:Sebring International Raceway\, 113 Midway Dr\, Sebring\, FL\, 33870
CATEGORIES:2022,Motorsport,Sportscars,WEC
ATTACH;FMTTYPE=image/png:http://themotoringdiary.com/wp-content/uploads/2021/12/WEC-1-7jLXgF.tmp_.png
GEO:27.4550124;-81.3496801
X-APPLE-STRUCTURED-LOCATION;VALUE=URI;X-ADDRESS=Sebring International Raceway 113 Midway Dr Sebring FL 33870;X-APPLE-RADIUS=500;X-TITLE=113 Midway Dr:geo:-81.3496801,27.4550124
END:VEVENT
END:VCALENDAR