BEGIN:VCALENDAR
VERSION:2.0
PRODID:-//The Motoring Diary - ECPv6.15.20//NONSGML v1.0//EN
CALSCALE:GREGORIAN
METHOD:PUBLISH
X-WR-CALNAME:The Motoring Diary
X-ORIGINAL-URL:http://themotoringdiary.com
X-WR-CALDESC:Events for The Motoring Diary
REFRESH-INTERVAL;VALUE=DURATION:PT1H
X-Robots-Tag:noindex
X-PUBLISHED-TTL:PT1H
BEGIN:VTIMEZONE
TZID:Europe/London
BEGIN:DAYLIGHT
TZOFFSETFROM:+0000
TZOFFSETTO:+0100
TZNAME:BST
DTSTART:20210328T010000
END:DAYLIGHT
BEGIN:STANDARD
TZOFFSETFROM:+0100
TZOFFSETTO:+0000
TZNAME:GMT
DTSTART:20211031T010000
END:STANDARD
BEGIN:DAYLIGHT
TZOFFSETFROM:+0000
TZOFFSETTO:+0100
TZNAME:BST
DTSTART:20220327T010000
END:DAYLIGHT
BEGIN:STANDARD
TZOFFSETFROM:+0100
TZOFFSETTO:+0000
TZNAME:GMT
DTSTART:20221030T010000
END:STANDARD
BEGIN:DAYLIGHT
TZOFFSETFROM:+0000
TZOFFSETTO:+0100
TZNAME:BST
DTSTART:20230326T010000
END:DAYLIGHT
BEGIN:STANDARD
TZOFFSETFROM:+0100
TZOFFSETTO:+0000
TZNAME:GMT
DTSTART:20231029T010000
END:STANDARD
END:VTIMEZONE
BEGIN:VEVENT
DTSTART;VALUE=DATE:20220401
DTEND;VALUE=DATE:20220404
DTSTAMP:20260425T170715
CREATED:20211224T082232Z
LAST-MODIFIED:20220113T160102Z
UID:10003240-1648771200-1649030399@themotoringdiary.com
SUMMARY:Masters - Espiritu de Montjuic
DESCRIPTION:
URL:http://themotoringdiary.com/event/masters-espiritu-de-montjuic/
LOCATION:Circuit de Barcelona-Catalunya\, Montmelo\, Barcelona\, Catalonia\, Spain
CATEGORIES:2022,Historic,Masters Historic Racing,Motorsport
ATTACH;FMTTYPE=image/png:http://themotoringdiary.com/wp-content/uploads/2021/11/Masters-Historic-Racing.png
ORGANIZER;CN="Masters Historic Racing":MAILTO:team@mastershistoricracing.com
GEO:41.3850639;2.1734035
X-APPLE-STRUCTURED-LOCATION;VALUE=URI;X-ADDRESS=Circuit de Barcelona-Catalunya Montmelo Barcelona Catalonia Spain;X-APPLE-RADIUS=500;X-TITLE=Montmelo:geo:2.1734035,41.3850639
END:VEVENT
BEGIN:VEVENT
DTSTART;VALUE=DATE:20220415
DTEND;VALUE=DATE:20220417
DTSTAMP:20260425T170715
CREATED:20211224T082235Z
LAST-MODIFIED:20220113T160028Z
UID:10003245-1649980800-1650153599@themotoringdiary.com
SUMMARY:Masters Historic Race Weekend
DESCRIPTION:
URL:http://themotoringdiary.com/event/masters-historic-race-weekend/
LOCATION:Donington Park Circuit\, Castle Donington\, Derby\, Leicestershire\, DE74 2RP\, United Kingdom
CATEGORIES:2022,Historic,Masters Historic Racing,Motorsport
ATTACH;FMTTYPE=image/png:http://themotoringdiary.com/wp-content/uploads/2021/11/Masters-Historic-Racing.png
ORGANIZER;CN="Masters Historic Racing":MAILTO:team@mastershistoricracing.com
GEO:52.828346;-1.3724602
X-APPLE-STRUCTURED-LOCATION;VALUE=URI;X-ADDRESS=Donington Park Circuit Castle Donington Derby Leicestershire DE74 2RP United Kingdom;X-APPLE-RADIUS=500;X-TITLE=Castle Donington:geo:-1.3724602,52.828346
END:VEVENT
BEGIN:VEVENT
DTSTART;VALUE=DATE:20220514
DTEND;VALUE=DATE:20220516
DTSTAMP:20260425T170715
CREATED:20211224T082232Z
LAST-MODIFIED:20220113T160004Z
UID:10003239-1652486400-1652659199@themotoringdiary.com
SUMMARY:The Silverstone International
DESCRIPTION:
URL:http://themotoringdiary.com/event/the-silverstone-international/
LOCATION:Silverstone Circuit\, Silverstone\, Towcester\, Northamptonshire\, NN12 8TN\, United Kingdom
CATEGORIES:2022,Historic,Masters Historic Racing,Motorsport
ATTACH;FMTTYPE=image/png:http://themotoringdiary.com/wp-content/uploads/2021/11/Masters-Historic-Racing.png
ORGANIZER;CN="Masters Historic Racing":MAILTO:team@mastershistoricracing.com
GEO:52.0746186;-1.0228666
X-APPLE-STRUCTURED-LOCATION;VALUE=URI;X-ADDRESS=Silverstone Circuit Silverstone Towcester Northamptonshire NN12 8TN United Kingdom;X-APPLE-RADIUS=500;X-TITLE=Silverstone:geo:-1.0228666,52.0746186
END:VEVENT
BEGIN:VEVENT
DTSTART;VALUE=DATE:20220528
DTEND;VALUE=DATE:20220530
DTSTAMP:20260425T170715
CREATED:20211224T082235Z
LAST-MODIFIED:20220113T155926Z
UID:10003244-1653696000-1653868799@themotoringdiary.com
SUMMARY:Masters Historic Festival
DESCRIPTION:
URL:http://themotoringdiary.com/event/masters-historic-festival/
LOCATION:Brands Hatch\, West Kingsdown\, Longfield\, Kent\, DA3 8PU\, United Kingdom
CATEGORIES:2022,Historic,Masters Historic Racing,Motorsport
ATTACH;FMTTYPE=image/png:http://themotoringdiary.com/wp-content/uploads/2021/11/Masters-Historic-Racing.png
ORGANIZER;CN="Masters Historic Racing":MAILTO:team@mastershistoricracing.com
GEO:51.3611377;0.264664
X-APPLE-STRUCTURED-LOCATION;VALUE=URI;X-ADDRESS=Brands Hatch West Kingsdown Longfield Kent DA3 8PU United Kingdom;X-APPLE-RADIUS=500;X-TITLE=West Kingsdown:geo:0.264664,51.3611377
END:VEVENT
BEGIN:VEVENT
DTSTART;VALUE=DATE:20220715
DTEND;VALUE=DATE:20220718
DTSTAMP:20260425T170715
CREATED:20211224T082232Z
LAST-MODIFIED:20220113T155835Z
UID:10003241-1657843200-1658102399@themotoringdiary.com
SUMMARY:Masters - Historic Grand Prix
DESCRIPTION:
URL:http://themotoringdiary.com/event/masters-historic-grand-prix/
LOCATION:Circuit Park Zandvoort\, burgemeester van alphenstraat 108\, Zandvoort\, 2041\, Netherlands
CATEGORIES:2022,Historic,Masters Historic Racing,Motorsport
ATTACH;FMTTYPE=image/png:http://themotoringdiary.com/wp-content/uploads/2021/11/Masters-Historic-Racing.png
ORGANIZER;CN="Masters Historic Racing":MAILTO:team@mastershistoricracing.com
GEO:52.3842476;4.5344808
X-APPLE-STRUCTURED-LOCATION;VALUE=URI;X-ADDRESS=Circuit Park Zandvoort burgemeester van alphenstraat 108 Zandvoort 2041 Netherlands;X-APPLE-RADIUS=500;X-TITLE=burgemeester van alphenstraat 108:geo:4.5344808,52.3842476
END:VEVENT
BEGIN:VEVENT
DTSTART;VALUE=DATE:20220729
DTEND;VALUE=DATE:20220801
DTSTAMP:20260425T170715
CREATED:20211224T082235Z
LAST-MODIFIED:20220113T155806Z
UID:10003247-1659052800-1659311999@themotoringdiary.com
SUMMARY:Masters - The Gold Cup
DESCRIPTION:
URL:http://themotoringdiary.com/event/masters-the-gold-cup/
LOCATION:Oulton Park\, Little Budworth\, Tarporley\, Cheshire\, CW6 9BW\, United Kingdom
CATEGORIES:2022,Historic,Masters Historic Racing,Motorsport
ATTACH;FMTTYPE=image/png:http://themotoringdiary.com/wp-content/uploads/2021/11/Masters-Historic-Racing.png
ORGANIZER;CN="Masters Historic Racing":MAILTO:team@mastershistoricracing.com
GEO:53.1785643;-2.6153266
X-APPLE-STRUCTURED-LOCATION;VALUE=URI;X-ADDRESS=Oulton Park Little Budworth Tarporley Cheshire CW6 9BW United Kingdom;X-APPLE-RADIUS=500;X-TITLE=Little Budworth:geo:-2.6153266,53.1785643
END:VEVENT
BEGIN:VEVENT
DTSTART;VALUE=DATE:20220812
DTEND;VALUE=DATE:20220815
DTSTAMP:20260425T170715
CREATED:20211224T082231Z
LAST-MODIFIED:20220113T155747Z
UID:10003238-1660262400-1660521599@themotoringdiary.com
SUMMARY:AVD Oldtimer Grand Prix
DESCRIPTION:
URL:http://themotoringdiary.com/event/avd-oldtimer-grand-prix/
LOCATION:Nurburgring\, Nürburgring Boulevard 1\, Nürburg\, 53520\, Germany
CATEGORIES:2022,Historic,Masters Historic Racing,Motorsport
ATTACH;FMTTYPE=image/png:http://themotoringdiary.com/wp-content/uploads/2021/11/Masters-Historic-Racing.png
ORGANIZER;CN="Masters Historic Racing":MAILTO:team@mastershistoricracing.com
GEO:50.3340981;6.9426625
X-APPLE-STRUCTURED-LOCATION;VALUE=URI;X-ADDRESS=Nurburgring Nürburgring Boulevard 1 Nürburg 53520 Germany;X-APPLE-RADIUS=500;X-TITLE=Nürburgring Boulevard 1:geo:6.9426625,50.3340981
END:VEVENT
BEGIN:VEVENT
DTSTART;VALUE=DATE:20220826
DTEND;VALUE=DATE:20220829
DTSTAMP:20260425T170715
CREATED:20211224T082234Z
LAST-MODIFIED:20220113T155730Z
UID:10003243-1661472000-1661731199@themotoringdiary.com
SUMMARY:Masters - The Classic
DESCRIPTION:
URL:http://themotoringdiary.com/event/masters-the-classic/
LOCATION:Silverstone Circuit\, Silverstone\, Towcester\, Northamptonshire\, NN12 8TN\, United Kingdom
CATEGORIES:2022,Historic,Masters Historic Racing,Motorsport
ATTACH;FMTTYPE=image/png:http://themotoringdiary.com/wp-content/uploads/2021/11/Masters-Historic-Racing.png
ORGANIZER;CN="Masters Historic Racing":MAILTO:team@mastershistoricracing.com
GEO:52.0746186;-1.0228666
X-APPLE-STRUCTURED-LOCATION;VALUE=URI;X-ADDRESS=Silverstone Circuit Silverstone Towcester Northamptonshire NN12 8TN United Kingdom;X-APPLE-RADIUS=500;X-TITLE=Silverstone:geo:-1.0228666,52.0746186
END:VEVENT
BEGIN:VEVENT
DTSTART;VALUE=DATE:20220930
DTEND;VALUE=DATE:20221003
DTSTAMP:20260425T170715
CREATED:20211224T082232Z
LAST-MODIFIED:20220113T155613Z
UID:10003242-1664496000-1664755199@themotoringdiary.com
SUMMARY:Masters - Spa Six Hours
DESCRIPTION:
URL:http://themotoringdiary.com/event/masters-spa-six-hours/
LOCATION:Circuit de Spa-Francorchamps\, Stavelot\, Belgium
CATEGORIES:2022,Historic,Masters Historic Racing,Motorsport
ATTACH;FMTTYPE=image/png:http://themotoringdiary.com/wp-content/uploads/2021/11/Masters-Historic-Racing.png
ORGANIZER;CN="Masters Historic Racing":MAILTO:team@mastershistoricracing.com
GEO:50.3940981;5.9304413
END:VEVENT
BEGIN:VEVENT
DTSTART;VALUE=DATE:20221028
DTEND;VALUE=DATE:20221031
DTSTAMP:20260425T170715
CREATED:20211224T082235Z
LAST-MODIFIED:20220113T155519Z
UID:10003246-1666915200-1667174399@themotoringdiary.com
SUMMARY:Algarve Classic Festival
DESCRIPTION:
URL:http://themotoringdiary.com/event/algarve-classic-festival/
LOCATION:Algarve International Circuit\, Sítio do Escampadinho\, Mexilhoeira Grande\, 8500-148 Portimão\, Portugal
CATEGORIES:2022,Historic,Masters Historic Racing,Motorsport
ATTACH;FMTTYPE=image/png:http://themotoringdiary.com/wp-content/uploads/2021/11/Masters-Historic-Racing.png
ORGANIZER;CN="Masters Historic Racing":MAILTO:team@mastershistoricracing.com
GEO:37.2427708;-8.624884
X-APPLE-STRUCTURED-LOCATION;VALUE=URI;X-ADDRESS=Algarve International Circuit Sítio do Escampadinho Mexilhoeira Grande 8500-148 Portimão Portugal;X-APPLE-RADIUS=500;X-TITLE=Sítio do Escampadinho:geo:-8.624884,37.2427708
END:VEVENT
END:VCALENDAR