BEGIN:VCALENDAR
VERSION:2.0
PRODID:-//The Motoring Diary - ECPv6.15.20//NONSGML v1.0//EN
CALSCALE:GREGORIAN
METHOD:PUBLISH
X-ORIGINAL-URL:http://themotoringdiary.com
X-WR-CALDESC:Events for The Motoring Diary
REFRESH-INTERVAL;VALUE=DURATION:PT1H
X-Robots-Tag:noindex
X-PUBLISHED-TTL:PT1H
BEGIN:VTIMEZONE
TZID:Europe/London
BEGIN:DAYLIGHT
TZOFFSETFROM:+0000
TZOFFSETTO:+0100
TZNAME:BST
DTSTART:20210328T010000
END:DAYLIGHT
BEGIN:STANDARD
TZOFFSETFROM:+0100
TZOFFSETTO:+0000
TZNAME:GMT
DTSTART:20211031T010000
END:STANDARD
BEGIN:DAYLIGHT
TZOFFSETFROM:+0000
TZOFFSETTO:+0100
TZNAME:BST
DTSTART:20220327T010000
END:DAYLIGHT
BEGIN:STANDARD
TZOFFSETFROM:+0100
TZOFFSETTO:+0000
TZNAME:GMT
DTSTART:20221030T010000
END:STANDARD
BEGIN:DAYLIGHT
TZOFFSETFROM:+0000
TZOFFSETTO:+0100
TZNAME:BST
DTSTART:20230326T010000
END:DAYLIGHT
BEGIN:STANDARD
TZOFFSETFROM:+0100
TZOFFSETTO:+0000
TZNAME:GMT
DTSTART:20231029T010000
END:STANDARD
END:VTIMEZONE
BEGIN:VEVENT
DTSTART;VALUE=DATE:20220903
DTEND;VALUE=DATE:20220904
DTSTAMP:20260425T143345
CREATED:20211230T115202Z
LAST-MODIFIED:20211230T115202Z
UID:10003622-1662163200-1662249599@themotoringdiary.com
SUMMARY:Aintree Autumn Sprint
DESCRIPTION:The last of three popular annual sprints (high-speed time trials) for cars on the historic Aintree Circuit.Classes for everything from standard family hatchbacks to powerful single-seater racing cars.\nSpectators always welcome\, see our website for more information
URL:http://themotoringdiary.com/event/aintree-autumn-sprint/
LOCATION:Aintree Circuit\, Melling Road\, Aintree\, Liverpool\, L10 8LF\, United Kingdom
CATEGORIES:2022,Club Motorsport,Liverpool Motor Club,Motorsport,Sprints
ATTACH;FMTTYPE=image/jpeg:http://themotoringdiary.com/wp-content/uploads/2021/11/Aintree-Autumn-Sprint.jpg
ORGANIZER;CN="Liverpool Motor Club":MAILTO:enquiries@liverpoolmotorclub.com
GEO:53.477356;-2.941271
X-APPLE-STRUCTURED-LOCATION;VALUE=URI;X-ADDRESS=Aintree Circuit Melling Road Aintree Liverpool L10 8LF United Kingdom;X-APPLE-RADIUS=500;X-TITLE=Melling Road\, Aintree:geo:-2.941271,53.477356
END:VEVENT
BEGIN:VEVENT
DTSTART;VALUE=DATE:20220820
DTEND;VALUE=DATE:20220821
DTSTAMP:20260425T143345
CREATED:20220113T175224Z
LAST-MODIFIED:20240226T121325Z
UID:10003863-1660953600-1661039999@themotoringdiary.com
SUMMARY:Aintree Test/Track Day
DESCRIPTION:This is the second of two highly popular track days on the historic Aintree Motor Racing Circuit. Just two track days are run at Aintree each year and they will sell out within hours of bookings opening.\nWe run sessions\, not open pit lane\, which enables us to run dedicated sessions for single-seaters and sports racing cars too\nSee our website for more information and to register to be advised when bookings open.
URL:http://themotoringdiary.com/event/aintree-track-day-2/
LOCATION:Aintree Circuit\, Melling Road\, Aintree\, Liverpool\, L10 8LF\, United Kingdom
CATEGORIES:2022,Liverpool Motor Club,Motorsport,Trackdays
ATTACH;FMTTYPE=image/jpeg:http://themotoringdiary.com/wp-content/uploads/2022/01/Club-traffic.jpg
ORGANIZER;CN="Liverpool Motor Club":MAILTO:enquiries@liverpoolmotorclub.com
GEO:53.477356;-2.941271
X-APPLE-STRUCTURED-LOCATION;VALUE=URI;X-ADDRESS=Aintree Circuit Melling Road Aintree Liverpool L10 8LF United Kingdom;X-APPLE-RADIUS=500;X-TITLE=Melling Road\, Aintree:geo:-2.941271,53.477356
END:VEVENT
BEGIN:VEVENT
DTSTART;VALUE=DATE:20220716
DTEND;VALUE=DATE:20220717
DTSTAMP:20260425T143345
CREATED:20211230T115203Z
LAST-MODIFIED:20211230T115203Z
UID:10003627-1657929600-1658015999@themotoringdiary.com
SUMMARY:Barbon Hillclimb 2
DESCRIPTION:The first of two exciting speed hillclimbs for cars at spectacular Barbon Manor\, Cumbria.Classes for everything from standard family hatchbacks to powerful single-seater racing cars.\nSpectators are always welcome\, see our website for more information
URL:http://themotoringdiary.com/event/barbon-hillclimb-2/
LOCATION:Barbon Manor Hill Climb\, Barbon\, Carnforth\, Cumbria\, LA6\, United Kingdom
CATEGORIES:2022,Club Motorsport,Hill Climbs,Liverpool Motor Club,Motorsport
ATTACH;FMTTYPE=image/jpeg:http://themotoringdiary.com/wp-content/uploads/2021/11/Barbon-Hillclimb.jpeg
ORGANIZER;CN="Liverpool Motor Club":MAILTO:enquiries@liverpoolmotorclub.com
GEO:54.23744;-2.57254
X-APPLE-STRUCTURED-LOCATION;VALUE=URI;X-ADDRESS=Barbon Manor Hill Climb Barbon Carnforth Cumbria LA6 United Kingdom;X-APPLE-RADIUS=500;X-TITLE=Barbon:geo:-2.57254,54.23744
END:VEVENT
BEGIN:VEVENT
DTSTART;VALUE=DATE:20220625
DTEND;VALUE=DATE:20220626
DTSTAMP:20260425T143345
CREATED:20211230T115202Z
LAST-MODIFIED:20211230T115202Z
UID:10003620-1656115200-1656201599@themotoringdiary.com
SUMMARY:Aintree Summer Sprint
DESCRIPTION:The second of three popular annual sprints (high-speed time trials) for cars on the historic Aintree Circuit.Classes for everything from standard family hatchbacks to powerful single-seater racing cars.\nSpectators welcome\, see our website for more information
URL:http://themotoringdiary.com/event/aintree-summer-sprint/
LOCATION:Aintree Circuit\, Melling Road\, Aintree\, Liverpool\, L10 8LF\, United Kingdom
CATEGORIES:2022,Club Motorsport,Liverpool Motor Club,Motorsport,Sprints
ATTACH;FMTTYPE=image/jpeg:http://themotoringdiary.com/wp-content/uploads/2021/11/Anitree-Summer-Sprint.jpg
ORGANIZER;CN="Liverpool Motor Club":MAILTO:enquiries@liverpoolmotorclub.com
GEO:53.477356;-2.941271
X-APPLE-STRUCTURED-LOCATION;VALUE=URI;X-ADDRESS=Aintree Circuit Melling Road Aintree Liverpool L10 8LF United Kingdom;X-APPLE-RADIUS=500;X-TITLE=Melling Road\, Aintree:geo:-2.941271,53.477356
END:VEVENT
BEGIN:VEVENT
DTSTART;VALUE=DATE:20220611
DTEND;VALUE=DATE:20220612
DTSTAMP:20260425T143345
CREATED:20211230T115203Z
LAST-MODIFIED:20211230T115203Z
UID:10003624-1654905600-1654991999@themotoringdiary.com
SUMMARY:Barbon Hillclimb 1
DESCRIPTION:The first of two exciting speed hillclimbs for cars at spectacular Barbon Manor\, Cumbria.Classes for everything from standard family hatchbacks to powerful single-seater racing cars.\nSpectators welcome\, see our website for more information
URL:http://themotoringdiary.com/event/barbon-hillclimb-1/
LOCATION:Barbon Manor Hill Climb\, Barbon\, Carnforth\, Cumbria\, LA6\, United Kingdom
CATEGORIES:2022,Club Motorsport,Hill Climbs,Liverpool Motor Club,Motorsport
ATTACH;FMTTYPE=image/jpeg:http://themotoringdiary.com/wp-content/uploads/2021/11/Barbon-Hillclimb-1.jpg
ORGANIZER;CN="Liverpool Motor Club":MAILTO:enquiries@liverpoolmotorclub.com
GEO:54.23744;-2.57254
X-APPLE-STRUCTURED-LOCATION;VALUE=URI;X-ADDRESS=Barbon Manor Hill Climb Barbon Carnforth Cumbria LA6 United Kingdom;X-APPLE-RADIUS=500;X-TITLE=Barbon:geo:-2.57254,54.23744
END:VEVENT
BEGIN:VEVENT
DTSTART;TZID=Europe/London:20220528T093000
DTEND;TZID=Europe/London:20220528T163000
DTSTAMP:20260425T143345
CREATED:20220113T174519Z
LAST-MODIFIED:20220113T175250Z
UID:10003861-1653730200-1653755400@themotoringdiary.com
SUMMARY:Aintree Track Day 1
DESCRIPTION:This is the first of two highly popular track days on the historic Aintree Motor Racing Circuit. Just two track days are run at Aintree each year and they will sell out within hours of bookings opening.\nWe run sessions\, not open pit lane\, which enables us to run dedicated sessions for single-seaters and sports racing cars too\nSee our website for more information and to register to be advised when bookings open.
URL:http://themotoringdiary.com/event/aintree-track-day-1/
LOCATION:Aintree Circuit\, Melling Road\, Aintree\, Liverpool\, L10 8LF\, United Kingdom
CATEGORIES:2022,Liverpool Motor Club,Motorsport,Trackdays
ATTACH;FMTTYPE=image/jpeg:http://themotoringdiary.com/wp-content/uploads/2022/01/Brogden-Ibbotson-Lea.jpg
ORGANIZER;CN="Liverpool Motor Club":MAILTO:enquiries@liverpoolmotorclub.com
GEO:53.477356;-2.941271
X-APPLE-STRUCTURED-LOCATION;VALUE=URI;X-ADDRESS=Aintree Circuit Melling Road Aintree Liverpool L10 8LF United Kingdom;X-APPLE-RADIUS=500;X-TITLE=Melling Road\, Aintree:geo:-2.941271,53.477356
END:VEVENT
BEGIN:VEVENT
DTSTART;VALUE=DATE:20220430
DTEND;VALUE=DATE:20220501
DTSTAMP:20260425T143345
CREATED:20211230T115202Z
LAST-MODIFIED:20211230T115202Z
UID:10003618-1651276800-1651363199@themotoringdiary.com
SUMMARY:Aintree Spring Sprint
DESCRIPTION:The first of three popular annual sprints (high speed time trials) for cars on the historic Aintree Circuit.Classes for everything from standard family hatchbacks to powerful single-seater racing cars.\nSpectators welcome\, see our website for more information
URL:http://themotoringdiary.com/event/aintree-spring-sprint/
LOCATION:Aintree Circuit\, Melling Road\, Aintree\, Liverpool\, L10 8LF\, United Kingdom
CATEGORIES:2022,Club Motorsport,Liverpool Motor Club,Motorsport,Sprints
ATTACH;FMTTYPE=image/jpeg:http://themotoringdiary.com/wp-content/uploads/2021/11/Aintree-Spring-Sprint.jpg
ORGANIZER;CN="Liverpool Motor Club":MAILTO:enquiries@liverpoolmotorclub.com
GEO:53.477356;-2.941271
X-APPLE-STRUCTURED-LOCATION;VALUE=URI;X-ADDRESS=Aintree Circuit Melling Road Aintree Liverpool L10 8LF United Kingdom;X-APPLE-RADIUS=500;X-TITLE=Melling Road\, Aintree:geo:-2.941271,53.477356
END:VEVENT
END:VCALENDAR