BEGIN:VCALENDAR
VERSION:2.0
PRODID:-//The Motoring Diary - ECPv6.15.20//NONSGML v1.0//EN
CALSCALE:GREGORIAN
METHOD:PUBLISH
X-WR-CALNAME:The Motoring Diary
X-ORIGINAL-URL:http://themotoringdiary.com
X-WR-CALDESC:Events for The Motoring Diary
REFRESH-INTERVAL;VALUE=DURATION:PT1H
X-Robots-Tag:noindex
X-PUBLISHED-TTL:PT1H
BEGIN:VTIMEZONE
TZID:Europe/London
BEGIN:DAYLIGHT
TZOFFSETFROM:+0000
TZOFFSETTO:+0100
TZNAME:BST
DTSTART:20210328T010000
END:DAYLIGHT
BEGIN:STANDARD
TZOFFSETFROM:+0100
TZOFFSETTO:+0000
TZNAME:GMT
DTSTART:20211031T010000
END:STANDARD
BEGIN:DAYLIGHT
TZOFFSETFROM:+0000
TZOFFSETTO:+0100
TZNAME:BST
DTSTART:20220327T010000
END:DAYLIGHT
BEGIN:STANDARD
TZOFFSETFROM:+0100
TZOFFSETTO:+0000
TZNAME:GMT
DTSTART:20221030T010000
END:STANDARD
BEGIN:DAYLIGHT
TZOFFSETFROM:+0000
TZOFFSETTO:+0100
TZNAME:BST
DTSTART:20230326T010000
END:DAYLIGHT
BEGIN:STANDARD
TZOFFSETFROM:+0100
TZOFFSETTO:+0000
TZNAME:GMT
DTSTART:20231029T010000
END:STANDARD
END:VTIMEZONE
BEGIN:VEVENT
DTSTART;VALUE=DATE:20220422
DTEND;VALUE=DATE:20220425
DTSTAMP:20260425T171727
CREATED:20220106T184139Z
LAST-MODIFIED:20220106T184302Z
UID:10003763-1650585600-1650844799@themotoringdiary.com
SUMMARY:12H Spa
DESCRIPTION:
URL:http://themotoringdiary.com/event/12h-spa/
LOCATION:Circuit de Spa-Francorchamps\, Stavelot\, Belgium
CATEGORIES:2022,24H Series,Creventic,Motorsport,Sportscars
ATTACH;FMTTYPE=image/png:http://themotoringdiary.com/wp-content/uploads/2022/01/24H-Series-Europe-NCbROc.tmp_.png
ORGANIZER;CN="Creventic":MAILTO:info@creventic.com
GEO:50.3940981;5.9304413
END:VEVENT
BEGIN:VEVENT
DTSTART;VALUE=DATE:20220325
DTEND;VALUE=DATE:20220327
DTSTAMP:20260425T171727
CREATED:20211224T082346Z
LAST-MODIFIED:20220106T183653Z
UID:10003249-1648166400-1648339199@themotoringdiary.com
SUMMARY:12H Mugello
DESCRIPTION:
URL:http://themotoringdiary.com/event/12h-mugello/
LOCATION:Autodromo del Mugello\, Senni-San Carlo\, 15\, \, Italy\, 50038 Scarperia e San Piero FI\, Italy
CATEGORIES:2022,24H Series,Creventic,Motorsport,Sportscars
ATTACH;FMTTYPE=image/png:http://themotoringdiary.com/wp-content/uploads/2021/11/24H-Series-Continent.png
ORGANIZER;CN="Creventic":MAILTO:info@creventic.com
GEO:43.9746802;11.3638165
X-APPLE-STRUCTURED-LOCATION;VALUE=URI;X-ADDRESS=Autodromo del Mugello Senni-San Carlo 15  Italy 50038 Scarperia e San Piero FI Italy;X-APPLE-RADIUS=500;X-TITLE=Senni-San Carlo\, 15\, \, Italy:geo:11.3638165,43.9746802
END:VEVENT
BEGIN:VEVENT
DTSTART;VALUE=DATE:20220121
DTEND;VALUE=DATE:20220123
DTSTAMP:20260425T171727
CREATED:20211223T170337Z
LAST-MODIFIED:20211224T084503Z
UID:10003095-1642723200-1642895999@themotoringdiary.com
SUMMARY:6H Abu Dhabi
DESCRIPTION:
URL:http://themotoringdiary.com/event/6h-abu-dhabi/
LOCATION:Yas Marina Circuit\, Yas Island\, Abu Dhabi
CATEGORIES:2022,24H Series,Creventic,Motorsport,Sportscars
ATTACH;FMTTYPE=image/png:http://themotoringdiary.com/wp-content/uploads/2021/11/24H-Series-Continent.png
ORGANIZER;CN="Creventic":MAILTO:info@creventic.com
GEO:24.4958385;54.6040121
X-APPLE-STRUCTURED-LOCATION;VALUE=URI;X-ADDRESS=Yas Marina Circuit Yas Island Abu Dhabi;X-APPLE-RADIUS=500;X-TITLE=Yas Island:geo:54.6040121,24.4958385
END:VEVENT
BEGIN:VEVENT
DTSTART;VALUE=DATE:20220113
DTEND;VALUE=DATE:20220116
DTSTAMP:20260425T171727
CREATED:20211223T170307Z
LAST-MODIFIED:20211224T084247Z
UID:10003086-1642032000-1642291199@themotoringdiary.com
SUMMARY:24H Dubai
DESCRIPTION:
URL:http://themotoringdiary.com/event/24h-dubai/
LOCATION:Dubai Autodrome\, Business Park\, PO Box 24649\, Dubai\, United Arab Emirates
CATEGORIES:2022,24H Series,Creventic,Motorsport,Sportscars
ATTACH;FMTTYPE=image/png:http://themotoringdiary.com/wp-content/uploads/2021/11/24H-Series-Continent.png
ORGANIZER;CN="Creventic":MAILTO:info@creventic.com
GEO:25.2048493;55.2707828
X-APPLE-STRUCTURED-LOCATION;VALUE=URI;X-ADDRESS=Dubai Autodrome Business Park PO Box 24649 Dubai United Arab Emirates;X-APPLE-RADIUS=500;X-TITLE=Business Park:geo:55.2707828,25.2048493
END:VEVENT
END:VCALENDAR