BEGIN:VCALENDAR
VERSION:2.0
PRODID:-//The Motoring Diary - ECPv6.15.20//NONSGML v1.0//EN
CALSCALE:GREGORIAN
METHOD:PUBLISH
X-WR-CALNAME:The Motoring Diary
X-ORIGINAL-URL:http://themotoringdiary.com
X-WR-CALDESC:Events for The Motoring Diary
REFRESH-INTERVAL;VALUE=DURATION:PT1H
X-Robots-Tag:noindex
X-PUBLISHED-TTL:PT1H
BEGIN:VTIMEZONE
TZID:Europe/London
BEGIN:DAYLIGHT
TZOFFSETFROM:+0000
TZOFFSETTO:+0100
TZNAME:BST
DTSTART:20210328T010000
END:DAYLIGHT
BEGIN:STANDARD
TZOFFSETFROM:+0100
TZOFFSETTO:+0000
TZNAME:GMT
DTSTART:20211031T010000
END:STANDARD
BEGIN:DAYLIGHT
TZOFFSETFROM:+0000
TZOFFSETTO:+0100
TZNAME:BST
DTSTART:20220327T010000
END:DAYLIGHT
BEGIN:STANDARD
TZOFFSETFROM:+0100
TZOFFSETTO:+0000
TZNAME:GMT
DTSTART:20221030T010000
END:STANDARD
BEGIN:DAYLIGHT
TZOFFSETFROM:+0000
TZOFFSETTO:+0100
TZNAME:BST
DTSTART:20230326T010000
END:DAYLIGHT
BEGIN:STANDARD
TZOFFSETFROM:+0100
TZOFFSETTO:+0000
TZNAME:GMT
DTSTART:20231029T010000
END:STANDARD
BEGIN:DAYLIGHT
TZOFFSETFROM:+0000
TZOFFSETTO:+0100
TZNAME:BST
DTSTART:20240331T010000
END:DAYLIGHT
BEGIN:STANDARD
TZOFFSETFROM:+0100
TZOFFSETTO:+0000
TZNAME:GMT
DTSTART:20241027T010000
END:STANDARD
END:VTIMEZONE
BEGIN:VEVENT
DTSTART;VALUE=DATE:20231007
DTEND;VALUE=DATE:20231009
DTSTAMP:20260425T235300
CREATED:20230215T150832Z
LAST-MODIFIED:20230215T150832Z
UID:10004299-1696636800-1696809599@themotoringdiary.com
SUMMARY:GT Cup - Snetterton
DESCRIPTION:
URL:http://themotoringdiary.com/event/gt-cup-snetterton-2/
LOCATION:Snetterton\, Norwich\, Norfolk\, NR16 2JU\, United Kingdom
CATEGORIES:2023,Bute Motorsport,GT Cup,Motorsport,Sportscars
ATTACH;FMTTYPE=image/png:http://themotoringdiary.com/wp-content/uploads/2023/02/GT-Cup-kNxZDv.tmp_.png
ORGANIZER;CN="Bute Motorsport":MAILTO:hannah@butemotorsport.com
GEO:52.4710039;0.9586157
END:VEVENT
BEGIN:VEVENT
DTSTART;VALUE=DATE:20230916
DTEND;VALUE=DATE:20230918
DTSTAMP:20260425T235300
CREATED:20230215T150752Z
LAST-MODIFIED:20230215T150752Z
UID:10004295-1694822400-1694995199@themotoringdiary.com
SUMMARY:GT Cup - Donington
DESCRIPTION:
URL:http://themotoringdiary.com/event/gt-cup-donington-2/
LOCATION:Donington Park Circuit\, Castle Donington\, Derby\, Leicestershire\, DE74 2RP\, United Kingdom
CATEGORIES:2023,Bute Motorsport,GT Cup,Motorsport,Sportscars
ATTACH;FMTTYPE=image/png:http://themotoringdiary.com/wp-content/uploads/2023/02/GT-Cup-kNxZDv.tmp_.png
ORGANIZER;CN="Bute Motorsport":MAILTO:hannah@butemotorsport.com
GEO:52.828346;-1.3724602
X-APPLE-STRUCTURED-LOCATION;VALUE=URI;X-ADDRESS=Donington Park Circuit Castle Donington Derby Leicestershire DE74 2RP United Kingdom;X-APPLE-RADIUS=500;X-TITLE=Castle Donington:geo:-1.3724602,52.828346
END:VEVENT
BEGIN:VEVENT
DTSTART;VALUE=DATE:20230729
DTEND;VALUE=DATE:20230731
DTSTAMP:20260425T235300
CREATED:20230215T150810Z
LAST-MODIFIED:20230215T150810Z
UID:10004297-1690588800-1690761599@themotoringdiary.com
SUMMARY:GT Cup - Silverstone
DESCRIPTION:
URL:http://themotoringdiary.com/event/gt-cup-silverstone/
LOCATION:Silverstone Circuit\, Silverstone\, Towcester\, Northamptonshire\, NN12 8TN\, United Kingdom
CATEGORIES:2023,Bute Motorsport,GT Cup,Motorsport,Sportscars
ATTACH;FMTTYPE=image/png:http://themotoringdiary.com/wp-content/uploads/2023/02/GT-Cup-kNxZDv.tmp_.png
ORGANIZER;CN="Bute Motorsport":MAILTO:hannah@butemotorsport.com
GEO:52.0746186;-1.0228666
X-APPLE-STRUCTURED-LOCATION;VALUE=URI;X-ADDRESS=Silverstone Circuit Silverstone Towcester Northamptonshire NN12 8TN United Kingdom;X-APPLE-RADIUS=500;X-TITLE=Silverstone:geo:-1.0228666,52.0746186
END:VEVENT
BEGIN:VEVENT
DTSTART;VALUE=DATE:20230701
DTEND;VALUE=DATE:20230702
DTSTAMP:20260425T235300
CREATED:20230215T150800Z
LAST-MODIFIED:20230215T150800Z
UID:10004296-1688169600-1688255999@themotoringdiary.com
SUMMARY:GT Cup - Oulton Park
DESCRIPTION:
URL:http://themotoringdiary.com/event/gt-cup-oulton-park/
LOCATION:Oulton Park\, Little Budworth\, Tarporley\, Cheshire\, CW6 9BW\, United Kingdom
CATEGORIES:2023,Bute Motorsport,GT Cup,Motorsport,Sportscars
ATTACH;FMTTYPE=image/png:http://themotoringdiary.com/wp-content/uploads/2023/02/GT-Cup-kNxZDv.tmp_.png
ORGANIZER;CN="Bute Motorsport":MAILTO:hannah@butemotorsport.com
GEO:53.1785643;-2.6153266
X-APPLE-STRUCTURED-LOCATION;VALUE=URI;X-ADDRESS=Oulton Park Little Budworth Tarporley Cheshire CW6 9BW United Kingdom;X-APPLE-RADIUS=500;X-TITLE=Little Budworth:geo:-2.6153266,53.1785643
END:VEVENT
BEGIN:VEVENT
DTSTART;VALUE=DATE:20230603
DTEND;VALUE=DATE:20230605
DTSTAMP:20260425T235300
CREATED:20230215T150826Z
LAST-MODIFIED:20230215T150826Z
UID:10004298-1685750400-1685923199@themotoringdiary.com
SUMMARY:GT Cup - Snetterton
DESCRIPTION:
URL:http://themotoringdiary.com/event/gt-cup-snetterton/
LOCATION:Snetterton\, Norwich\, Norfolk\, NR16 2JU\, United Kingdom
CATEGORIES:2023,Bute Motorsport,GT Cup,Motorsport,Sportscars
ATTACH;FMTTYPE=image/png:http://themotoringdiary.com/wp-content/uploads/2023/02/GT-Cup-kNxZDv.tmp_.png
ORGANIZER;CN="Bute Motorsport":MAILTO:hannah@butemotorsport.com
GEO:52.4710039;0.9586157
END:VEVENT
BEGIN:VEVENT
DTSTART;VALUE=DATE:20230429
DTEND;VALUE=DATE:20230501
DTSTAMP:20260425T235300
CREATED:20230215T150735Z
LAST-MODIFIED:20230215T150735Z
UID:10004293-1682726400-1682899199@themotoringdiary.com
SUMMARY:GT Cup - Brands Hatch
DESCRIPTION:
URL:http://themotoringdiary.com/event/gt-cup-brands-hatch/
LOCATION:Brands Hatch\, West Kingsdown\, Longfield\, Kent\, DA3 8PU\, United Kingdom
CATEGORIES:2023,Bute Motorsport,GT Cup,Motorsport,Sportscars
ATTACH;FMTTYPE=image/png:http://themotoringdiary.com/wp-content/uploads/2023/02/GT-Cup-kNxZDv.tmp_.png
ORGANIZER;CN="Bute Motorsport":MAILTO:hannah@butemotorsport.com
GEO:51.3611377;0.264664
X-APPLE-STRUCTURED-LOCATION;VALUE=URI;X-ADDRESS=Brands Hatch West Kingsdown Longfield Kent DA3 8PU United Kingdom;X-APPLE-RADIUS=500;X-TITLE=West Kingsdown:geo:0.264664,51.3611377
END:VEVENT
BEGIN:VEVENT
DTSTART;VALUE=DATE:20230401
DTEND;VALUE=DATE:20230403
DTSTAMP:20260425T235300
CREATED:20230215T150745Z
LAST-MODIFIED:20230215T150745Z
UID:10004294-1680307200-1680479999@themotoringdiary.com
SUMMARY:GT Cup - Donington
DESCRIPTION:
URL:http://themotoringdiary.com/event/gt-cup-donington/
LOCATION:Donington Park Circuit\, Castle Donington\, Derby\, Leicestershire\, DE74 2RP\, United Kingdom
CATEGORIES:2023,Bute Motorsport,GT Cup,Motorsport,Sportscars
ATTACH;FMTTYPE=image/png:http://themotoringdiary.com/wp-content/uploads/2023/02/GT-Cup-kNxZDv.tmp_.png
ORGANIZER;CN="Bute Motorsport":MAILTO:hannah@butemotorsport.com
GEO:52.828346;-1.3724602
X-APPLE-STRUCTURED-LOCATION;VALUE=URI;X-ADDRESS=Donington Park Circuit Castle Donington Derby Leicestershire DE74 2RP United Kingdom;X-APPLE-RADIUS=500;X-TITLE=Castle Donington:geo:-1.3724602,52.828346
END:VEVENT
BEGIN:VEVENT
DTSTART;VALUE=DATE:20221008
DTEND;VALUE=DATE:20221010
DTSTAMP:20260425T235300
CREATED:20220111T171204Z
LAST-MODIFIED:20220111T172311Z
UID:10003582-1665187200-1665359999@themotoringdiary.com
SUMMARY:GT Cup Championship
DESCRIPTION:GT Cup Championship Rounds 23\, 24\, 25 & 26 – Snetterton 300 Finale
URL:http://themotoringdiary.com/event/gt-cup-championship-7/
LOCATION:Snetterton\, Norwich\, Norfolk\, NR16 2JU\, United Kingdom
CATEGORIES:2022,Bute Motorsport,Club Motorsport,GT Cup,Motorsport
ATTACH;FMTTYPE=image/jpeg:http://themotoringdiary.com/wp-content/uploads/2022/01/GTCUP-EB-117-1.jpg
ORGANIZER;CN="Bute Motorsport":MAILTO:hannah@butemotorsport.com
GEO:52.4710039;0.9586157
END:VEVENT
BEGIN:VEVENT
DTSTART;VALUE=DATE:20220917
DTEND;VALUE=DATE:20220919
DTSTAMP:20260425T235300
CREATED:20220111T171142Z
LAST-MODIFIED:20220111T171835Z
UID:10003580-1663372800-1663545599@themotoringdiary.com
SUMMARY:GT Cup Championship
DESCRIPTION:GT Cup Championship Rounds 19\, 20\, 21 & 22 – Donington GP
URL:http://themotoringdiary.com/event/gt-cup-championship-6/
LOCATION:Donington Park Circuit\, Castle Donington\, Derby\, Leicestershire\, DE74 2RP\, United Kingdom
CATEGORIES:2022,Bute Motorsport,Club Motorsport,GT Cup,Motorsport
ATTACH;FMTTYPE=image/jpeg:http://themotoringdiary.com/wp-content/uploads/2022/01/GTCUP-EB-102-1-scaled.jpg
ORGANIZER;CN="Bute Motorsport":MAILTO:hannah@butemotorsport.com
GEO:52.828346;-1.3724602
X-APPLE-STRUCTURED-LOCATION;VALUE=URI;X-ADDRESS=Donington Park Circuit Castle Donington Derby Leicestershire DE74 2RP United Kingdom;X-APPLE-RADIUS=500;X-TITLE=Castle Donington:geo:-1.3724602,52.828346
END:VEVENT
BEGIN:VEVENT
DTSTART;VALUE=DATE:20220730
DTEND;VALUE=DATE:20220801
DTSTAMP:20260425T235300
CREATED:20220111T171114Z
LAST-MODIFIED:20220111T171823Z
UID:10003578-1659139200-1659311999@themotoringdiary.com
SUMMARY:GT Cup Championship
DESCRIPTION:GT Cup Championship Rounds 15\, 16\, 17 & 18 – Silverstone GP
URL:http://themotoringdiary.com/event/gt-cup-championship-5/
LOCATION:Silverstone Circuit\, Silverstone\, Towcester\, Northamptonshire\, NN12 8TN\, United Kingdom
CATEGORIES:2022,Bute Motorsport,Club Motorsport,GT Cup,Motorsport
ATTACH;FMTTYPE=image/jpeg:http://themotoringdiary.com/wp-content/uploads/2022/01/GTCE2197-scaled.jpg
ORGANIZER;CN="Bute Motorsport":MAILTO:hannah@butemotorsport.com
GEO:52.0746186;-1.0228666
X-APPLE-STRUCTURED-LOCATION;VALUE=URI;X-ADDRESS=Silverstone Circuit Silverstone Towcester Northamptonshire NN12 8TN United Kingdom;X-APPLE-RADIUS=500;X-TITLE=Silverstone:geo:-1.0228666,52.0746186
END:VEVENT
BEGIN:VEVENT
DTSTART;VALUE=DATE:20220709
DTEND;VALUE=DATE:20220710
DTSTAMP:20260425T235300
CREATED:20220111T171041Z
LAST-MODIFIED:20220111T171811Z
UID:10003577-1657324800-1657411199@themotoringdiary.com
SUMMARY:GT Cup Championship
DESCRIPTION:GT Cup Championship Rounds 13 & 14 – Oulton Park International
URL:http://themotoringdiary.com/event/gt-cup-championship-4/
LOCATION:Oulton Park\, Little Budworth\, Tarporley\, Cheshire\, CW6 9BW\, United Kingdom
CATEGORIES:2022,Bute Motorsport,Club Motorsport,GT Cup,Motorsport
ATTACH;FMTTYPE=image/jpeg:http://themotoringdiary.com/wp-content/uploads/2022/01/GTCUP-CE-4883-scaled.jpg
ORGANIZER;CN="Bute Motorsport":MAILTO:hannah@butemotorsport.com
GEO:53.1785643;-2.6153266
X-APPLE-STRUCTURED-LOCATION;VALUE=URI;X-ADDRESS=Oulton Park Little Budworth Tarporley Cheshire CW6 9BW United Kingdom;X-APPLE-RADIUS=500;X-TITLE=Little Budworth:geo:-2.6153266,53.1785643
END:VEVENT
BEGIN:VEVENT
DTSTART;VALUE=DATE:20220611
DTEND;VALUE=DATE:20220613
DTSTAMP:20260425T235300
CREATED:20220111T171008Z
LAST-MODIFIED:20220111T171754Z
UID:10003575-1654905600-1655078399@themotoringdiary.com
SUMMARY:GT Cup Championship
DESCRIPTION:GT Cup Championship Rounds 9\, 10\, 11 & 12 – Snetterton 300
URL:http://themotoringdiary.com/event/gt-cup-championship-3/
LOCATION:Snetterton\, Norwich\, Norfolk\, NR16 2JU\, United Kingdom
CATEGORIES:2022,Bute Motorsport,Club Motorsport,GT Cup,Motorsport
ATTACH;FMTTYPE=image/jpeg:http://themotoringdiary.com/wp-content/uploads/2022/01/GTCUP-EB-112-1-scaled.jpg
ORGANIZER;CN="Bute Motorsport":MAILTO:hannah@butemotorsport.com
GEO:52.4710039;0.9586157
END:VEVENT
BEGIN:VEVENT
DTSTART;VALUE=DATE:20220430
DTEND;VALUE=DATE:20220502
DTSTAMP:20260425T235300
CREATED:20220111T170916Z
LAST-MODIFIED:20220111T171743Z
UID:10003573-1651276800-1651449599@themotoringdiary.com
SUMMARY:GT Cup Championship
DESCRIPTION:GT Cup Championship Rounds 5\, 6\, 7 & 8 – Brands Hatch GP supporting GT World Challenge Europe
URL:http://themotoringdiary.com/event/gt-cup-championship-2/
LOCATION:Brands Hatch\, West Kingsdown\, Longfield\, Kent\, DA3 8PU\, United Kingdom
CATEGORIES:2022,Bute Motorsport,Club Motorsport,GT Cup,Motorsport
ATTACH;FMTTYPE=image/jpeg:http://themotoringdiary.com/wp-content/uploads/2022/01/IC-6270-scaled.jpg
ORGANIZER;CN="Bute Motorsport":MAILTO:hannah@butemotorsport.com
GEO:51.3611377;0.264664
X-APPLE-STRUCTURED-LOCATION;VALUE=URI;X-ADDRESS=Brands Hatch West Kingsdown Longfield Kent DA3 8PU United Kingdom;X-APPLE-RADIUS=500;X-TITLE=West Kingsdown:geo:0.264664,51.3611377
END:VEVENT
BEGIN:VEVENT
DTSTART;VALUE=DATE:20220409
DTEND;VALUE=DATE:20220411
DTSTAMP:20260425T235300
CREATED:20220111T140912Z
LAST-MODIFIED:20220111T171702Z
UID:10003571-1649462400-1649635199@themotoringdiary.com
SUMMARY:GT Cup Championship
DESCRIPTION:GT Cup Championship Rounds 1\, 2\, 3 & 4 – Donington Park National
URL:http://themotoringdiary.com/event/gt-cup-championship/
LOCATION:Norfolk
CATEGORIES:2022,Bute Motorsport,Club Motorsport,GT Cup,Motorsport
ATTACH;FMTTYPE=image/jpeg:http://themotoringdiary.com/wp-content/uploads/2022/01/GTCUP-EB-23.jpg
ORGANIZER;CN="Bute Motorsport":MAILTO:hannah@butemotorsport.com
END:VEVENT
END:VCALENDAR