BEGIN:VCALENDAR
VERSION:2.0
PRODID:-//The Motoring Diary - ECPv6.15.20//NONSGML v1.0//EN
CALSCALE:GREGORIAN
METHOD:PUBLISH
X-WR-CALNAME:The Motoring Diary
X-ORIGINAL-URL:http://themotoringdiary.com
X-WR-CALDESC:Events for The Motoring Diary
REFRESH-INTERVAL;VALUE=DURATION:PT1H
X-Robots-Tag:noindex
X-PUBLISHED-TTL:PT1H
BEGIN:VTIMEZONE
TZID:Europe/London
BEGIN:DAYLIGHT
TZOFFSETFROM:+0000
TZOFFSETTO:+0100
TZNAME:BST
DTSTART:20210328T010000
END:DAYLIGHT
BEGIN:STANDARD
TZOFFSETFROM:+0100
TZOFFSETTO:+0000
TZNAME:GMT
DTSTART:20211031T010000
END:STANDARD
BEGIN:DAYLIGHT
TZOFFSETFROM:+0000
TZOFFSETTO:+0100
TZNAME:BST
DTSTART:20220327T010000
END:DAYLIGHT
BEGIN:STANDARD
TZOFFSETFROM:+0100
TZOFFSETTO:+0000
TZNAME:GMT
DTSTART:20221030T010000
END:STANDARD
BEGIN:DAYLIGHT
TZOFFSETFROM:+0000
TZOFFSETTO:+0100
TZNAME:BST
DTSTART:20230326T010000
END:DAYLIGHT
BEGIN:STANDARD
TZOFFSETFROM:+0100
TZOFFSETTO:+0000
TZNAME:GMT
DTSTART:20231029T010000
END:STANDARD
END:VTIMEZONE
BEGIN:VEVENT
DTSTART;VALUE=DATE:20220206
DTEND;VALUE=DATE:20220211
DTSTAMP:20260425T221029
CREATED:20211223T170436Z
LAST-MODIFIED:20220112T200801Z
UID:36814-1644105600-1644537599@themotoringdiary.com
SUMMARY:Winter Challenge
DESCRIPTION:Standing firm with new tradition\, the 22nd Winter Challenge to Monte-Carlo will be held entirely on French roads to offer crews maximum time in the wintery conditions craved by competitors brave enough to challenge themselves and their motorcar on this red status event. The Winter Challenge plays on the charm and rustic authenticity of its innovative values which helps to keep the original winter classic rally quite unique.\nThe Northern Eastern City of Troyes will play host to the start of the adventure where competitors will be welcomed to the Spa Hotel in the heart of the Foret D’Orient. With Scrutineering and Documentation taking place on Saturday afternoon\, competitors can make a leisurely trip to the start and have a relaxing evening in the quiet natural surroundings before the challenge begins. \nOnce again\, we welcome beginners\, enthusiasts and experts alike to this challenging event\, but we guarantee you will be rewarded by the time you reach the finishing line.
URL:http://themotoringdiary.com/event/winter-challenge/
LOCATION:France\, Bastia\, Frankreich\, France
CATEGORIES:2022,Classic Rallying,Endurance Rally Association,HERO,Motorsport
ATTACH;FMTTYPE=image/png:http://themotoringdiary.com/wp-content/uploads/2022/01/HERO-Winter-Challenge.png
ORGANIZER;CN="HERO Events":MAILTO:enquiries@heroevents.eu
GEO:42.697283;9.450881
END:VEVENT
END:VCALENDAR