BEGIN:VCALENDAR
VERSION:2.0
PRODID:-//The Motoring Diary - ECPv6.15.20//NONSGML v1.0//EN
CALSCALE:GREGORIAN
METHOD:PUBLISH
X-WR-CALNAME:The Motoring Diary
X-ORIGINAL-URL:http://themotoringdiary.com
X-WR-CALDESC:Events for The Motoring Diary
REFRESH-INTERVAL;VALUE=DURATION:PT1H
X-Robots-Tag:noindex
X-PUBLISHED-TTL:PT1H
BEGIN:VTIMEZONE
TZID:Europe/London
BEGIN:DAYLIGHT
TZOFFSETFROM:+0000
TZOFFSETTO:+0100
TZNAME:BST
DTSTART:20210328T010000
END:DAYLIGHT
BEGIN:STANDARD
TZOFFSETFROM:+0100
TZOFFSETTO:+0000
TZNAME:GMT
DTSTART:20211031T010000
END:STANDARD
BEGIN:DAYLIGHT
TZOFFSETFROM:+0000
TZOFFSETTO:+0100
TZNAME:BST
DTSTART:20220327T010000
END:DAYLIGHT
BEGIN:STANDARD
TZOFFSETFROM:+0100
TZOFFSETTO:+0000
TZNAME:GMT
DTSTART:20221030T010000
END:STANDARD
BEGIN:DAYLIGHT
TZOFFSETFROM:+0000
TZOFFSETTO:+0100
TZNAME:BST
DTSTART:20230326T010000
END:DAYLIGHT
BEGIN:STANDARD
TZOFFSETFROM:+0100
TZOFFSETTO:+0000
TZNAME:GMT
DTSTART:20231029T010000
END:STANDARD
END:VTIMEZONE
BEGIN:VEVENT
DTSTART;VALUE=DATE:20221008
DTEND;VALUE=DATE:20221009
DTSTAMP:20260422T182015
CREATED:20211223T180944Z
LAST-MODIFIED:20211223T180944Z
UID:36879-1665187200-1665273599@themotoringdiary.com
SUMMARY:Welsh Trial
DESCRIPTION:First held in 1939\, the Welsh Trial is one of the linchpins of the VSCC sporting season\, with competitors once again returning to the town of Presteigne which always welcomes the club so warmly. \nOpen exclusively to Vintage cars\, competitors will experience the thrill of competing on classic trials sections such as Smatcher\, and eventually navigate their way to the welcome sight of the Cwm Whitton farm complex\, where the Sunday afternoon sections are based.
URL:http://themotoringdiary.com/event/welsh-trial/
CATEGORIES:2022,Motorsport,The Vintage Sports-Car Club,Trials,Vintage,VSCC
ATTACH;FMTTYPE=image/png:http://themotoringdiary.com/wp-content/uploads/2021/12/VSCC-1-P5UhyY.tmp_.png
ORGANIZER;CN="The Vintage Sports-Car Club":MAILTO:info@vscc.co.uk
END:VEVENT
END:VCALENDAR