BEGIN:VCALENDAR
VERSION:2.0
PRODID:-//The Motoring Diary - ECPv6.15.20//NONSGML v1.0//EN
CALSCALE:GREGORIAN
METHOD:PUBLISH
X-WR-CALNAME:The Motoring Diary
X-ORIGINAL-URL:http://themotoringdiary.com
X-WR-CALDESC:Events for The Motoring Diary
REFRESH-INTERVAL;VALUE=DURATION:PT1H
X-Robots-Tag:noindex
X-PUBLISHED-TTL:PT1H
BEGIN:VTIMEZONE
TZID:Europe/London
BEGIN:DAYLIGHT
TZOFFSETFROM:+0000
TZOFFSETTO:+0100
TZNAME:BST
DTSTART:20210328T010000
END:DAYLIGHT
BEGIN:STANDARD
TZOFFSETFROM:+0100
TZOFFSETTO:+0000
TZNAME:GMT
DTSTART:20211031T010000
END:STANDARD
BEGIN:DAYLIGHT
TZOFFSETFROM:+0000
TZOFFSETTO:+0100
TZNAME:BST
DTSTART:20220327T010000
END:DAYLIGHT
BEGIN:STANDARD
TZOFFSETFROM:+0100
TZOFFSETTO:+0000
TZNAME:GMT
DTSTART:20221030T010000
END:STANDARD
BEGIN:DAYLIGHT
TZOFFSETFROM:+0000
TZOFFSETTO:+0100
TZNAME:BST
DTSTART:20230326T010000
END:DAYLIGHT
BEGIN:STANDARD
TZOFFSETFROM:+0100
TZOFFSETTO:+0000
TZNAME:GMT
DTSTART:20231029T010000
END:STANDARD
END:VTIMEZONE
BEGIN:VEVENT
DTSTART;TZID=Europe/London:20220101T093000
DTEND;TZID=Europe/London:20220101T140000
DTSTAMP:20260422T132855
CREATED:20211223T170307Z
LAST-MODIFIED:20211224T084247Z
UID:36786-1641029400-1641045600@themotoringdiary.com
SUMMARY:Vintage Stony
DESCRIPTION:The jewel in the crown of Milton Keynes and home of Vintage Stony. We can’t lay claim to putting Stony Stratford on the map – the Romans did that for us\, but we do run two pretty special and popular car and motorcycle festivals in Stony\, that have been growing steadily in size and stature for the past 10 years.\nOur New Year’s Day event showcases pre-1940 cars and bikes\, which have pride of place in the Market Square. Expect to ‘see’ a great deal of Vintage cars and bikes and even a few commercials\, expect to ‘hear’ a cacophony of engines as we celebrate the New Year with ‘one minutes noise’ at midday\, followed at 12.30\, by our unmissable awards presentation\, expect to ‘eat and drink’ at one of the many pubs and restaurants and stalls that open up especially to welcome you. Oh\, and you can expect a free bacon butty if you are one of the first of the vintage pilots to arrive. \nIts free for entrants and spectators but we do collect donations for Willen Hospice. We are informed that they need to raise an astonishing 4.7 million a year to make it all happen\, so please give generously – every little helps and any donation no matter how small will be gratefully received. \nWe look forward to seeing you here.
URL:http://themotoringdiary.com/event/vintage-stony/
LOCATION:Stony Stratford\, Market Square\, Stony Stratford\, MK11 1BE
CATEGORIES:2022,Social Meets
ATTACH;FMTTYPE=image/png:http://themotoringdiary.com/wp-content/uploads/2021/11/Vintage-Stoney.png
GEO:52.0559786;-0.854224
X-APPLE-STRUCTURED-LOCATION;VALUE=URI;X-ADDRESS=Stony Stratford Market Square Stony Stratford MK11 1BE;X-APPLE-RADIUS=500;X-TITLE=Market Square:geo:-0.854224,52.0559786
END:VEVENT
END:VCALENDAR