BEGIN:VCALENDAR
VERSION:2.0
PRODID:-//The Motoring Diary - ECPv6.15.20//NONSGML v1.0//EN
CALSCALE:GREGORIAN
METHOD:PUBLISH
X-WR-CALNAME:The Motoring Diary
X-ORIGINAL-URL:http://themotoringdiary.com
X-WR-CALDESC:Events for The Motoring Diary
REFRESH-INTERVAL;VALUE=DURATION:PT1H
X-Robots-Tag:noindex
X-PUBLISHED-TTL:PT1H
BEGIN:VTIMEZONE
TZID:Europe/London
BEGIN:DAYLIGHT
TZOFFSETFROM:+0000
TZOFFSETTO:+0100
TZNAME:BST
DTSTART:20210328T010000
END:DAYLIGHT
BEGIN:STANDARD
TZOFFSETFROM:+0100
TZOFFSETTO:+0000
TZNAME:GMT
DTSTART:20211031T010000
END:STANDARD
BEGIN:DAYLIGHT
TZOFFSETFROM:+0000
TZOFFSETTO:+0100
TZNAME:BST
DTSTART:20220327T010000
END:DAYLIGHT
BEGIN:STANDARD
TZOFFSETFROM:+0100
TZOFFSETTO:+0000
TZNAME:GMT
DTSTART:20221030T010000
END:STANDARD
BEGIN:DAYLIGHT
TZOFFSETFROM:+0000
TZOFFSETTO:+0100
TZNAME:BST
DTSTART:20230326T010000
END:DAYLIGHT
BEGIN:STANDARD
TZOFFSETFROM:+0100
TZOFFSETTO:+0000
TZNAME:GMT
DTSTART:20231029T010000
END:STANDARD
END:VTIMEZONE
BEGIN:VEVENT
DTSTART;TZID=Europe/London:20220116T090000
DTEND;TZID=Europe/London:20220116T140000
DTSTAMP:20260421T154913
CREATED:20211223T170322Z
LAST-MODIFIED:20211224T084303Z
UID:36794-1642323600-1642341600@themotoringdiary.com
SUMMARY:Sunday Scramble
DESCRIPTION:Sunday Scramble is an event of national repute\, attracting enthusiasts from across the UK and Europe\, offering the opportunity to explore the former RAF Bicester base\, the restored wartime buildings and the specialists businesses based here.
URL:http://themotoringdiary.com/event/sunday-scramble/
LOCATION:Bicester Heritage\, Buckingham Road\, Bicester\, Oxfordshire\, OX27 8AL\, United Kingdom
CATEGORIES:2022,Bicester Heritage,Social Meets
ATTACH;FMTTYPE=image/jpeg:http://themotoringdiary.com/wp-content/uploads/2021/11/Scramble-October2021-505.jpg
GEO:51.9082405;-1.1495523
X-APPLE-STRUCTURED-LOCATION;VALUE=URI;X-ADDRESS=Bicester Heritage Buckingham Road Bicester Oxfordshire OX27 8AL United Kingdom;X-APPLE-RADIUS=500;X-TITLE=Buckingham Road:geo:-1.1495523,51.9082405
END:VEVENT
END:VCALENDAR