BEGIN:VCALENDAR
VERSION:2.0
PRODID:-//The Motoring Diary - ECPv6.15.20//NONSGML v1.0//EN
CALSCALE:GREGORIAN
METHOD:PUBLISH
X-WR-CALNAME:The Motoring Diary
X-ORIGINAL-URL:http://themotoringdiary.com
X-WR-CALDESC:Events for The Motoring Diary
REFRESH-INTERVAL;VALUE=DURATION:PT1H
X-Robots-Tag:noindex
X-PUBLISHED-TTL:PT1H
BEGIN:VTIMEZONE
TZID:Europe/London
BEGIN:DAYLIGHT
TZOFFSETFROM:+0000
TZOFFSETTO:+0100
TZNAME:BST
DTSTART:20210328T010000
END:DAYLIGHT
BEGIN:STANDARD
TZOFFSETFROM:+0100
TZOFFSETTO:+0000
TZNAME:GMT
DTSTART:20211031T010000
END:STANDARD
BEGIN:DAYLIGHT
TZOFFSETFROM:+0000
TZOFFSETTO:+0100
TZNAME:BST
DTSTART:20220327T010000
END:DAYLIGHT
BEGIN:STANDARD
TZOFFSETFROM:+0100
TZOFFSETTO:+0000
TZNAME:GMT
DTSTART:20221030T010000
END:STANDARD
BEGIN:DAYLIGHT
TZOFFSETFROM:+0000
TZOFFSETTO:+0100
TZNAME:BST
DTSTART:20230326T010000
END:DAYLIGHT
BEGIN:STANDARD
TZOFFSETFROM:+0100
TZOFFSETTO:+0000
TZNAME:GMT
DTSTART:20231029T010000
END:STANDARD
END:VTIMEZONE
BEGIN:VEVENT
DTSTART;VALUE=DATE:20220522
DTEND;VALUE=DATE:20220523
DTSTAMP:20260420T093613
CREATED:20211223T173549Z
LAST-MODIFIED:20211223T173549Z
UID:36859-1653177600-1653263999@themotoringdiary.com
SUMMARY:Suffolk Tour
DESCRIPTION:The popular Suffolk Tour is once again a fixture of the VSCC season. The Tour will start with breakfast rolls and end with tea and cakes with a picnic lunch at midday. During the Tour there will be opportunities to stop and explore further as your interest decrees.Early entry for this popular Tour is strongly recommended.
URL:http://themotoringdiary.com/event/suffolk-tour/
CATEGORIES:2022,Motorsport,The Vintage Sports-Car Club,tour,Vintage,VSCC
ATTACH;FMTTYPE=image/png:http://themotoringdiary.com/wp-content/uploads/2021/12/VSCC-1-P5UhyY.tmp_.png
ORGANIZER;CN="The Vintage Sports-Car Club":MAILTO:info@vscc.co.uk
END:VEVENT
END:VCALENDAR